Workbook

Sheet Size and weight of LO fragments
A1: Tank A | L1: Tank B | W1: Tank C
A2: Fragment No. | B2: Length (mm) | C2: Width (mm) | G2: Depth | H2: Weight (g) | I2: NA | J2: VOD | L2: Fragment No. | M2: Length (mm) | N2: Width (mm) | S2: Weight (g) | T2: NA | U2: VOD | W2: Fragment No. | X2: Length (mm) | Y2: Width (mm) | AD2: Weight (g) | AE2: NA | AF2: Velocity of Detonation
A3: 1 | B3: 133 | C3: 104 | D3: 2.5 | E3: 3.03 | F3: 2.82 | G3: =AVERAGE(D3:F3) -> 2.7833333 | H3: 288.06 | I3: =(H3/115+1/2)^-1/2 -> 0.16639657 | J3: =2700*I3 -> 449.27075 | L3: 1 | M3: 142 | N3: 47 | O3: 3.76 | P3: 3.15 | Q3: 3.81 | R3: =AVERAGE(O3:Q3) -> 3.5733333 | S3: 270.07 | T3: =(S3/115+1/2)^-1/2 -> 0.175535 | U3: =2700*T3 -> 473.9445 | W3: 1 | X3: 150 | Y3: 34 | Z3: 3.72 | AA3: 3.84 | AB3: 3.81 | AC3: =AVERAGE(Z3:AB3) -> 3.79 | AD3: 392.6 | AE3: =(AD3/115+1/2)^-1/2 -> 0.12774939 | AF3: =2700*AE3 -> 344.92335
A4: 2 | B4: 43 | C4: 36 | D4: 5.13 | E4: 3.89 | F4: 6.15 | G4: =AVERAGE(D4:F4) -> 5.0566667 | H4: 67.95 | I4: =(H4/115+1/2)^-1/2 -> 0.45834994 | J4: =2700*I4 -> 1237.5448 | L4: 2 | M4: 75 | N4: 40 | O4: 3.25 | P4: 3.72 | Q4: 3.14 | R4: =AVERAGE(O4:Q4) -> 3.37 | S4: 85.46 | T4: =(S4/115+1/2)^-1/2 -> 0.40221041 | U4: =2700*T4 -> 1085.9681 | W4: 2 | X4: 43 | Y4: 25 | Z4: 6.58 | AA4: 6.63 | AB4: 5.78 | AC4: =AVERAGE(Z4:AB4) -> 6.33 | AD4: 49.11 | AE4: =(AD4/115+1/2)^-1/2 -> 0.53934903 | AF4: =2700*AE4 -> 1456.2424
A5: 3 | B5: 35 | C5: 24 | D5: 4.89 | E5: 5.37 | F5: 5.59 | G5: =AVERAGE(D5:F5) -> 5.2833333 | H5: 26.24 | I5: =(H5/115+1/2)^-1/2 -> 0.68664915 | J5: =2700*I5 -> 1853.9527 | L5: 3 | M5: 71 | N5: 24 | O5: 3.58 | P5: 4.39 | Q5: 4.77 | R5: =AVERAGE(O5:Q5) -> 4.2466667 | S5: 34.54 | T5: =(S5/115+1/2)^-1/2 -> 0.62472838 | U5: =2700*T5 -> 1686.7666 | W5: 3 | X5: 36 | Y5: 26 | Z5: 6.38 | AA5: 6.02 | AB5: 4.26 | AC5: =AVERAGE(Z5:AB5) -> 5.5533333 | AD5: 32.13 | AE5: =(AD5/115+1/2)^-1/2 -> 0.64152627 | AF5: =2700*AE5 -> 1732.1209
A6: 4 | B6: 25 | C6: 21 | D6: 6.46 | E6: 5.55 | F6: 5.17 | G6: =AVERAGE(D6:F6) -> 5.7266667 | H6: 16.32 | I6: =(H6/115+1/2)^-1/2 -> 0.7789217 | J6: =2700*I6 -> 2103.0886 | K6: =AVERAGE(H4:H9,S4:S8) -> 30.55 | L6: 4 | M6: 35 | N6: 26 | O6: 5.47 | P6: 5.92 | Q6: 6.11 | R6: =AVERAGE(O6:Q6) -> 5.8333333 | S6: 25.35 | T6: =(S6/115+1/2)^-1/2 -> 0.69402535 | U6: =2700*T6 -> 1873.8684 | W6: 4 | X6: 35 | Y6: 25 | Z6: 5.17 | AA6: 6.38 | AB6: 5.72 | AC6: =AVERAGE(Z6:AB6) -> 5.7566667 | AD6: 31.19 | AE6: =(AD6/115+1/2)^-1/2 -> 0.64832563 | AF6: =2700*AE6 -> 1750.4792
A7: 5 | B7: 25 | C7: 21 | D7: 6.85 | E7: 6.05 | F7: 6.21 | G7: =AVERAGE(D7:F7) -> 6.37 | H7: 15.82 | I7: =(H7/115+1/2)^-1/2 -> 0.7842335 | J7: =2700*I7 -> 2117.4304 | K7: =_xlfn.STDEV.S(H4:H9,S4:S8) -> 23.984579 | L7: 5 | M7: 43 | N7: 11 | O7: 5.58 | P7: 4.38 | Q7: 6.26 | R7: =AVERAGE(O7:Q7) -> 5.4066667 | S7: 20.01 | T7: =(S7/115+1/2)^-1/2 -> 0.74183976 | U7: =2700*T7 -> 2002.9674 | W7: 5 | X7: 35 | Y7: 25 | Z7: 6.01 | AA7: 5.76 | AB7: 4.82 | AC7: =AVERAGE(Z7:AB7) -> 5.53 | AD7: 30.88 | AE7: =(AD7/115+1/2)^-1/2 -> 0.65059968 | AF7: =2700*AE7 -> 1756.6191
A8: 6 | B8: 25 | C8: 19 | D8: 6.9 | E8: 6.27 | F8: 6.66 | G8: =AVERAGE(D8:F8) -> 6.61 | H8: 15.47 | I8: =(H8/115+1/2)^-1/2 -> 0.78799507 | J8: =2700*I8 -> 2127.5867 | L8: 6 | M8: 38 | N8: 11 | O8: 4.95 | P8: 6.57 | Q8: 5.23 | R8: =AVERAGE(O8:Q8) -> 5.5833333 | S8: 13.95 | T8: =(S8/115+1/2)^-1/2 -> 0.80475857 | U8: =2700*T8 -> 2172.8481 | W8: 6 | X8: 25 | Y8: 20 | Z8: 6.31 | AA8: 5.61 | AB8: 5.12 | AC8: =AVERAGE(Z8:AB8) -> 5.68 | AD8: 15.2 | AE8: =(AD8/115+1/2)^-1/2 -> 0.7909216 | AF8: =2700*AE8 -> 2135.4883
A9: 7 | B9: 25 | C9: 22 | D9: 6.1 | E9: 4.47 | F9: 5.8 | G9: =AVERAGE(D9:F9) -> 5.4566667 | H9: 14.94 | I9: =(H9/115+1/2)^-1/2 -> 0.79376035 | J9: =2700*I9 -> 2143.153 | L9: 7 | M9: 25 | N9: 15 | O9: 4.36 | P9: 4.88 | R9: =AVERAGE(O9:P9) -> 4.62 | S9: 9.72 | T9: =(S9/115+1/2)^-1/2 -> 0.85540018 | U9: =2700*T9 -> 2309.5805 | W9: 7 | X9: 20 | Y9: 15 | Z9: 5.52 | AC9: =AVERAGE(Z$9:Z$13) -> 4.85 | AD9: 4.89 | AE9: =(AD9/115+1/2)^-1/2 -> 0.92162205 | AF9: =2700*AE9 -> 2488.3795
A10: 8 | B10: 25 | C10: 20 | D10: 3.68 | G10: =AVERAGE(D$10:D$11) -> 3.495 | H10: 8.95 | I10: =(H10/115+1/2)^-1/2 -> 0.86531226 | J10: =2700*I10 -> 2336.3431 | L10: 8 | M10: 24 | N10: 12 | O10: 4.83 | R10: =AVERAGE(O$10:O$13) -> 4.8825 | S10: 9.22 | T10: =(S10/115+1/2)^-1/2 -> 0.86181055 | U10: =2700*T10 -> 2326.8885 | W10: 8 | X10: 22 | Y10: 9 | Z10: 8.77 | AC10: =AVERAGE(Z$9:Z$13) -> 4.85 | AD10: 3.49 | AE10: =(AD10/115+1/2)^-1/2 -> 0.9427775 | AF10: =2700*AE10 -> 2545.4993
A11: 9 | B11: 21 | C11: 10 | D11: 3.31 | G11: =AVERAGE(D$10:D$11) -> 3.495 | H11: 2.98 | I11: =(H11/115+1/2)^-1/2 -> 0.95072751 | J11: =2700*I11 -> 2566.9643 | L11: 9 | M11: 22 | N11: 14 | O11: 4.25 | R11: =AVERAGE(O$10:O$13) -> 4.8825 | S11: 8.1 | T11: =(S11/115+1/2)^-1/2 -> 0.87652439 | U11: =2700*T11 -> 2366.6159 | W11: 9 | X11: 15 | Y11: 10 | Z11: 3.59 | AC11: =AVERAGE(Z$9:Z$13) -> 4.85 | AD11: 2.67 | AE11: =(AD11/115+1/2)^-1/2 -> 0.95562573 | AF11: =2700*AE11 -> 2580.1895
A12: 10 | B12: 12 | C12: 10 | G12: =AVERAGE(D$10:D$11) -> 3.495 | H12: 2.76 | I12: =(H12/115+1/2)^-1/2 -> 0.95419847 | J12: =2700*I12 -> 2576.3359 | L12: 10 | M12: 24 | N12: 15 | O12: 6.77 | R12: =AVERAGE(O$10:O$13) -> 4.8825 | S12: 6.6 | T12: =(S12/115+1/2)^-1/2 -> 0.89703588 | U12: =2700*T12 -> 2421.9969 | W12: 10 | X12: 12 | Y12: 7 | Z12: 3.06 | AC12: =AVERAGE(Z$9:Z$13) -> 4.85 | AD12: 1.74 | AE12: =(AD12/115+1/2)^-1/2 -> 0.97062795 | AF12: =2700*AE12 -> 2620.6955
A13: 11 | B13: 12 | C13: 10 | G13: =AVERAGE(D$10:D$11) -> 3.495 | H13: 2.76 | I13: =(H13/115+1/2)^-1/2 -> 0.95419847 | J13: =2700*I13 -> 2576.3359 | L13: 11 | M13: 24 | N13: 15 | O13: 3.68 | R13: =AVERAGE(O$10:O$13) -> 4.8825 | S13: 6.6 | T13: =(S13/115+1/2)^-1/2 -> 0.89703588 | U13: =2700*T13 -> 2421.9969 | W13: 11 | X13: 14 | Y13: 5 | Z13: 3.31 | AC13: =AVERAGE(Z$9:Z$13) -> 4.85 | AD13: 1.38 | AE13: =(AD13/115+1/2)^-1/2 -> 0.9765625 | AF13: =2700*AE13 -> 2636.7188
A14: 12 | B14: 12 | C14: 10 | G14: =AVERAGE(D$10:D$11) -> 3.495 | H14: 2.76 | I14: =(H14/115+1/2)^-1/2 -> 0.95419847 | J14: =2700*I14 -> 2576.3359 | L14: 12 | M14: 24 | N14: 15 | R14: =AVERAGE(O$10:O$13) -> 4.8825 | S14: 6.6 | T14: =(S14/115+1/2)^-1/2 -> 0.89703588 | U14: =2700*T14 -> 2421.9969
A15: 13 | B15: 11 | C15: 4 | G15: =AVERAGE(D$10:D$11) -> 3.495 | H15: 0.5 | I15: =(H15/115+1/2)^-1/2 -> 0.99137931 | J15: =2700*I15 -> 2676.7241 | L15: 13 | M15: 24 | N15: 15 | R15: =AVERAGE(O$10:O$13) -> 4.8825 | S15: 6.6 | T15: =(S15/115+1/2)^-1/2 -> 0.89703588 | U15: =2700*T15 -> 2421.9969 | W15: AVG | X15: =AVERAGE(X3:X13) -> 37 | Y15: =AVERAGE(Y3:Y13) -> 18.272727 | AD15: =AVERAGE(AD3:AD13) -> 51.389091 | AF15: =AVERAGE(AF3:AF13) -> 2004.3051
A16: 14 | B16: 11 | C16: 4 | G16: =AVERAGE(D$10:D$11) -> 3.495 | H16: 0.5 | I16: =(H16/115+1/2)^-1/2 -> 0.99137931 | J16: =2700*I16 -> 2676.7241 | L16: 14 | M16: 24 | N16: 15 | R16: =AVERAGE(O$10:O$13) -> 4.8825 | S16: 6.6 | T16: =(S16/115+1/2)^-1/2 -> 0.89703588 | U16: =2700*T16 -> 2421.9969
A17: 15 | B17: 11 | C17: 4 | G17: =AVERAGE(D$10:D$11) -> 3.495 | H17: 0.5 | I17: =(H17/115+1/2)^-1/2 -> 0.99137931 | J17: =2700*I17 -> 2676.7241 | L17: 15 | M17: 14 | N17: 13 | R17: =AVERAGE(O$10:O$13) -> 4.8825 | S17: 4.69 | T17: =(S17/115+1/2)^-1/2 -> 0.92458595 | U17: =2700*T17 -> 2496.3821 | X17: =_xlfn.STDEV.P(H3:H28,S3:S38,AD3:AD13) -> 63.901269
A18: 16 | B18: 11 | C18: 4 | G18: =AVERAGE(D$10:D$11) -> 3.495 | H18: 0.5 | I18: =(H18/115+1/2)^-1/2 -> 0.99137931 | J18: =2700*I18 -> 2676.7241 | L18: 16 | M18: 14 | N18: 13 | R18: =AVERAGE(O$10:O$13) -> 4.8825 | S18: 4.69 | T18: =(S18/115+1/2)^-1/2 -> 0.92458595 | U18: =2700*T18 -> 2496.3821
A19: 17 | B19: 11 | C19: 4 | G19: =AVERAGE(D$10:D$11) -> 3.495 | H19: 0.5 | I19: =(H19/115+1/2)^-1/2 -> 0.99137931 | J19: =2700*I19 -> 2676.7241 | L19: 17 | M19: 14 | N19: 13 | R19: =AVERAGE(O$10:O$13) -> 4.8825 | S19: 4.69 | T19: =(S19/115+1/2)^-1/2 -> 0.92458595 | U19: =2700*T19 -> 2496.3821 | X19: =AVERAGE(H3:H28,S3:S38,AD3:AD13) -> 21.681507
A20: 18 | B20: 11 | C20: 4 | G20: =AVERAGE(D$10:D$11) -> 3.495 | H20: 0.5 | I20: =(H20/115+1/2)^-1/2 -> 0.99137931 | J20: =2700*I20 -> 2676.7241 | L20: 18 | M20: 14 | N20: 13 | R20: =AVERAGE(O$10:O$13) -> 4.8825 | S20: 4.69 | T20: =(S20/115+1/2)^-1/2 -> 0.92458595 | U20: =2700*T20 -> 2496.3821
A21: 19 | B21: 11 | C21: 4 | G21: =AVERAGE(D$10:D$11) -> 3.495 | H21: 0.5 | I21: =(H21/115+1/2)^-1/2 -> 0.99137931 | J21: =2700*I21 -> 2676.7241 | L21: 19 | M21: 13 | N21: 5 | R21: =AVERAGE(O$10:O$13) -> 4.8825 | S21: 0.96 | T21: =(S21/115+1/2)^-1/2 -> 0.98357852 | U21: =2700*T21 -> 2655.662
A22: 20 | B22: 11 | C22: 4 | G22: =AVERAGE(D$10:D$11) -> 3.495 | H22: 0.5 | I22: =(H22/115+1/2)^-1/2 -> 0.99137931 | J22: =2700*I22 -> 2676.7241 | L22: 20 | M22: 13 | N22: 5 | R22: =AVERAGE(O$10:O$13) -> 4.8825 | S22: 0.96 | T22: =(S22/115+1/2)^-1/2 -> 0.98357852 | U22: =2700*T22 -> 2655.662
A23: 21 | B23: 11 | C23: 4 | G23: =AVERAGE(D$10:D$11) -> 3.495 | H23: 0.5 | I23: =(H23/115+1/2)^-1/2 -> 0.99137931 | J23: =2700*I23 -> 2676.7241 | L23: 21 | M23: 13 | N23: 5 | R23: =AVERAGE(O$10:O$13) -> 4.8825 | S23: 0.96 | T23: =(S23/115+1/2)^-1/2 -> 0.98357852 | U23: =2700*T23 -> 2655.662
A24: 22 | B24: 11 | C24: 4 | G24: =AVERAGE(D$10:D$11) -> 3.495 | H24: 0.5 | I24: =(H24/115+1/2)^-1/2 -> 0.99137931 | J24: =2700*I24 -> 2676.7241 | L24: 22 | M24: 13 | N24: 5 | R24: =AVERAGE(O$10:O$13) -> 4.8825 | S24: 0.96 | T24: =(S24/115+1/2)^-1/2 -> 0.98357852 | U24: =2700*T24 -> 2655.662
A25: 23 | B25: 11 | C25: 4 | G25: =AVERAGE(D$10:D$11) -> 3.495 | H25: 0.5 | I25: =(H25/115+1/2)^-1/2 -> 0.99137931 | J25: =2700*I25 -> 2676.7241 | L25: 23 | M25: 13 | N25: 5 | R25: =AVERAGE(O$10:O$13) -> 4.8825 | S25: 0.96 | T25: =(S25/115+1/2)^-1/2 -> 0.98357852 | U25: =2700*T25 -> 2655.662
A26: 24 | B26: 11 | C26: 4 | G26: =AVERAGE(D$10:D$11) -> 3.495 | H26: 0.5 | I26: =(H26/115+1/2)^-1/2 -> 0.99137931 | J26: =2700*I26 -> 2676.7241 | L26: 24 | M26: 13 | N26: 5 | R26: =AVERAGE(O$10:O$13) -> 4.8825 | S26: 0.96 | T26: =(S26/115+1/2)^-1/2 -> 0.98357852 | U26: =2700*T26 -> 2655.662
A27: 25 | B27: 11 | C27: 4 | G27: =AVERAGE(D$10:D$11) -> 3.495 | H27: 0.5 | I27: =(H27/115+1/2)^-1/2 -> 0.99137931 | J27: =2700*I27 -> 2676.7241 | L27: 25 | M27: 13 | N27: 5 | R27: =AVERAGE(O$10:O$13) -> 4.8825 | S27: 0.96 | T27: =(S27/115+1/2)^-1/2 -> 0.98357852 | U27: =2700*T27 -> 2655.662
A28: 26 | B28: 11 | C28: 4 | G28: =AVERAGE(D$10:D$11) -> 3.495 | H28: 0.5 | I28: =(H28/115+1/2)^-1/2 -> 0.99137931 | J28: =2700*I28 -> 2676.7241 | L28: 26 | M28: 13 | N28: 5 | R28: =AVERAGE(O$10:O$13) -> 4.8825 | S28: 0.96 | T28: =(S28/115+1/2)^-1/2 -> 0.98357852 | U28: =2700*T28 -> 2655.662
H29: =SUM(H15:H28) -> 7 | L29: 27 | M29: 13 | N29: 5 | R29: =AVERAGE(O$10:O$13) -> 4.8825 | S29: 0.96 | T29: =(S29/115+1/2)^-1/2 -> 0.98357852 | U29: =2700*T29 -> 2655.662
A30: AVG | B30: =AVERAGE(B3:B28) -> 21.038462 | C30: =AVERAGE(C3:C28) -> 13.961538 | H30: =AVERAGE(H3:H28) -> 18.154231 | J30: =AVERAGE(J3:J28) -> 2389.9415 | L30: 28 | M30: 13 | N30: 5 | R30: =AVERAGE(O$10:O$13) -> 4.8825 | S30: 0.96 | T30: =(S30/115+1/2)^-1/2 -> 0.98357852 | U30: =2700*T30 -> 2655.662
L31: 29 | M31: 13 | N31: 5 | R31: =AVERAGE(O$10:O$13) -> 4.8825 | S31: 0.96 | T31: =(S31/115+1/2)^-1/2 -> 0.98357852 | U31: =2700*T31 -> 2655.662
B32: =MEDIAN(B3:B28) -> 11 | C32: =MEDIAN(C3:C28) -> 4 | H32: =MEDIAN(H3:H28) -> 0.5 | L32: 30 | M32: 13 | N32: 5 | R32: =AVERAGE(O$10:O$13) -> 4.8825 | S32: 0.96 | T32: =(S32/115+1/2)^-1/2 -> 0.98357852 | U32: =2700*T32 -> 2655.662
L33: 31 | M33: 13 | N33: 5 | R33: =AVERAGE(O$10:O$13) -> 4.8825 | S33: 0.96 | T33: =(S33/115+1/2)^-1/2 -> 0.98357852 | U33: =2700*T33 -> 2655.662
L34: 32 | M34: 13 | N34: 5 | R34: =AVERAGE(O$10:O$13) -> 4.8825 | S34: 0.96 | T34: =(S34/115+1/2)^-1/2 -> 0.98357852 | U34: =2700*T34 -> 2655.662
L35: 33 | M35: 13 | N35: 5 | R35: =AVERAGE(O$10:O$13) -> 4.8825 | S35: 0.96 | T35: =(S35/115+1/2)^-1/2 -> 0.98357852 | U35: =2700*T35 -> 2655.662
L36: 34 | M36: 13 | N36: 5 | R36: =AVERAGE(O$10:O$13) -> 4.8825 | S36: 0.96 | T36: =(S36/115+1/2)^-1/2 -> 0.98357852 | U36: =2700*T36 -> 2655.662
L37: 35 | M37: 13 | N37: 5 | R37: =AVERAGE(O$10:O$13) -> 4.8825 | S37: 0.96 | T37: =(S37/115+1/2)^-1/2 -> 0.98357852 | U37: =2700*T37 -> 2655.662
L38: 36 | M38: 13 | N38: 5 | R38: =AVERAGE(O$10:O$13) -> 4.8825 | S38: 0.96 | T38: =(S38/115+1/2)^-1/2 -> 0.98357852 | U38: =2700*T38 -> 2655.662
L40: AVG | M40: =AVERAGE(M3:M38) -> 24.583333 | N40: =AVERAGE(N3:N38) -> 11.583333 | S40: =AVERAGE(S3:S38) -> 15.151667 | U40: =AVERAGE(U3:U38) -> 2394.3577
M41: =MEDIAN(M3:M38) -> 13.5 | N41: =MEDIAN(N3:N38) -> 8 | S41: =MEDIAN(S3:S38) -> 2.825

Sheet Size and weight of HO fragments
A1: Tank D | M1: Tank E | Y1: Tank F
A2: Fragment No. | B2: Length (mm) | C2: Width (mm) | D2: Height 1 | E2: Height 2 | F2: Height 3 | G2: Height (mm) | H2: Weight (g) | J2: VOD | K2: Weight (Kg) | M2: Fragment No. | N2: Length (mm) | O2: Width (mm) | P2: Height 1 | Q2: Height 2 | R2: Height 3 | S2: Height (mm) | T2: Weight (g) | V2: VOD | W2: Weight (Kg) | Y2: Fragment No. | Z2: Length (mm) | AA2: Width (mm) | AB2: Height 1 | AC2: Height 2 | AD2: Height 3 | AE2: Height (mm) | AF2: Weight (g) | AH2: VOD | AI2: =AVERAGE(H3:H65,T3:T49,AF3:AF61) -> 3.3414793 | AJ2: Weight (Kg)
A3: 1 | B3: 141 | C3: 18 | D3: 4.33 | E3: 4.96 | F3: 4.57 | G3: =AVERAGE(D3:F3) -> 4.62 | H3: 35.56 | I3: =(H3/115+1/2)^-1/2 -> 0.61788094 | J3: =2700*I3 -> 1668.2785 | K3: =H3/1000 -> 0.03556 | L3: =STDEV(J3:J8) -> 156.08021 | M3: 1 | N3: 140 | O3: 20 | P3: 2.38 | Q3: 3.33 | R3: 2.45 | S3: =AVERAGE(P3:R3) -> 2.72 | T3: 36.83 | U3: =(T3/115+1/2)^-1/2 -> 0.60956218 | V3: =2700*U3 -> 1645.8179 | W3: =T3/1000 -> 0.03683 | X3: =STDEV(V3:V6) -> 174.99151 | Y3: 1 | Z3: 140 | AA3: 22 | AB3: 2.11 | AC3: 2.84 | AD3: 2.44 | AE3: =AVERAGE(AB3:AD3) -> 2.4633333 | AF3: 34.97 | AG3: =(AF3/115+1/2)^-1/2 -> 0.62182329 | AH3: =2700*AG3 -> 1678.9229 | AI3: =_xlfn.STDEV.P(H3:H65,T3:T49,AF3:AF61) -> 7.5355008 | AJ3: =AF3/1000 -> 0.03497
A4: 2 | B4: 140 | C4: 16 | D4: 2.35 | E4: 2.39 | F4: 1.65 | G4: =AVERAGE(D4:F4) -> 2.13 | H4: 29.45 | I4: =(H4/115+1/2)^-1/2 -> 0.6612996 | J4: =2700*I4 -> 1785.5089 | K4: =H4/1000 -> 0.02945 | M4: 2 | N4: 140 | O4: 15 | P4: 2.48 | Q4: 2.44 | R4: 1.64 | S4: =AVERAGE(P4:R4) -> 2.1866667 | T4: 28.22 | U4: =(T4/115+1/2)^-1/2 -> 0.67078861 | V4: =2700*U4 -> 1811.1293 | W4: =T4/1000 -> 0.02822 | Y4: 2 | Z4: 138 | AA4: 15 | AB4: 2.51 | AC4: 2.52 | AD4: 2.29 | AE4: =AVERAGE(AB4:AD4) -> 2.44 | AF4: 34.09 | AG4: =(AF4/115+1/2)^-1/2 -> 0.62779779 | AH4: =2700*AG4 -> 1695.054 | AI4: =STDEV(AH3:AH7) -> 218.45229 | AJ4: =AF4/1000 -> 0.03409
A5: 3 | B5: 138 | C5: 12 | D5: 1.72 | E5: 2.7 | F5: 2.55 | G5: =AVERAGE(D5:F5) -> 2.3233333 | H5: 27.79 | I5: =(H5/115+1/2)^-1/2 -> 0.67417048 | J5: =2700*I5 -> 1820.2603 | K5: =H5/1000 -> 0.02779 | M5: 3 | N5: 116 | O5: 13 | P5: 1.63 | Q5: 2.28 | R5: 3.7 | S5: =AVERAGE(P5:R5) -> 2.5366667 | T5: 21.29 | U5: =(T5/115+1/2)^-1/2 -> 0.72978804 | V5: =2700*U5 -> 1970.4277 | W5: =T5/1000 -> 0.02129 | Y5: 3 | Z5: 138 | AA5: 14 | AB5: 4.8 | AC5: 4.47 | AD5: 3.87 | AE5: =AVERAGE(AB5:AD5) -> 4.38 | AF5: 26.09 | AG5: =(AF5/115+1/2)^-1/2 -> 0.68788133 | AH5: =2700*AG5 -> 1857.2796 | AJ5: =AF5/1000 -> 0.02609
A6: 4 | B6: 125 | C6: 13 | D6: 2.29 | E6: 2.47 | F6: 2.49 | G6: =AVERAGE(D6:F6) -> 2.4166667 | H6: 21.85 | I6: =(H6/115+1/2)^-1/2 -> 0.72463768 | J6: =2700*I6 -> 1956.5217 | K6: =H6/1000 -> 0.02185 | M6: 4 | N6: 120 | O6: 9 | P6: 2.5 | Q6: 2.06 | R6: 2.88 | S6: =AVERAGE(P6:R6) -> 2.48 | T6: 18.69 | U6: =(T6/115+1/2)^-1/2 -> 0.75469222 | V6: =2700*U6 -> 2037.669 | W6: =T6/1000 -> 0.01869 | Y6: 4 | Z6: 142 | AA6: 10 | AB6: 3.03 | AC6: 2.98 | AD6: 2.89 | AE6: =AVERAGE(AB6:AD6) -> 2.9666667 | AF6: 23.96 | AG6: =(AF6/115+1/2)^-1/2 -> 0.70586791 | AH6: =2700*AG6 -> 1905.8434 | AJ6: =AF6/1000 -> 0.02396
A7: 5 | B7: 137 | C7: 10 | D7: 2.81 | E7: 2.9 | F7: 2.81 | G7: =AVERAGE(D7:F7) -> 2.84 | H7: 21.83 | I7: =(H7/115+1/2)^-1/2 -> 0.72482037 | J7: =2700*I7 -> 1957.015 | K7: =H7/1000 -> 0.02183 | M7: 5 | N7: 92 | O7: 10 | S7: 2.03 | T7: 8.69 | U7: =(T7/115+1/2)^-1/2 -> 0.86871129 | V7: =2700*U7 -> 2345.5205 | W7: =T7/1000 -> 0.00869 | X7: =STDEV(V7:V49) -> 79.142776 | Y7: 5 | Z7: 81 | AA7: 9 | AB7: 2.66 | AC7: 2.36 | AD7: 2.4 | AE7: =AVERAGE(AB7:AD7) -> 2.4733333 | AF7: 12.44 | AG7: =(AF7/115+1/2)^-1/2 -> 0.82213326 | AH7: =2700*AG7 -> 2219.7598 | AJ7: =AF7/1000 -> 0.01244
A8: 6 | B8: 122 | C8: 13 | D8: 2.3 | E8: 2.11 | F8: 2.86 | G8: =AVERAGE(D8:F8) -> 2.4233333 | H8: 16.09 | I8: =(H8/115+1/2)^-1/2 -> 0.78135616 | J8: =2700*I8 -> 2109.6616 | K8: =H8/1000 -> 0.01609 | M8: 6 | N8: 49.08 | O8: 12.75 | S8: 2.7 | T8: 7.81 | U8: =(T8/115+1/2)^-1/2 -> 0.88041648 | V8: =2700*U8 -> 2377.1245 | W8: =T8/1000 -> 0.00781 | Y8: 6 | Z8: 70.05 | AA8: 10.69 | AB8: 1.79 | AC8: 1.88 | AD8: 2.17 | AE8: 2.22 | AF8: 9.68 | AG8: =(AF8/115+1/2)^-1/2 -> 0.8559095 | AH8: =2700*AG8 -> 2310.9556 | AI8: =STDEV(AH8:AH61) -> 81.493601 | AJ8: =AF8/1000 -> 0.00968
A9: 7 | B9: 38.97 | C9: 8.81 | G9: 2.2 | H9: 3.51 | I9: =(H9/115+1/2)^-1/2 -> 0.94246845 | J9: =2700*I9 -> 2544.6648 | K9: =H9/1000 -> 0.00351 | L9: =STDEV(J9:J65) -> 39.215455 | M9: 7 | N9: 30.44 | O9: 9.33 | S9: 2.39 | T9: 2.46 | U9: =(T9/115+1/2)^-1/2 -> 0.95897265 | V9: =2700*U9 -> 2589.2262 | W9: =T9/1000 -> 0.00246 | Y9: 7 | Z9: 65.71 | AA9: 14.75 | AB9: 2.28 | AC9: 1.93 | AD9: 2.51 | AE9: =AVERAGE(AB9:AD9) -> 2.24 | AF9: 9.13 | AG9: =(AF9/115+1/2)^-1/2 -> 0.86297464 | AH9: =2700*AG9 -> 2330.0315 | AJ9: =AF9/1000 -> 0.00913
A10: 8 | B10: 16.39 | C10: 15.01 | G10: 4.53 | H10: 3.3 | I10: =(H10/115+1/2)^-1/2 -> 0.94572368 | J10: =2700*I10 -> 2553.4539 | K10: =H10/1000 -> 0.0033 | M10: 8 | N10: 41.83 | O10: 15.19 | S10: 2.34 | T10: 5.4 | U10: =(T10/115+1/2)^-1/2 -> 0.91414944 | V10: =2700*U10 -> 2468.2035 | W10: =T10/1000 -> 0.0054 | Y10: 8 | Z10: 46.3 | AA10: 10 | AE10: 2.05 | AF10: 5.7 | AG10: =(AF10/115+1/2)^-1/2 -> 0.90981013 | AH10: =2700*AG10 -> 2456.4873 | AJ10: =AF10/1000 -> 0.0057
A11: 9 | B11: 13.53 | C11: 15.22 | G11: 5.24 | H11: 3.49 | I11: =(H11/115+1/2)^-1/2 -> 0.9427775 | J11: =2700*I11 -> 2545.4993 | K11: =H11/1000 -> 0.00349 | M11: 9 | N11: 16.29 | O11: 12.54 | S11: 4.43 | T11: 3.23 | U11: =(T11/115+1/2)^-1/2 -> 0.94681377 | V11: =2700*U11 -> 2556.3972 | W11: =T11/1000 -> 0.00323 | Y11: 9 | Z11: 26.79 | AA11: 10.6 | AE11: 4.93 | AF11: 5.34 | AG11: =(AF11/115+1/2)^-1/2 -> 0.91502228 | AH11: =2700*AG11 -> 2470.5602 | AJ11: =AF11/1000 -> 0.00534
A12: 10 | B12: 20.1 | C12: 9.94 | G12: 2.24 | H12: 1.48 | I12: =(H12/115+1/2)^-1/2 -> 0.97490675 | J12: =2700*I12 -> 2632.2482 | K12: =H12/1000 -> 0.00148 | M12: 10 | N12: 17.72 | O12: 11.76 | S12: 1.44 | T12: 1.99 | U12: =(T12/115+1/2)^-1/2 -> 0.966549 | V12: =2700*U12 -> 2609.6823 | W12: =T12/1000 -> 0.00199 | Y12: 10 | Z12: 38.67 | AA12: 6.61 | AE12: 2.16 | AF12: 2.37 | AG12: =(AF12/115+1/2)^-1/2 -> 0.96041423 | AH12: =2700*AG12 -> 2593.1184 | AJ12: =AF12/1000 -> 0.00237
A13: 11 | B13: 10.47 | C13: 14.62 | G13: 1.83 | H13: 1.63 | I13: =(H13/115+1/2)^-1/2 -> 0.97243362 | J13: =2700*I13 -> 2625.5708 | K13: =H13/1000 -> 0.00163 | M13: 11 | N13: 17.09 | O13: 10.84 | S13: 2.38 | T13: 1.31 | U13: =(T13/115+1/2)^-1/2 -> 0.97772488 | V13: =2700*U13 -> 2639.8572 | W13: =T13/1000 -> 0.00131 | Y13: 11 | Z13: 24.99 | AA13: 11.54 | AE13: 2.07 | AF13: 4.24 | AG13: =(AF13/115+1/2)^-1/2 -> 0.93132491 | AH13: =2700*AG13 -> 2514.5773 | AJ13: =AF13/1000 -> 0.00424
A14: 12 | B14: 16.5 | C14: 9.23 | G14: 2.2 | H14: 1.6 | I14: =(H14/115+1/2)^-1/2 -> 0.97292724 | J14: =2700*I14 -> 2626.9036 | K14: =H14/1000 -> 0.0016 | M14: 12 | N14: 16.76 | O14: 5.61 | S14: 2.96 | T14: 1.24 | U14: =(T14/115+1/2)^-1/2 -> 0.97889002 | V14: =2700*U14 -> 2643.0031 | W14: =T14/1000 -> 0.00124 | Y14: 12 | Z14: 19.85 | AA14: 14.62 | AE14: 5.47 | AF14: 2.77 | AG14: =(AF14/115+1/2)^-1/2 -> 0.95404015 | AH14: =2700*AG14 -> 2575.9084 | AJ14: =AF14/1000 -> 0.00277
A15: 13 | B15: 13.52 | C15: 12.54 | G15: 4.88 | H15: 2.19 | I15: =(H15/115+1/2)^-1/2 -> 0.96331044 | J15: =2700*I15 -> 2600.9382 | K15: =H15/1000 -> 0.00219 | M15: 13 | N15: 21.82 | O15: 10.64 | S15: 1.71 | T15: 1.57 | U15: =(T15/115+1/2)^-1/2 -> 0.97342136 | V15: =2700*U15 -> 2628.2377 | W15: =T15/1000 -> 0.00157 | Y15: 13 | Z15: 12.95 | AA15: 10.31 | AE15: 5.01 | AF15: 0.48 | AG15: =(AF15/115+1/2)^-1/2 -> 0.99172128 | AH15: =2700*AG15 -> 2677.6475 | AJ15: =AF15/1000 -> 0.00048
A16: 14 | B16: 8.94 | C16: 7.07 | G16: 3.05 | H16: 0.6 | I16: =(H16/115+1/2)^-1/2 -> 0.98967298 | J16: =2700*I16 -> 2672.117 | K16: =H16/1000 -> 0.0006 | M16: 14 | N16: 9.65 | O16: 8.9 | S16: 1.88 | T16: 0.64 | U16: =(T16/115+1/2)^-1/2 -> 0.98899209 | V16: =2700*U16 -> 2670.2786 | W16: =T16/1000 -> 0.00064 | Y16: 14 | Z16: 24.19 | AA16: 9.14 | AE16: 3.15 | AF16: 2.55 | AG16: =(AF16/115+1/2)^-1/2 -> 0.95753539 | AH16: =2700*AG16 -> 2585.3455 | AJ16: =AF16/1000 -> 0.00255
A17: 15 | B17: 22.61 | C17: 10.56 | G17: 3.21 | H17: 2.4 | I17: =(H17/115+1/2)^-1/2 -> 0.95993322 | J17: =2700*I17 -> 2591.8197 | K17: =H17/1000 -> 0.0024 | M17: 15 | N17: 19.05 | O17: 8.16 | S17: 1.59 | T17: 1.36 | U17: =(T17/115+1/2)^-1/2 -> 0.97689433 | V17: =2700*U17 -> 2637.6147 | W17: =T17/1000 -> 0.00136 | Y17: 15 | Z17: 9.83 | AA17: 6.78 | AE17: 2.57 | AF17: 1.18 | AG17: =(AF17/115+1/2)^-1/2 -> 0.97989093 | AH17: =2700*AG17 -> 2645.7055 | AJ17: =AF17/1000 -> 0.00118
A18: 16 | B18: 13.71 | C18: 10.65 | G18: 4.97 | H18: 2.82 | I18: =(H18/115+1/2)^-1/2 -> 0.95324934 | J18: =2700*I18 -> 2573.7732 | K18: =H18/1000 -> 0.00282 | M18: 16 | N18: 16.91 | O18: 9.1 | S18: 3.35 | T18: 1.58 | U18: =(T18/115+1/2)^-1/2 -> 0.9732566 | V18: =2700*U18 -> 2627.7928 | W18: =T18/1000 -> 0.00158 | Y18: 16 | Z18: 11.68 | AA18: 5.11 | AE18: 2.05 | AF18: 0.24 | AG18: =(AF18/115+1/2)^-1/2 -> 0.99584344 | AH18: =2700*AG18 -> 2688.7773 | AJ18: =AF18/1000 -> 0.00024
A19: 17 | B19: 11.15 | C19: 8.96 | G19: 2.1 | H19: 0.81 | I19: =(H19/115+1/2)^-1/2 -> 0.98610873 | J19: =2700*I19 -> 2662.4936 | K19: =H19/1000 -> 0.00081 | M19: 17 | N19: 21.38 | O19: 9.65 | S19: 3.84 | T19: 1.45 | U19: =(T19/115+1/2)^-1/2 -> 0.97540288 | V19: =2700*U19 -> 2633.5878 | W19: =T19/1000 -> 0.00145 | Y19: 17 | Z19: 12.85 | AA19: 11.95 | AE19: 4.79 | AF19: 1.62 | AG19: =(AF19/115+1/2)^-1/2 -> 0.97259811 | AH19: =2700*AG19 -> 2626.0149 | AJ19: =AF19/1000 -> 0.00162
A20: 18 | B20: 11.26 | C20: 8.06 | G20: 4.26 | H20: 1.21 | I20: =(H20/115+1/2)^-1/2 -> 0.97939022 | J20: =2700*I20 -> 2644.3536 | K20: =H20/1000 -> 0.00121 | M20: 18 | N20: 14.81 | O20: 10.46 | S20: 2.35 | T20: 1.49 | U20: =(T20/115+1/2)^-1/2 -> 0.97474148 | V20: =2700*U20 -> 2631.802 | W20: =T20/1000 -> 0.00149 | Y20: 18 | Z20: 15.44 | AA20: 4.66 | AE20: 2.1 | AF20: 0.8 | AG20: =(AF20/115+1/2)^-1/2 -> 0.98627787 | AH20: =2700*AG20 -> 2662.9503 | AJ20: =AF20/1000 -> 0.0008
A21: 19 | B21: 13.15 | C21: 9.21 | G21: 4.29 | H21: 1.33 | I21: =(H21/115+1/2)^-1/2 -> 0.97739249 | J21: =2700*I21 -> 2638.9597 | K21: =H21/1000 -> 0.00133 | M21: 19 | N21: 29.76 | O21: 9.18 | S21: 2.54 | T21: 2.29 | U21: =(T21/115+1/2)^-1/2 -> 0.96169928 | V21: =2700*U21 -> 2596.5881 | W21: =T21/1000 -> 0.00229 | Y21: 19 | Z21: 23.22 | AA21: 6.72 | AE21: 2.46 | AF21: 2.42 | AG21: =(AF21/115+1/2)^-1/2 -> 0.95961282 | AH21: =2700*AG21 -> 2590.9546 | AJ21: =AF21/1000 -> 0.00242
... A49: 47 | B49: 8.39 | C49: 6.31 | G49: 2.61 | H49: 0.34 | I49: =(H49/115+1/2)^-1/2 -> 0.99412172 | J49: =2700*I49 -> 2684.1286 | K49: =H49/1000 -> 0.00034 | M49: 47 | N49: 4.33 | O49: 3.78 | S49: 2.44 | T49: 0.05 | U49: =(T49/115+1/2)^-1/2 -> 0.99913119 | V49: =2700*U49 -> 2697.6542 | W49: =T49/1000 -> 5e-05 | Y49: 47 | Z49: 13.71 | AA49: 6.01 | AE49: 2.3 | AF49: 0.62 | AG49: =(AF49/115+1/2)^-1/2 -> 0.98933242 | AH49: =2700*AG49 -> 2671.1975 | AJ49: =AF49/1000 -> 0.00062
A50: 48 | B50: 6.72 | C50: 6.02 | G50: 2.62 | H50: 0.31 | I50: =(H50/115+1/2)^-1/2 -> 0.99463761 | J50: =2700*I50 -> 2685.5215 | K50: =H50/1000 -> 0.00031 | Y50: 48 | Z50: 10.57 | AA50: 5.64 | AE50: 2.35 | AF50: 0.59 | AG50: =(AF50/115+1/2)^-1/2 -> 0.98984335 | AH50: =2700*AG50 -> 2672.577 | AJ50: =AF50/1000 -> 0.00059
A51: 49 | B51: 6.65 | C51: 4.79 | G51: 1.64 | H51: 0.21 | I51: =(H51/115+1/2)^-1/2 -> 0.99636112 | J51: =2700*I51 -> 2690.175 | K51: =H51/1000 -> 0.00021 | M51: AVG | N51: =AVERAGE(N3:N49) -> 24.349362 | O51: =AVERAGE(O3:O49) -> 7.7802128 | T51: =AVERAGE(T3:T49) -> 3.3744681 | V51: =AVERAGE(V3:V49) -> 2578.9453 | Y51: 49 | Z51: 13.11 | AA51: 10.2 | AE51: 5.26 | AF51: 0.48 | AG51: =(AF51/115+1/2)^-1/2 -> 0.99172128 | AH51: =2700*AG51 -> 2677.6475 | AJ51: =AF51/1000 -> 0.00048
A52: 50 | B52: 6.82 | C52: 4.22 | G52: 2.23 | H52: 0.18 | I52: =(H52/115+1/2)^-1/2 -> 0.99687933 | J52: =2700*I52 -> 2691.5742 | K52: =H52/1000 -> 0.00018 | Y52: 50 | Z52: 7.24 | AA52: 5.27 | AE52: 2.33 | AF52: 0.38 | AG52: =(AF52/115+1/2)^-1/2 -> 0.99343469 | AH52: =2700*AG52 -> 2682.2737 | AJ52: =AF52/1000 -> 0.00038
A53: 51 | B53: 6.66 | C53: 6.32 | G53: 3.22 | H53: 0.35 | I53: =(H53/115+1/2)^-1/2 -> 0.99394987 | J53: =2700*I53 -> 2683.6646 | K53: =H53/1000 -> 0.00035 | Y53: 51 | Z53: 9.42 | AA53: 5.71 | AE53: 2.1 | AF53: 0.33 | AG53: =(AF53/115+1/2)^-1/2 -> 0.99429362 | AH53: =2700*AG53 -> 2684.5928 | AJ53: =AF53/1000 -> 0.00033
A54: 52 | B54: 6.51 | C54: 4.68 | G54: 2.13 | H54: 0.15 | I54: =(H54/115+1/2)^-1/2 -> 0.99739809 | J54: =2700*I54 -> 2692.9748 | K54: =H54/1000 -> 0.00015 | Y54: 52 | Z54: 7.84 | AA54: 5.72 | AE54: 2.18 | AF54: 0.25 | AG54: =(AF54/115+1/2)^-1/2 -> 0.995671 | AH54: =2700*AG54 -> 2688.3117 | AJ54: =AF54/1000 -> 0.00025
A55: 53 | B55: 4.96 | C55: 3.62 | G55: 1.67 | H55: 0.09 | I55: =(H55/115+1/2)^-1/2 -> 0.99843723 | J55: =2700*I55 -> 2695.7805 | K55: =H55/1000 -> 9e-05 | Y55: 53 | Z55: 8.55 | AA55: 6.4 | AE55: 3.5 | AF55: 0.59 | AG55: =(AF55/115+1/2)^-1/2 -> 0.98984335 | AH55: =2700*AG55 -> 2672.577 | AJ55: =AF55/1000 -> 0.00059
A56: 54 | B56: 6.71 | C56: 4.32 | G56: 1.58 | H56: 0.14 | I56: =(H56/115+1/2)^-1/2 -> 0.99757113 | J56: =2700*I56 -> 2693.4421 | K56: =H56/1000 -> 0.00014 | Y56: 54 | Z56: 8.63 | AA56: 6.68 | AE56: 1.73 | AF56: 0.36 | AG56: =(AF56/115+1/2)^-1/2 -> 0.99377809 | AH56: =2700*AG56 -> 2683.2008 | AJ56: =AF56/1000 -> 0.00036
A57: 55 | B57: 7.65 | C57: 3.6 | G57: 0.93 | H57: 0.15 | I57: =(H57/115+1/2)^-1/2 -> 0.99739809 | J57: =2700*I57 -> 2692.9748 | K57: =H57/1000 -> 0.00015 | Y57: 55 | Z57: 13.71 | AA57: 6.01 | AE57: 2.3 | AF57: 0.62 | AG57: =(AF57/115+1/2)^-1/2 -> 0.98933242 | AH57: =2700*AG57 -> 2671.1975 | AJ57: =AF57/1000 -> 0.00062
A58: 56 | B58: 4.46 | C58: 6.11 | G58: 2.25 | H58: 0.15 | I58: =(H58/115+1/2)^-1/2 -> 0.99739809 | J58: =2700*I58 -> 2692.9748 | K58: =H58/1000 -> 0.00015 | Y58: 56 | Z58: 10.57 | AA58: 5.64 | AE58: 2.35 | AF58: 0.59 | AG58: =(AF58/115+1/2)^-1/2 -> 0.98984335 | AH58: =2700*AG58 -> 2672.577 | AJ58: =AF58/1000 -> 0.00059
A59: 57 | B59: 4.56 | C59: 4.53 | G59: 2.08 | H59: 0.13 | I59: =(H59/115+1/2)^-1/2 -> 0.99774423 | J59: =2700*I59 -> 2693.9094 | K59: =H59/1000 -> 0.00013 | Y59: 57 | Z59: 13.11 | AA59: 10.2 | AE59: 5.26 | AF59: 0.48 | AG59: =(AF59/115+1/2)^-1/2 -> 0.99172128 | AH59: =2700*AG59 -> 2677.6475 | AJ59: =AF59/1000 -> 0.00048
A60: 58 | B60: 5.48 | C60: 2.54 | G60: 1.1 | H60: 0.05 | I60: =(H60/115+1/2)^-1/2 -> 0.99913119 | J60: =2700*I60 -> 2697.6542 | K60: =H60/1000 -> 5e-05 | Y60: 58 | Z60: 7.24 | AA60: 5.27 | AE60: 2.33 | AF60: 0.38 | AG60: =(AF60/115+1/2)^-1/2 -> 0.99343469 | AH60: =2700*AG60 -> 2682.2737 | AJ60: =AF60/1000 -> 0.00038
A61: 59 | B61: 5.99 | C61: 2.31 | G61: 1.08 | H61: 0.04 | I61: =(H61/115+1/2)^-1/2 -> 0.99930483 | J61: =2700*I61 -> 2698.123 | K61: =H61/1000 -> 4e-05 | Y61: 59 | Z61: 9.42 | AA61: 5.71 | AE61: 2.1 | AF61: 0.33 | AG61: =(AF61/115+1/2)^-1/2 -> 0.99429362 | AH61: =2700*AG61 -> 2684.5928 | AJ61: =AF61/1000 -> 0.00033
A62: 60 | B62: 4.71 | C62: 4.32 | G62: 1.58 | H62: 0.12 | I62: =(H62/115+1/2)^-1/2 -> 0.99791739 | J62: =2700*I62 -> 2694.377 | K62: =H62/1000 -> 0.00012
A63: 61 | B63: 2.31 | C63: 5.95 | G63: 1.08 | H63: 0.04 | I63: =(H63/115+1/2)^-1/2 -> 0.99930483 | J63: =2700*I63 -> 2698.123 | K63: =H63/1000 -> 4e-05 | Y63: AVG | Z63: =AVERAGE(Z3:Z61) -> 25.414407 | AA63: =AVERAGE(AA3:AA61) -> 7.9483051 | AF63: =AVERAGE(AF3:AF61) -> 3.5389831 | AH63: =AVERAGE(AH3:AH61) -> 2572.2521
A64: 62 | B64: 5.48 | C64: 2.55 | G64: 1.08 | H64: 0.04 | I64: =(H64/115+1/2)^-1/2 -> 0.99930483 | J64: =2700*I64 -> 2698.123 | K64: =H64/1000 -> 4e-05
A65: 63 | B65: 6 | C65: 2.32 | G65: 1.1 | H65: 0.05 | I65: =(H65/115+1/2)^-1/2 -> 0.99913119 | J65: =2700*I65 -> 2697.6542 | K65: =H65/1000 -> 5e-05 | Z65: =MEDIAN(Z3:Z61) -> 11.68
A67: AVG | B67: =AVERAGE(B3:B65) -> 21.782222 | C67: =AVERAGE(C3:C65) -> 7.4677778 | H67: =AVERAGE(H9:H65) -> 0.78491228 | J67: =AVERAGE(J3:J65) -> 2589.8074

Sheet VOD vs fragment size
A1: IBC | B1: Fragment weight (g)
B2: >10 | C2: 10-100 | D2: <100
A3: A | B3: 2637.1 | C3: 1930.45 | D3: 449.27
A4: B | B4: 2563.35 | C4: 1764.48 | D4: 473.94
A5: D | B5: 2574.29 | C5: 1766.18 | D5: 344.92
A6: C | B6: 2573.34 | C6: 1882.87
A7: E | B7: 2551.49 | C7: 1866.26
A8: F | B8: 2575.53 | C8: 1871.37

Sheet Summarised tables
C1: LO Detonations | I1: Partial Detonation | L1: HO Detonations
C2: Tank A (S, M, L) | F2: Tank B (S, M, L) | I2: Tank C (S, M, L) | L2: Tank D (S, M) | N2: Tank E (S, M) | P2: Tank F (S, M)
B3: Quantity of fragments | C3: 19 | D3: 6 | E3: 1 | F3: 30 | G3: 5 | H3: 1 | I3: 5 | J3: 5 | K3: 1 | L3: 57 | M3: 6 | N3: 43 | O3: 4 | P3: 54 | Q3: 5
A4: Average | B4: Weight (g) | C4: 4.72 | D4: 41.44 | E4: 288.06 | F4: 5.34 | G4: 49.7 | H4: 270.07 | I4: 3.13 | J4: 32.15 | K4: 392.6 | L4: 2.83 | M4: 25.82 | N4: 5.96 | O4: 27.76 | P4: 6.11 | Q4: 23.7
B5: Length (mm) | C5: 12.42 | D5: 29.6 | E5: 133 | F5: 16.03 | G5: 52.4 | H5: 142 | I5: 16.6 | J5: 34.8 | K5: 150 | L5: 15 | M5: 133.83 | N5: 17.76 | O5: 129 | P5: 14.07 | Q5: 127.8
B6: Width (mm) | C6: 6.1 | D6: 23.83 | E6: 104 | F6: 8.6 | G6: 22.4 | H6: 47 | I6: 9.2 | J6: 24.2 | K6: 34 | L6: 12 | M6: 13.6 | N6: 11.95 | O6: 14.25 | P6: 10.03 | Q6: 14
B7: Velocity of Detonation (m/s) | C7: 2637.1 | D7: 1930.45 | E7: 449.27 | F7: 2563.35 | G7: 1764.48 | H7: 473.94 | I7: 2574.29 | J7: 1766.18 | K7: 344.92 | L7: 2573.34 | M7: 1882.87 | N7: 2551.49 | O7: 1866.26 | P7: 2575.53 | Q7: 1871.37
B18: IBC Tank | C18: Total weight of recovered fragments (g) | E18: Total No. of fragments recovered | N18: IBC Tank | O18: Percentage | P18: Number
B19: A | C19: 472.01 | E19: 26 | N19: A | O19: 75.7 | P19: 26
B20: B | C20: 545.46 | E20: 36 | N20: B | O20: 87.5 | P20: 36
B21: D | C21: 565.28 | E21: 11 | N21: D | O21: 90.7 | P21: 11
B22: C | C22: 313.88 | E22: 63 | N22: C | O22: 50.3 | P22: 63
B23: E | C23: 249.38 | E23: 47 | N23: E | O23: 40 | P23: 47
B24: F | C24: 282.96 | E24: 59 | N24: F | O24: 45.4 | P24: 59
B25: Total weight of pipe bomb | C25: 623

Sheet Stopping Distance
A2: LO | C2: A
C3: Best case | N3: Worst case | AB3: Best Case
B4: Fragment | C4: Surface Area | D4: Mass of object | E4: Density of water | F4: Drag Coefficient | G4: Initial velocity | H4: Final velocity | J4: Drag Force | K4: Constant | L4: Stopping distance | N4: Surface Area | O4: Mass of object | P4: Density of water | Q4: Drag Coefficient | R4: Initial velocity | S4: Final velocity | U4: Drag Force | V4: Constant | W4: Stopping distance
C5: A | D5: m | E5: Pw | F5: CD | G5: v0 | H5: vfinal | J5: FD | K5: k | L5: x | N5: A | O5: m | P5: Pw | Q5: CD | R5: v0 | S5: vfinal | U5: FD | V5: k | W5: x
C6: m2 | D6: kg | E6: kg/m3 | F6: Dimentionless | G6: m/s | H6: m/s | J6: N | K6: m-1 | L6: m | N6: m2 | O6: kg | P6: kg/m3 | Q6: Dimentionless | R6: m/s | S6: m/s | U6: N | V6: m-1 | W6: m
B7: 1 | C7: =('Size and weight of LO fragments'!B3/1000)*('Size and weight of LO fragments'!C3/1000) -> 0.013832 | D7: =('Size and weight of LO fragments'!H3)/1000 -> 0.28806 | E7: 1000 | F7: 2.1 | G7: ='Size and weight of LO fragments'!J3 -> 449.27075 | H7: 1 | J7: =0.5 * E7 * (G7^2) * F7 * C7 -> 2931504.5 | K7: =(0.5 * E7 * F7 * C7) / D7 -> 50.418663 | L7: =(1 / K7) * LN(G7 / H7) -> 0.12113819 | N7: =('Size and weight of LO fragments'!G3/1000)*('Size and weight of LO fragments'!C3/1000) -> 0.00028946667 | O7: =D7 -> 0.28806 | P7: 1000 | Q7: 0.1 | R7: =G7 -> 449.27075 | S7: 1 | U7: =0.5 * P7 * (R7^2) * Q7 * N7 -> 2921.3585 | V7: =(0.5 * P7 * Q7 * N7) / O7 -> 0.050244162 | W7: =(1 / V7) * LN(R7 / S7) -> 121.55891
B8: 2 | C8: ='Size and weight of LO fragments'!B4*'Size and weight of LO fragments'!C4 -> 1548 | D8: =('Size and weight of LO fragments'!H4)/1000 -> 0.06795 | E8: 1000 | F8: 2.1 | G8: ='Size and weight of LO fragments'!J4 -> 1237.5448 | H8: 1 | J8: =0.5 * E8 * (G8^2) * F8 * C8 -> 2.4893281e+12 | K8: =(0.5 * E8 * F8 * C8) / D8 -> 23920530 | L8: =(1 / K8) * LN(G8 / H8) -> 2.9768926e-07 | N8: =('Size and weight of LO fragments'!G4/1000)*('Size and weight of LO fragments'!C4/1000) -> 0.00018204 | O8: =D8 -> 0.06795 | P8: 1000 | Q8: 0.1 | R8: =G8 -> 1237.5448 | S8: 1 | U8: =0.5 * P8 * (R8^2) * Q8 * N8 -> 13939.87 | V8: =(0.5 * P8 * Q8 * N8) / O8 -> 0.13395143 | W8: =(1 / V8) * LN(R8 / S8) -> 53.160197
B9: 3 | C9: ='Size and weight of LO fragments'!B5*'Size and weight of LO fragments'!C5 -> 840 | D9: =('Size and weight of LO fragments'!H5)/1000 -> 0.02624 | E9: 1000 | F9: 2.1 | G9: ='Size and weight of LO fragments'!J5 -> 1853.9527 | H9: 1 | J9: =0.5 * E9 * (G9^2) * F9 * C9 -> 3.0315581e+12 | K9: =(0.5 * E9 * F9 * C9) / D9 -> 33612805 | L9: =(1 / K9) * LN(G9 / H9) -> 2.2387525e-07 | N9: =('Size and weight of LO fragments'!G5/1000)*('Size and weight of LO fragments'!C5/1000) -> 0.0001268 | O9: =D9 -> 0.02624 | P9: 1000 | Q9: 0.1 | R9: =G9 -> 1853.9527 | S9: 1 | U9: =0.5 * P9 * (R9^2) * Q9 * N9 -> 21791.472 | V9: =(0.5 * P9 * Q9 * N9) / O9 -> 0.24161585 | W9: =(1 / V9) * LN(R9 / S9) -> 31.144791
B10: 4 | C10: ='Size and weight of LO fragments'!B6*'Size and weight of LO fragments'!C6 -> 525 | D10: =('Size and weight of LO fragments'!H6)/1000 -> 0.01632 | E10: 1000 | F10: 2.1 | G10: ='Size and weight of LO fragments'!J6 -> 2103.0886 | H10: 1 | J10: =0.5 * E10 * (G10^2) * F10 * C10 -> 2.4381686e+12 | K10: =(0.5 * E10 * F10 * C10) / D10 -> 33777574 | L10: =(1 / K10) * LN(G10 / H10) -> 2.2651604e-07 | N10: =('Size and weight of LO fragments'!G6/1000)*('Size and weight of LO fragments'!C6/1000) -> 0.00012026 | O10: =D10 -> 0.01632 | P10: 1000 | Q10: 0.1 | R10: =G10 -> 2103.0886 | S10: 1 | U10: =0.5 * P10 * (R10^2) * Q10 * N10 -> 26595.389 | V10: =(0.5 * P10 * Q10 * N10) / O10 -> 0.36844363 | W10: =(1 / V10) * LN(R10 / S10) -> 20.766168
B11: 5 | C11: ='Size and weight of LO fragments'!B7*'Size and weight of LO fragments'!C7 -> 525 | D11: =('Size and weight of LO fragments'!H7)/1000 -> 0.01582 | E11: 1000 | F11: 2.1 | G11: ='Size and weight of LO fragments'!J7 -> 2117.4304 | H11: 1 | J11: =0.5 * E11 * (G11^2) * F11 * C11 -> 2.4715358e+12 | K11: =(0.5 * E11 * F11 * C11) / D11 -> 34845133 | L11: =(1 / K11) * LN(G11 / H11) -> 2.1977126e-07 | N11: =('Size and weight of LO fragments'!G7/1000)*('Size and weight of LO fragments'!C7/1000) -> 0.00013377 | O11: =D11 -> 0.01582 | P11: 1000 | Q11: 0.1 | R11: =G11 -> 2117.4304 | S11: 1 | U11: =0.5 * P11 * (R11^2) * Q11 * N11 -> 29987.968 | V11: =(0.5 * P11 * Q11 * N11) / O11 -> 0.42278761 | W11: =(1 / V11) * LN(R11 / S11) -> 18.113016
B12: 6 | C12: ='Size and weight of LO fragments'!B8*'Size and weight of LO fragments'!C8 -> 475 | D12: =('Size and weight of LO fragments'!H8)/1000 -> 0.01547 | E12: 1000 | F12: 2.1 | G12: ='Size and weight of LO fragments'!J8 -> 2127.5867 | H12: 1 | J12: =0.5 * E12 * (G12^2) * F12 * C12 -> 2.2576543e+12 | K12: =(0.5 * E12 * F12 * C12) / D12 -> 32239819 | L12: =(1 / K12) * LN(G12 / H12) -> 2.3767949e-07 | N12: =('Size and weight of LO fragments'!G8/1000)*('Size and weight of LO fragments'!C8/1000) -> 0.00012559 | O12: =D12 -> 0.01547 | P12: 1000 | Q12: 0.1 | R12: =G12 -> 2127.5867 | S12: 1 | U12: =0.5 * P12 * (R12^2) * Q12 * N12 -> 28424.942 | V12: =(0.5 * P12 * Q12 * N12) / O12 -> 0.40591467 | W12: =(1 / V12) * LN(R12 / S12) -> 18.87772
B13: 7 | C13: ='Size and weight of LO fragments'!B9*'Size and weight of LO fragments'!C9 -> 550 | D13: =('Size and weight of LO fragments'!H9)/1000 -> 0.01494 | E13: 1000 | F13: 2.1 | G13: ='Size and weight of LO fragments'!J9 -> 2143.153 | H13: 1 | J13: =0.5 * E13 * (G13^2) * F13 * C13 -> 2.6525179e+12 | K13: =(0.5 * E13 * F13 * C13) / D13 -> 38654618 | L13: =(1 / K13) * LN(G13 / H13) -> 1.9842476e-07 | N13: =('Size and weight of LO fragments'!G9/1000)*('Size and weight of LO fragments'!C9/1000) -> 0.00012004667 | O13: =D13 -> 0.01494 | P13: 1000 | Q13: 0.1 | R13: =G13 -> 2143.153 | S13: 1 | U13: =0.5 * P13 * (R13^2) * Q13 * N13 -> 27569.345 | V13: =(0.5 * P13 * Q13 * N13) / O13 -> 0.40176261 | W13: =(1 / V13) * LN(R13 / S13) -> 19.090959
B14: 8 | C14: ='Size and weight of LO fragments'!B10*'Size and weight of LO fragments'!C10 -> 500 | D14: =('Size and weight of LO fragments'!H10)/1000 -> 0.00895 | E14: 1000 | F14: 2.1 | G14: ='Size and weight of LO fragments'!J10 -> 2336.3431 | H14: 1 | J14: =0.5 * E14 * (G14^2) * F14 * C14 -> 2.8657121e+12 | K14: =(0.5 * E14 * F14 * C14) / D14 -> 58659218 | L14: =(1 / K14) * LN(G14 / H14) -> 1.3222717e-07 | N14: =('Size and weight of LO fragments'!G10/1000)*('Size and weight of LO fragments'!C10/1000) -> 6.99e-05 | O14: =D14 -> 0.00895 | P14: 1000 | Q14: 0.1 | R14: =G14 -> 2336.3431 | S14: 1 | U14: =0.5 * P14 * (R14^2) * Q14 * N14 -> 19077.455 | V14: =(0.5 * P14 * Q14 * N14) / O14 -> 0.39050279 | W14: =(1 / V14) * LN(R14 / S14) -> 19.86245
B15: 9 | C15: ='Size and weight of LO fragments'!B11*'Size and weight of LO fragments'!C11 -> 210 | D15: =('Size and weight of LO fragments'!H11)/1000 -> 0.00298 | E15: 1000 | F15: 2.1 | G15: ='Size and weight of LO fragments'!J11 -> 2566.9643 | H15: 1 | J15: =0.5 * E15 * (G15^2) * F15 * C15 -> 1.4529419e+12 | K15: =(0.5 * E15 * F15 * C15) / D15 -> 73993289 | L15: =(1 / K15) * LN(G15 / H15) -> 1.0609718e-07 | N15: =('Size and weight of LO fragments'!G11/1000)*('Size and weight of LO fragments'!C11/1000) -> 3.495e-05 | O15: =D15 -> 0.00298 | P15: 1000 | Q15: 0.1 | R15: =G15 -> 2566.9643 | S15: 1 | U15: =0.5 * P15 * (R15^2) * Q15 * N15 -> 11514.812 | V15: =(0.5 * P15 * Q15 * N15) / O15 -> 0.5864094 | W15: =(1 / V15) * LN(R15 / S15) -> 13.38737
B16: 10 | C16: ='Size and weight of LO fragments'!B12*'Size and weight of LO fragments'!C12 -> 120 | D16: =('Size and weight of LO fragments'!H12)/1000 -> 0.00276 | E16: 1000 | F16: 2.1 | G16: ='Size and weight of LO fragments'!J12 -> 2576.3359 | H16: 1 | J16: =0.5 * E16 * (G16^2) * F16 * C16 -> 8.3632583e+11 | K16: =(0.5 * E16 * F16 * C16) / D16 -> 45652174 | L16: =(1 / K16) * LN(G16 / H16) -> 1.720427e-07 | N16: =('Size and weight of LO fragments'!G12/1000)*('Size and weight of LO fragments'!C12/1000) -> 3.495e-05 | O16: =D16 -> 0.00276 | P16: 1000 | Q16: 0.1 | R16: =G16 -> 2576.3359 | S16: 1 | U16: =0.5 * P16 * (R16^2) * Q16 * N16 -> 11599.043 | V16: =(0.5 * P16 * Q16 * N16) / O16 -> 0.63315217 | W16: =(1 / V16) * LN(R16 / S16) -> 12.404796
B17: 11 | C17: ='Size and weight of LO fragments'!B13*'Size and weight of LO fragments'!C13 -> 120 | D17: =('Size and weight of LO fragments'!H13)/1000 -> 0.00276 | E17: 1000 | F17: 2.1 | G17: ='Size and weight of LO fragments'!J13 -> 2576.3359 | H17: 1 | J17: =0.5 * E17 * (G17^2) * F17 * C17 -> 8.3632583e+11 | K17: =(0.5 * E17 * F17 * C17) / D17 -> 45652174 | L17: =(1 / K17) * LN(G17 / H17) -> 1.720427e-07 | N17: =('Size and weight of LO fragments'!G13/1000)*('Size and weight of LO fragments'!C13/1000) -> 3.495e-05 | O17: =D17 -> 0.00276 | P17: 1000 | Q17: 0.1 | R17: =G17 -> 2576.3359 | S17: 1 | U17: =0.5 * P17 * (R17^2) * Q17 * N17 -> 11599.043 | V17: =(0.5 * P17 * Q17 * N17) / O17 -> 0.63315217 | W17: =(1 / V17) * LN(R17 / S17) -> 12.404796
B18: 12 | C18: ='Size and weight of LO fragments'!B14*'Size and weight of LO fragments'!C14 -> 120 | D18: =('Size and weight of LO fragments'!H14)/1000 -> 0.00276 | E18: 1000 | F18: 2.1 | G18: ='Size and weight of LO fragments'!J14 -> 2576.3359 | H18: 1 | J18: =0.5 * E18 * (G18^2) * F18 * C18 -> 8.3632583e+11 | K18: =(0.5 * E18 * F18 * C18) / D18 -> 45652174 | L18: =(1 / K18) * LN(G18 / H18) -> 1.720427e-07 | N18: =('Size and weight of LO fragments'!G14/1000)*('Size and weight of LO fragments'!C14/1000) -> 3.495e-05 | O18: =D18 -> 0.00276 | P18: 1000 | Q18: 0.1 | R18: =G18 -> 2576.3359 | S18: 1 | U18: =0.5 * P18 * (R18^2) * Q18 * N18 -> 11599.043 | V18: =(0.5 * P18 * Q18 * N18) / O18 -> 0.63315217 | W18: =(1 / V18) * LN(R18 / S18) -> 12.404796
B19: 13 | C19: ='Size and weight of LO fragments'!B15*'Size and weight of LO fragments'!C15 -> 44 | D19: =('Size and weight of LO fragments'!H15)/1000 -> 0.0005 | E19: 1000 | F19: 2.1 | G19: ='Size and weight of LO fragments'!J15 -> 2676.7241 | H19: 1 | J19: =0.5 * E19 * (G19^2) * F19 * C19 -> 3.3101617e+11 | K19: =(0.5 * E19 * F19 * C19) / D19 -> 92400000 | L19: =(1 / K19) * LN(G19 / H19) -> 8.5415032e-08 | N19: =('Size and weight of LO fragments'!G15/1000)*('Size and weight of LO fragments'!C15/1000) -> 1.398e-05 | O19: =D19 -> 0.0005 | P19: 1000 | Q19: 0.1 | R19: =G19 -> 2676.7241 | S19: 1 | U19: =0.5 * P19 * (R19^2) * Q19 * N19 -> 5008.2316 | V19: =(0.5 * P19 * Q19 * N19) / O19 -> 1.398 | W19: =(1 / V19) * LN(R19 / S19) -> 5.6454571
... B32: 26 | C32: ='Size and weight of LO fragments'!B28*'Size and weight of LO fragments'!C28 -> 44 | D32: =('Size and weight of LO fragments'!H28)/1000 -> 0.0005 | E32: 1000 | F32: 2.1 | G32: ='Size and weight of LO fragments'!J28 -> 2676.7241 | H32: 1 | J32: =0.5 * E32 * (G32^2) * F32 * C32 -> 3.3101617e+11 | K32: =(0.5 * E32 * F32 * C32) / D32 -> 92400000 | L32: =(1 / K32) * LN(G32 / H32) -> 8.5415032e-08 | N32: =('Size and weight of LO fragments'!G28/1000)*('Size and weight of LO fragments'!C28/1000) -> 1.398e-05 | O32: =D32 -> 0.0005 | P32: 1000 | Q32: 0.1 | R32: =G32 -> 2676.7241 | S32: 1 | U32: =0.5 * P32 * (R32^2) * Q32 * N32 -> 5008.2316 | V32: =(0.5 * P32 * Q32 * N32) / O32 -> 1.398 | W32: =(1 / V32) * LN(R32 / S32) -> 5.6454571
C34: B
C35: Best case | N35: Worst case
B36: Fragment | C36: Surface Area | D36: Mass of object | E36: Density of water | F36: Drag Coefficient | G36: Initial velocity | H36: Final velocity | J36: Drag Force | K36: Constant | L36: Stopping distance | N36: Surface Area | O36: Mass of object | P36: Density of water | Q36: Drag Coefficient | R36: Initial velocity | S36: Final velocity | U36: Drag Force | V36: Constant | W36: Stopping distance
C37: A | D37: m | E37: Pw | F37: CD | G37: v0 | H37: vfinal | J37: FD | K37: k | L37: x | N37: A | O37: m | P37: Pw | Q37: CD | R37: v0 | S37: vfinal | U37: FD | V37: k | W37: x
C38: m2 | D38: kg | E38: kg/m3 | F38: Dimentionless | G38: m/s | H38: m/s | J38: N | K38: m-1 | L38: m | N38: m2 | O38: kg | P38: kg/m3 | Q38: Dimentionless | R38: m/s | S38: m/s | U38: N | V38: m-1 | W38: m
B39: 1 | C39: =('Size and weight of LO fragments'!M3/1000)*('Size and weight of LO fragments'!N3/1000) -> 0.006674 | D39: =('Size and weight of LO fragments'!S3)/1000 -> 0.27007 | E39: 1000 | F39: 2.1 | G39: ='Size and weight of LO fragments'!U3 -> 473.9445 | H39: 1 | J39: =0.5 * E39 * (G39^2) * F39 * C39 -> 1574093.3 | K39: =(0.5 * E39 * F39 * C39) / D39 -> 25.947717 | L39: =(1 / K39) * LN(G39 / H39) -> 0.23744248 | N39: =('Size and weight of LO fragments'!M3/1000)*('Size and weight of LO fragments'!R3/1000) -> 0.00050741333 | O39: =D39 -> 0.27007 | P39: 1000 | Q39: 0.1 | R39: =G39 -> 473.9445 | S39: 1 | U39: =0.5 * P39 * (R39^2) * Q39 * N39 -> 5698.8451 | V39: =(0.5 * P39 * Q39 * N39) / O39 -> 0.093941077 | W39: =(1 / V39) * LN(R39 / S39) -> 65.584624
B40: 2 | C40: =('Size and weight of LO fragments'!M4/1000)*('Size and weight of LO fragments'!N4/1000) -> 0.003 | D40: =('Size and weight of LO fragments'!S4)/1000 -> 0.08546 | E40: 1000 | F40: 2.1 | G40: ='Size and weight of LO fragments'!U4 -> 1085.9681 | H40: 1 | J40: =0.5 * E40 * (G40^2) * F40 * C40 -> 3714879.2 | K40: =(0.5 * E40 * F40 * C40) / D40 -> 36.859349 | L40: =(1 / K40) * LN(G40 / H40) -> 0.18964597 | N40: =('Size and weight of LO fragments'!M4/1000)*('Size and weight of LO fragments'!R4/1000) -> 0.00025275 | O40: =D40 -> 0.08546 | P40: 1000 | Q40: 0.1 | R40: =G40 -> 1085.9681 | S40: 1 | U40: =0.5 * P40 * (R40^2) * Q40 * N40 -> 14903.741 | V40: =(0.5 * P40 * Q40 * N40) / O40 -> 0.1478762 | W40: =(1 / V40) * LN(R40 / S40) -> 47.270806
B41: 3 | C41: =('Size and weight of LO fragments'!M5/1000)*('Size and weight of LO fragments'!N5/1000) -> 0.001704 | D41: =('Size and weight of LO fragments'!S5)/1000 -> 0.03454 | E41: 1000 | F41: 2.1 | G41: ='Size and weight of LO fragments'!U5 -> 1686.7666 | H41: 1 | J41: =0.5 * E41 * (G41^2) * F41 * C41 -> 5090599 | K41: =(0.5 * E41 * F41 * C41) / D41 -> 51.800811 | L41: =(1 / K41) * LN(G41 / H41) -> 0.14344503 | N41: =('Size and weight of LO fragments'!M5/1000)*('Size and weight of LO fragments'!R5/1000) -> 0.00030151333 | O41: =D41 -> 0.03454 | P41: 1000 | Q41: 0.1 | R41: =G41 -> 1686.7666 | S41: 1 | U41: =0.5 * P41 * (R41^2) * Q41 * N41 -> 42893.01 | V41: =(0.5 * P41 * Q41 * N41) / O41 -> 0.43646979 | W41: =(1 / V41) * LN(R41 / S41) -> 17.024245
B42: 4 | C42: =('Size and weight of LO fragments'!M6/1000)*('Size and weight of LO fragments'!N6/1000) -> 0.00091 | D42: =('Size and weight of LO fragments'!S6)/1000 -> 0.02535 | E42: 1000 | F42: 2.1 | G42: ='Size and weight of LO fragments'!U6 -> 1873.8684 | H42: 1 | J42: =0.5 * E42 * (G42^2) * F42 * C42 -> 3355126.4 | K42: =(0.5 * E42 * F42 * C42) / D42 -> 37.692308 | L42: =(1 / K42) * LN(G42 / H42) -> 0.19992833 | N42: =('Size and weight of LO fragments'!M6/1000)*('Size and weight of LO fragments'!R6/1000) -> 0.00020416667 | O42: =D42 -> 0.02535 | P42: 1000 | Q42: 0.1 | R42: =G42 -> 1873.8684 | S42: 1 | U42: =0.5 * P42 * (R42^2) * Q42 * N42 -> 35845.367 | V42: =(0.5 * P42 * Q42 * N42) / O42 -> 0.4026956 | W42: =(1 / V42) * LN(R42 / S42) -> 18.713292
B43: 5 | C43: =('Size and weight of LO fragments'!M7/1000)*('Size and weight of LO fragments'!N7/1000) -> 0.000473 | D43: =('Size and weight of LO fragments'!S7)/1000 -> 0.02001 | E43: 1000 | F43: 2.1 | G43: ='Size and weight of LO fragments'!U7 -> 2002.9674 | H43: 1 | J43: =0.5 * E43 * (G43^2) * F43 * C43 -> 1992499.3 | K43: =(0.5 * E43 * F43 * C43) / D43 -> 24.82009 | L43: =(1 / K43) * LN(G43 / H43) -> 0.30629966 | N43: =('Size and weight of LO fragments'!M7/1000)*('Size and weight of LO fragments'!R7/1000) -> 0.00023248667 | O43: =D43 -> 0.02001 | P43: 1000 | Q43: 0.1 | R43: =G43 -> 2002.9674 | S43: 1 | U43: =0.5 * P43 * (R43^2) * Q43 * N43 -> 46635.41 | V43: =(0.5 * P43 * Q43 * N43) / O43 -> 0.5809262 | W43: =(1 / V43) * LN(R43 / S43) -> 13.086662
B44: 6 | C44: =('Size and weight of LO fragments'!M8/1000)*('Size and weight of LO fragments'!N8/1000) -> 0.000418 | D44: =('Size and weight of LO fragments'!S8)/1000 -> 0.01395 | E44: 1000 | F44: 2.1 | G44: ='Size and weight of LO fragments'!U8 -> 2172.8481 | H44: 1 | J44: =0.5 * E44 * (G44^2) * F44 * C44 -> 2072165 | K44: =(0.5 * E44 * F44 * C44) / D44 -> 31.462366 | L44: =(1 / K44) * LN(G44 / H44) -> 0.24422175 | N44: =('Size and weight of LO fragments'!M8/1000)*('Size and weight of LO fragments'!R8/1000) -> 0.00021216667 | O44: =D44 -> 0.01395 | P44: 1000 | Q44: 0.1 | R44: =G44 -> 2172.8481 | S44: 1 | U44: =0.5 * P44 * (R44^2) * Q44 * N44 -> 50084.796 | V44: =(0.5 * P44 * Q44 * N44) / O44 -> 0.760454 | W44: =(1 / V44) * LN(R44 / S44) -> 10.104219
B45: 7 | C45: =('Size and weight of LO fragments'!M9/1000)*('Size and weight of LO fragments'!N9/1000) -> 0.000375 | D45: =('Size and weight of LO fragments'!S9)/1000 -> 0.00972 | E45: 1000 | F45: 2.1 | G45: ='Size and weight of LO fragments'!U9 -> 2309.5805 | H45: 1 | J45: =0.5 * E45 * (G45^2) * F45 * C45 -> 2100326.3 | K45: =(0.5 * E45 * F45 * C45) / D45 -> 40.509259 | L45: =(1 / K45) * LN(G45 / H45) -> 0.19118644 | N45: =('Size and weight of LO fragments'!M9/1000)*('Size and weight of LO fragments'!R9/1000) -> 0.0001155 | O45: =D45 -> 0.00972 | P45: 1000 | Q45: 0.1 | R45: =G45 -> 2309.5805 | S45: 1 | U45: =0.5 * P45 * (R45^2) * Q45 * N45 -> 30804.786 | V45: =(0.5 * P45 * Q45 * N45) / O45 -> 0.5941358 | W45: =(1 / V45) * LN(R45 / S45) -> 13.035439
B46: 8 | C46: =('Size and weight of LO fragments'!M10/1000)*('Size and weight of LO fragments'!N10/1000) -> 0.000288 | D46: =('Size and weight of LO fragments'!S10)/1000 -> 0.00922 | E46: 1000 | F46: 2.1 | G46: ='Size and weight of LO fragments'!U10 -> 2326.8885 | H46: 1 | J46: =0.5 * E46 * (G46^2) * F46 * C46 -> 1637317.6 | K46: =(0.5 * E46 * F46 * C46) / D46 -> 32.798265 | L46: =(1 / K46) * LN(G46 / H46) -> 0.23636273 | N46: =('Size and weight of LO fragments'!M10/1000)*('Size and weight of LO fragments'!R10/1000) -> 0.00011718 | O46: =D46 -> 0.00922 | P46: 1000 | Q46: 0.1 | R46: =G46 -> 2326.8885 | S46: 1 | U46: =0.5 * P46 * (R46^2) * Q46 * N46 -> 31723.028 | V46: =(0.5 * P46 * Q46 * N46) / O46 -> 0.63546638 | W46: =(1 / V46) * LN(R46 / S46) -> 12.199367
B47: 9 | C47: =('Size and weight of LO fragments'!M11/1000)*('Size and weight of LO fragments'!N11/1000) -> 0.000308 | D47: =('Size and weight of LO fragments'!S11)/1000 -> 0.0081 | E47: 1000 | F47: 2.1 | G47: ='Size and weight of LO fragments'!U11 -> 2366.6159 | H47: 1 | J47: =0.5 * E47 * (G47^2) * F47 * C47 -> 1811321.6 | K47: =(0.5 * E47 * F47 * C47) / D47 -> 39.925926 | L47: =(1 / K47) * LN(G47 / H47) -> 0.19459076 | N47: =('Size and weight of LO fragments'!M11/1000)*('Size and weight of LO fragments'!R11/1000) -> 0.000107415 | O47: =D47 -> 0.0081 | P47: 1000 | Q47: 0.1 | R47: =G47 -> 2366.6159 | S47: 1 | U47: =0.5 * P47 * (R47^2) * Q47 * N47 -> 30080.876 | V47: =(0.5 * P47 * Q47 * N47) / O47 -> 0.66305556 | W47: =(1 / V47) * LN(R47 / S47) -> 11.717293
B48: 10 | C48: =('Size and weight of LO fragments'!M12/1000)*('Size and weight of LO fragments'!N12/1000) -> 0.00036 | D48: =('Size and weight of LO fragments'!S12)/1000 -> 0.0066 | E48: 1000 | F48: 2.1 | G48: ='Size and weight of LO fragments'!U12 -> 2421.9969 | H48: 1 | J48: =0.5 * E48 * (G48^2) * F48 * C48 -> 2217374 | K48: =(0.5 * E48 * F48 * C48) / D48 -> 57.272727 | L48: =(1 / K48) * LN(G48 / H48) -> 0.13605686 | N48: =('Size and weight of LO fragments'!M12/1000)*('Size and weight of LO fragments'!R12/1000) -> 0.00011718 | O48: =D48 -> 0.0066 | P48: 1000 | Q48: 0.1 | R48: =G48 -> 2421.9969 | S48: 1 | U48: =0.5 * P48 * (R48^2) * Q48 * N48 -> 34369.298 | V48: =(0.5 * P48 * Q48 * N48) / O48 -> 0.88772727 | W48: =(1 / V48) * LN(R48 / S48) -> 8.7778622
B49: 11 | C49: =('Size and weight of LO fragments'!M13/1000)*('Size and weight of LO fragments'!N13/1000) -> 0.00036 | D49: =('Size and weight of LO fragments'!S13)/1000 -> 0.0066 | E49: 1000 | F49: 2.1 | G49: ='Size and weight of LO fragments'!U13 -> 2421.9969 | H49: 1 | J49: =0.5 * E49 * (G49^2) * F49 * C49 -> 2217374 | K49: =(0.5 * E49 * F49 * C49) / D49 -> 57.272727 | L49: =(1 / K49) * LN(G49 / H49) -> 0.13605686 | N49: =('Size and weight of LO fragments'!M13/1000)*('Size and weight of LO fragments'!R13/1000) -> 0.00011718 | O49: =D49 -> 0.0066 | P49: 1000 | Q49: 0.1 | R49: =G49 -> 2421.9969 | S49: 1 | U49: =0.5 * P49 * (R49^2) * Q49 * N49 -> 34369.298 | V49: =(0.5 * P49 * Q49 * N49) / O49 -> 0.88772727 | W49: =(1 / V49) * LN(R49 / S49) -> 8.7778622
B50: 12 | C50: =('Size and weight of LO fragments'!M14/1000)*('Size and weight of LO fragments'!N14/1000) -> 0.00036 | D50: =('Size and weight of LO fragments'!S14)/1000 -> 0.0066 | E50: 1000 | F50: 2.1 | G50: ='Size and weight of LO fragments'!U14 -> 2421.9969 | H50: 1 | J50: =0.5 * E50 * (G50^2) * F50 * C50 -> 2217374 | K50: =(0.5 * E50 * F50 * C50) / D50 -> 57.272727 | L50: =(1 / K50) * LN(G50 / H50) -> 0.13605686 | N50: =('Size and weight of LO fragments'!M14/1000)*('Size and weight of LO fragments'!R14/1000) -> 0.00011718 | O50: =D50 -> 0.0066 | P50: 1000 | Q50: 0.1 | R50: =G50 -> 2421.9969 | S50: 1 | U50: =0.5 * P50 * (R50^2) * Q50 * N50 -> 34369.298 | V50: =(0.5 * P50 * Q50 * N50) / O50 -> 0.88772727 | W50: =(1 / V50) * LN(R50 / S50) -> 8.7778622
... B74: 36 | C74: =('Size and weight of LO fragments'!M38/1000)*('Size and weight of LO fragments'!N38/1000) -> 6.5e-05 | D74: =('Size and weight of LO fragments'!S38)/1000 -> 0.00096 | E74: 1000 | F74: 2.1 | G74: ='Size and weight of LO fragments'!U38 -> 2655.662 | H74: 1 | J74: =0.5 * E74 * (G74^2) * F74 * C74 -> 481335.9 | K74: =(0.5 * E74 * F74 * C74) / D74 -> 71.09375 | L74: =(1 / K74) * LN(G74 / H74) -> 0.11090214 | N74: =('Size and weight of LO fragments'!M38/1000)*('Size and weight of LO fragments'!R38/1000) -> 6.34725e-05 | O74: =D74 -> 0.00096 | P74: 1000 | Q74: 0.1 | R74: =G74 -> 2655.662 | S74: 1 | U74: =0.5 * P74 * (R74^2) * Q74 * N74 -> 22382.119 | V74: =(0.5 * P74 * Q74 * N74) / O74 -> 3.3058594 | W74: =(1 / V74) * LN(R74 / S74) -> 2.3849923
C76: C
C77: Best case | N77: Worst case
B78: Fragment | C78: Surface Area | D78: Mass of object | E78: Density of water | F78: Drag Coefficient | G78: Initial velocity | H78: Final velocity | J78: Drag Force | K78: Constant | L78: Stopping distance | N78: Surface Area | O78: Mass of object | P78: Density of water | Q78: Drag Coefficient | R78: Initial velocity | S78: Final velocity | U78: Drag Force | V78: Constant | W78: Stopping distance
...

Sheet Weibull Distribution
A2: LO | C2: Tank A
B4: Fragment | C4: Surface Area | D4: Mass of object | E4: Rank | F4: Rank Proportion | G4: Log of Mass Data | H4: Log of Complement Probability
C5: A | D5: m
C6: m2 | D6: kg
B7: 1 | C7: =('Size and weight of LO fragments'!B3/1000)*('Size and weight of LO fragments'!C3/1000) -> 0.013832 | D7: =('Size and weight of LO fragments'!H3)/1000 -> 0.28806 | E7: 26 | F7: =(E7-0.5)/COUNT(D$7:D$32) -> 0.98076923 | G7: =LN(D7) -> -1.2445865 | H7: =LN(-LN(1-F7)) -> 1.3740304
B8: 2 | C8: ='Size and weight of LO fragments'!B4*'Size and weight of LO fragments'!C4 -> 1548 | D8: =('Size and weight of LO fragments'!H4)/1000 -> 0.06795 | E8: 25 | F8: =(E8-0.5)/COUNT(D$7:D$32) -> 0.94230769 | G8: =LN(D8) -> -2.6889831 | H8: =LN(-LN(1-F8)) -> 1.0482419
B9: 3 | C9: ='Size and weight of LO fragments'!B5*'Size and weight of LO fragments'!C5 -> 840 | D9: =('Size and weight of LO fragments'!H5)/1000 -> 0.02624 | E9: 24 | F9: =(E9-0.5)/COUNT(D$7:D$32) -> 0.90384615 | G9: =LN(D9) -> -3.6404703 | H9: =LN(-LN(1-F9)) -> 0.85092234
B10: 4 | C10: ='Size and weight of LO fragments'!B6*'Size and weight of LO fragments'!C6 -> 525 | D10: =('Size and weight of LO fragments'!H6)/1000 -> 0.01632 | E10: 23 | F10: =(E10-0.5)/COUNT(D$7:D$32) -> 0.86538462 | G10: =LN(D10) -> -4.1153639 | H10: =LN(-LN(1-F10)) -> 0.69581042
B11: 5 | C11: ='Size and weight of LO fragments'!B7*'Size and weight of LO fragments'!C7 -> 525 | D11: =('Size and weight of LO fragments'!H7)/1000 -> 0.01582 | E11: 22 | F11: =(E11-0.5)/COUNT(D$7:D$32) -> 0.82692308 | G11: =LN(D11) -> -4.1464803 | H11: =LN(-LN(1-F11)) -> 0.56190981
B12: 6 | C12: ='Size and weight of LO fragments'!B8*'Size and weight of LO fragments'!C8 -> 475 | D12: =('Size and weight of LO fragments'!H8)/1000 -> 0.01547 | E12: 21 | F12: =(E12-0.5)/COUNT(D$7:D$32) -> 0.78846154 | G12: =LN(D12) -> -4.1688526 | H12: =LN(-LN(1-F12)) -> 0.44041289
B13: 7 | C13: ='Size and weight of LO fragments'!B9*'Size and weight of LO fragments'!C9 -> 550 | D13: =('Size and weight of LO fragments'!H9)/1000 -> 0.01494 | E13: 20 | F13: =(E13-0.5)/COUNT(D$7:D$32) -> 0.75 | G13: =LN(D13) -> -4.2037131 | H13: =LN(-LN(1-F13)) -> 0.32663426
B14: 8 | C14: ='Size and weight of LO fragments'!B10*'Size and weight of LO fragments'!C10 -> 500 | D14: =('Size and weight of LO fragments'!H10)/1000 -> 0.00895 | E14: 19 | F14: =(E14-0.5)/COUNT(D$7:D$32) -> 0.71153846 | G14: =LN(D14) -> -4.7161017 | H14: =LN(-LN(1-F14)) -> 0.21768349
B15: 9 | C15: ='Size and weight of LO fragments'!B11*'Size and weight of LO fragments'!C11 -> 210 | D15: =('Size and weight of LO fragments'!H11)/1000 -> 0.00298 | E15: 18 | F15: =(E15-0.5)/COUNT(D$7:D$32) -> 0.67307692 | G15: =LN(D15) -> -5.815832 | H15: =LN(-LN(1-F15)) -> 0.11156854
B16: 10 | C16: ='Size and weight of LO fragments'!B12*'Size and weight of LO fragments'!C12 -> 120 | D16: =('Size and weight of LO fragments'!H12)/1000 -> 0.00276 | E16: 17 | F16: =(E16-0.5)/COUNT(D$7:D$32) -> 0.63461538 | G16: =LN(D16) -> -5.8925246 | H16: =LN(-LN(1-F16)) -> 0.0067816917
B17: 11 | C17: ='Size and weight of LO fragments'!B13*'Size and weight of LO fragments'!C13 -> 120 | D17: =('Size and weight of LO fragments'!H13)/1000 -> 0.00276 | E17: 16 | F17: =(E17-0.5)/COUNT(D$7:D$32) -> 0.59615385 | G17: =LN(D17) -> -5.8925246 | H17: =LN(-LN(1-F17)) -> -0.097920174
B18: 12 | C18: ='Size and weight of LO fragments'!B14*'Size and weight of LO fragments'!C14 -> 120 | D18: =('Size and weight of LO fragments'!H14)/1000 -> 0.00276 | E18: 15 | F18: =(E18-0.5)/COUNT(D$7:D$32) -> 0.55769231 | G18: =LN(D18) -> -5.8925246 | H18: =LN(-LN(1-F18)) -> -0.20364795
B19: 13 | C19: ='Size and weight of LO fragments'!B15*'Size and weight of LO fragments'!C15 -> 44 | D19: =('Size and weight of LO fragments'!H15)/1000 -> 0.0005 | E19: 14 | F19: =(E19-0.5)/COUNT(D$7:D$32) -> 0.51923077 | G19: =LN(D19) -> -7.6009025 | H19: =LN(-LN(1-F19)) -> -0.3114723
... B32: 26 | C32: ='Size and weight of LO fragments'!B28*'Size and weight of LO fragments'!C28 -> 44 | D32: =('Size and weight of LO fragments'!H28)/1000 -> 0.0005 | E32: 1 | F32: =(E32-0.5)/COUNT(D$7:D$32) -> 0.019230769 | G32: =LN(D32) -> -7.6009025 | H32: =LN(-LN(1-F32)) -> -3.9415504
C34: Tank B
B36: Fragment | C36: Surface Area | D36: Mass of object | F36: Rank Proportion
C37: A | D37: m
C38: m2 | D38: kg
B39: 1 | C39: =('Size and weight of LO fragments'!M3/1000)*('Size and weight of LO fragments'!N3/1000) -> 0.006674 | D39: =('Size and weight of LO fragments'!S3)/1000 -> 0.27007 | E39: 36 | F39: =(E39-0.5)/COUNT(D$39:D$74) -> 0.98611111 | G39: =LN(D39) -> -1.3090741 | H39: =LN(-LN(1-F39)) -> 1.4531738
B40: 2 | C40: =('Size and weight of LO fragments'!M4/1000)*('Size and weight of LO fragments'!N4/1000) -> 0.003 | D40: =('Size and weight of LO fragments'!S4)/1000 -> 0.08546 | E40: 35 | F40: =(E40-0.5)/COUNT(D$39:D$74) -> 0.95833333 | G40: =LN(D40) -> -2.4597068 | H40: =LN(-LN(1-F40)) -> 1.156269
B41: 3 | C41: =('Size and weight of LO fragments'!M5/1000)*('Size and weight of LO fragments'!N5/1000) -> 0.001704 | D41: =('Size and weight of LO fragments'!S5)/1000 -> 0.03454 | E41: 34 | F41: =(E41-0.5)/COUNT(D$39:D$74) -> 0.93055556 | G41: =LN(D41) -> -3.3656372 | H41: =LN(-LN(1-F41)) -> 0.98103981
B42: 4 | C42: =('Size and weight of LO fragments'!M6/1000)*('Size and weight of LO fragments'!N6/1000) -> 0.00091 | D42: =('Size and weight of LO fragments'!S6)/1000 -> 0.02535 | E42: 33 | F42: =(E42-0.5)/COUNT(D$39:D$74) -> 0.90277778 | G42: =LN(D42) -> -3.6749765 | H42: =LN(-LN(1-F42)) -> 0.84619267
B43: 5 | C43: =('Size and weight of LO fragments'!M7/1000)*('Size and weight of LO fragments'!N7/1000) -> 0.000473 | D43: =('Size and weight of LO fragments'!S7)/1000 -> 0.02001 | E43: 32 | F43: =(E43-0.5)/COUNT(D$39:D$74) -> 0.875 | G43: =LN(D43) -> -3.9115231 | H43: =LN(-LN(1-F43)) -> 0.73209937
B44: 6 | C44: =('Size and weight of LO fragments'!M8/1000)*('Size and weight of LO fragments'!N8/1000) -> 0.000418 | D44: =('Size and weight of LO fragments'!S8)/1000 -> 0.01395 | E44: 31 | F44: =(E44-0.5)/COUNT(D$39:D$74) -> 0.84722222 | G44: =LN(D44) -> -4.2722758 | H44: =LN(-LN(1-F44)) -> 0.63061776
B45: 7 | C45: =('Size and weight of LO fragments'!M9/1000)*('Size and weight of LO fragments'!N9/1000) -> 0.000375 | D45: =('Size and weight of LO fragments'!S9)/1000 -> 0.00972 | E45: 30 | F45: =(E45-0.5)/COUNT(D$39:D$74) -> 0.81944444 | G45: =LN(D45) -> -4.6335697 | H45: =LN(-LN(1-F45)) -> 0.53749682
B46: 8 | C46: =('Size and weight of LO fragments'!M10/1000)*('Size and weight of LO fragments'!N10/1000) -> 0.000288 | D46: =('Size and weight of LO fragments'!S10)/1000 -> 0.00922 | E46: 29 | F46: =(E46-0.5)/COUNT(D$39:D$74) -> 0.79166667 | G46: =LN(D46) -> -4.6863802 | H46: =LN(-LN(1-F46)) -> 0.45019365
