Workbook

Sheet Size and weight of LO fragments
A1: Tank A | L1: Tank B | W1: Tank C
A2: Fragment No. | B2: Length (mm) | C2: Width (mm) | G2: Depth | H2: Weight (g) | I2: NA | J2: VOD | L2: Fragment No. | M2: Length (mm) | N2: Width (mm) | S2: Weight (g) | T2: NA | U2: VOD | W2: Fragment No. | X2: Length (mm) | Y2: Width (mm) | AD2: Weight (g) | AE2: NA | AF2: Velocity of Detonation
A3: 1 | B3: 133 | C3: 104 | D3: 2.5 | E3: 3.03 | F3: 2.82 | G3: =AVERAGE(D3:F3) -> 2.7833333 | H3: 288.06 | I3: =(H3/115+1/2)^-1/2 -> 0.16639657 | J3: =2700*I3 -> 449.27075 | L3: 1 | M3: 142 | N3: 47 | O3: 3.76 | P3: 3.15 | Q3: 3.81 | R3: =AVERAGE(O3:Q3) -> 3.5733333 | S3: 270.07 | T3: =(S3/115+1/2)^-1/2 -> 0.175535 | U3: =2700*T3 -> 473.9445 | W3: 1 | X3: 150 | Y3: 34 | Z3: 3.72 | AA3: 3.84 | AB3: 3.81 | AC3: =AVERAGE(Z3:AB3) -> 3.79 | AD3: 392.6 | AE3: =(AD3/115+1/2)^-1/2 -> 0.12774939 | AF3: =2700*AE3 -> 344.92335
A4: 2 | B4: 43 | C4: 36 | D4: 5.13 | E4: 3.89 | F4: 6.15 | G4: =AVERAGE(D4:F4) -> 5.0566667 | H4: 67.95 | I4: =(H4/115+1/2)^-1/2 -> 0.45834994 | J4: =2700*I4 -> 1237.5448 | L4: 2 | M4: 75 | N4: 40 | O4: 3.25 | P4: 3.72 | Q4: 3.14 | R4: =AVERAGE(O4:Q4) -> 3.37 | S4: 85.46 | T4: =(S4/115+1/2)^-1/2 -> 0.40221041 | U4: =2700*T4 -> 1085.9681 | W4: 2 | X4: 43 | Y4: 25 | Z4: 6.58 | AA4: 6.63 | AB4: 5.78 | AC4: =AVERAGE(Z4:AB4) -> 6.33 | AD4: 49.11 | AE4: =(AD4/115+1/2)^-1/2 -> 0.53934903 | AF4: =2700*AE4 -> 1456.2424
A5: 3 | B5: 35 | C5: 24 | D5: 4.89 | E5: 5.37 | F5: 5.59 | G5: =AVERAGE(D5:F5) -> 5.2833333 | H5: 26.24 | I5: =(H5/115+1/2)^-1/2 -> 0.68664915 | J5: =2700*I5 -> 1853.9527 | L5: 3 | M5: 71 | N5: 24 | O5: 3.58 | P5: 4.39 | Q5: 4.77 | R5: =AVERAGE(O5:Q5) -> 4.2466667 | S5: 34.54 | T5: =(S5/115+1/2)^-1/2 -> 0.62472838 | U5: =2700*T5 -> 1686.7666 | W5: 3 | X5: 36 | Y5: 26 | Z5: 6.38 | AA5: 6.02 | AB5: 4.26 | AC5: =AVERAGE(Z5:AB5) -> 5.5533333 | AD5: 32.13 | AE5: =(AD5/115+1/2)^-1/2 -> 0.64152627 | AF5: =2700*AE5 -> 1732.1209
A6: 4 | B6: 25 | C6: 21 | D6: 6.46 | E6: 5.55 | F6: 5.17 | G6: =AVERAGE(D6:F6) -> 5.7266667 | H6: 16.32 | I6: =(H6/115+1/2)^-1/2 -> 0.7789217 | J6: =2700*I6 -> 2103.0886 | K6: =AVERAGE(H4:H9,S4:S8) -> 30.55 | L6: 4 | M6: 35 | N6: 26 | O6: 5.47 | P6: 5.92 | Q6: 6.11 | R6: =AVERAGE(O6:Q6) -> 5.8333333 | S6: 25.35 | T6: =(S6/115+1/2)^-1/2 -> 0.69402535 | U6: =2700*T6 -> 1873.8684 | W6: 4 | X6: 35 | Y6: 25 | Z6: 5.17 | AA6: 6.38 | AB6: 5.72 | AC6: =AVERAGE(Z6:AB6) -> 5.7566667 | AD6: 31.19 | AE6: =(AD6/115+1/2)^-1/2 -> 0.64832563 | AF6: =2700*AE6 -> 1750.4792
A7: 5 | B7: 25 | C7: 21 | D7: 6.85 | E7: 6.05 | F7: 6.21 | G7: =AVERAGE(D7:F7) -> 6.37 | H7: 15.82 | I7: =(H7/115+1/2)^-1/2 -> 0.7842335 | J7: =2700*I7 -> 2117.4304 | K7: =_xlfn.STDEV.S(H4:H9,S4:S8) -> 23.984579 | L7: 5 | M7: 43 | N7: 11 | O7: 5.58 | P7: 4.38 | Q7: 6.26 | R7: =AVERAGE(O7:Q7) -> 5.4066667 | S7: 20.01 | T7: =(S7/115+1/2)^-1/2 -> 0.74183976 | U7: =2700*T7 -> 2002.9674 | W7: 5 | X7: 35 | Y7: 25 | Z7: 6.01 | AA7: 5.76 | AB7: 4.82 | AC7: =AVERAGE(Z7:AB7) -> 5.53 | AD7: 30.88 | AE7: =(AD7/115+1/2)^-1/2 -> 0.65059968 | AF7: =2700*AE7 -> 1756.6191
A8: 6 | B8: 25 | C8: 19 | D8: 6.9 | E8: 6.27 | F8: 6.66 | G8: =AVERAGE(D8:F8) -> 6.61 | H8: 15.47 | I8: =(H8/115+1/2)^-1/2 -> 0.78799507 | J8: =2700*I8 -> 2127.5867 | L8: 6 | M8: 38 | N8: 11 | O8: 4.95 | P8: 6.57 | Q8: 5.23 | R8: =AVERAGE(O8:Q8) -> 5.5833333 | S8: 13.95 | T8: =(S8/115+1/2)^-1/2 -> 0.80475857 | U8: =2700*T8 -> 2172.8481 | W8: 6 | X8: 25 | Y8: 20 | Z8: 6.31 | AA8: 5.61 | AB8: 5.12 | AC8: =AVERAGE(Z8:AB8) -> 5.68 | AD8: 15.2 | AE8: =(AD8/115+1/2)^-1/2 -> 0.7909216 | AF8: =2700*AE8 -> 2135.4883
A9: 7 | B9: 25 | C9: 22 | D9: 6.1 | E9: 4.47 | F9: 5.8 | G9: =AVERAGE(D9:F9) -> 5.4566667 | H9: 14.94 | I9: =(H9/115+1/2)^-1/2 -> 0.79376035 | J9: =2700*I9 -> 2143.153 | L9: 7 | M9: 25 | N9: 15 | O9: 4.36 | P9: 4.88 | R9: =AVERAGE(O9:P9) -> 4.62 | S9: 9.72 | T9: =(S9/115+1/2)^-1/2 -> 0.85540018 | U9: =2700*T9 -> 2309.5805 | W9: 7 | X9: 20 | Y9: 15 | Z9: 5.52 | AC9: =AVERAGE(Z$9:Z$13) -> 4.85 | AD9: 4.89 | AE9: =(AD9/115+1/2)^-1/2 -> 0.92162205 | AF9: =2700*AE9 -> 2488.3795
A10: 8 | B10: 25 | C10: 20 | D10: 3.68 | G10: =AVERAGE(D$10:D$11) -> 3.495 | H10: 8.95 | I10: =(H10/115+1/2)^-1/2 -> 0.86531226 | J10: =2700*I10 -> 2336.3431 | L10: 8 | M10: 24 | N10: 12 | O10: 4.83 | R10: =AVERAGE(O$10:O$13) -> 4.8825 | S10: 9.22 | T10: =(S10/115+1/2)^-1/2 -> 0.86181055 | U10: =2700*T10 -> 2326.8885 | W10: 8 | X10: 22 | Y10: 9 | Z10: 8.77 | AC10: =AVERAGE(Z$9:Z$13) -> 4.85 | AD10: 3.49 | AE10: =(AD10/115+1/2)^-1/2 -> 0.9427775 | AF10: =2700*AE10 -> 2545.4993
A11: 9 | B11: 21 | C11: 10 | D11: 3.31 | G11: =AVERAGE(D$10:D$11) -> 3.495 | H11: 2.98 | I11: =(H11/115+1/2)^-1/2 -> 0.95072751 | J11: =2700*I11 -> 2566.9643 | L11: 9 | M11: 22 | N11: 14 | O11: 4.25 | R11: =AVERAGE(O$10:O$13) -> 4.8825 | S11: 8.1 | T11: =(S11/115+1/2)^-1/2 -> 0.87652439 | U11: =2700*T11 -> 2366.6159 | W11: 9 | X11: 15 | Y11: 10 | Z11: 3.59 | AC11: =AVERAGE(Z$9:Z$13) -> 4.85 | AD11: 2.67 | AE11: =(AD11/115+1/2)^-1/2 -> 0.95562573 | AF11: =2700*AE11 -> 2580.1895
A12: 10 | B12: 12 | C12: 10 | G12: =AVERAGE(D$10:D$11) -> 3.495 | H12: 2.76 | I12: =(H12/115+1/2)^-1/2 -> 0.95419847 | J12: =2700*I12 -> 2576.3359 | L12: 10 | M12: 24 | N12: 15 | O12: 6.77 | R12: =AVERAGE(O$10:O$13) -> 4.8825 | S12: 6.6 | T12: =(S12/115+1/2)^-1/2 -> 0.89703588 | U12: =2700*T12 -> 2421.9969 | W12: 10 | X12: 12 | Y12: 7 | Z12: 3.06 | AC12: =AVERAGE(Z$9:Z$13) -> 4.85 | AD12: 1.74 | AE12: =(AD12/115+1/2)^-1/2 -> 0.97062795 | AF12: =2700*AE12 -> 2620.6955
A13: 11 | B13: 12 | C13: 10 | G13: =AVERAGE(D$10:D$11) -> 3.495 | H13: 2.76 | I13: =(H13/115+1/2)^-1/2 -> 0.95419847 | J13: =2700*I13 -> 2576.3359 | L13: 11 | M13: 24 | N13: 15 | O13: 3.68 | R13: =AVERAGE(O$10:O$13) -> 4.8825 | S13: 6.6 | T13: =(S13/115+1/2)^-1/2 -> 0.89703588 | U13: =2700*T13 -> 2421.9969 | W13: 11 | X13: 14 | Y13: 5 | Z13: 3.31 | AC13: =AVERAGE(Z$9:Z$13) -> 4.85 | AD13: 1.38 | AE13: =(AD13/115+1/2)^-1/2 -> 0.9765625 | AF13: =2700*AE13 -> 2636.7188
A14: 12 | B14: 12 | C14: 10 | G14: =AVERAGE(D$10:D$11) -> 3.495 | H14: 2.76 | I14: =(H14/115+1/2)^-1/2 -> 0.95419847 | J14: =2700*I14 -> 2576.3359 | L14: 12 | M14: 24 | N14: 15 | R14: =AVERAGE(O$10:O$13) -> 4.8825 | S14: 6.6 | T14: =(S14/115+1/2)^-1/2 -> 0.89703588 | U14: =2700*T14 -> 2421.9969
A15: 13 | B15: 11 | C15: 4 | G15: =AVERAGE(D$10:D$11) -> 3.495 | H15: 0.5 | I15: =(H15/115+1/2)^-1/2 -> 0.99137931 | J15: =2700*I15 -> 2676.7241 | L15: 13 | M15: 24 | N15: 15 | R15: =AVERAGE(O$10:O$13) -> 4.8825 | S15: 6.6 | T15: =(S15/115+1/2)^-1/2 -> 0.89703588 | U15: =2700*T15 -> 2421.9969 | W15: AVG | X15: =AVERAGE(X3:X13) -> 37 | Y15: =AVERAGE(Y3:Y13) -> 18.272727 | AD15: =AVERAGE(AD3:AD13) -> 51.389091 | AF15: =AVERAGE(AF3:AF13) -> 2004.3051
A16: 14 | B16: 11 | C16: 4 | G16: =AVERAGE(D$10:D$11) -> 3.495 | H16: 0.5 | I16: =(H16/115+1/2)^-1/2 -> 0.99137931 | J16: =2700*I16 -> 2676.7241 | L16: 14 | M16: 24 | N16: 15 | R16: =AVERAGE(O$10:O$13) -> 4.8825 | S16: 6.6 | T16: =(S16/115+1/2)^-1/2 -> 0.89703588 | U16: =2700*T16 -> 2421.9969
A17: 15 | B17: 11 | C17: 4 | G17: =AVERAGE(D$10:D$11) -> 3.495 | H17: 0.5 | I17: =(H17/115+1/2)^-1/2 -> 0.99137931 | J17: =2700*I17 -> 2676.7241 | L17: 15 | M17: 14 | N17: 13 | R17: =AVERAGE(O$10:O$13) -> 4.8825 | S17: 4.69 | T17: =(S17/115+1/2)^-1/2 -> 0.92458595 | U17: =2700*T17 -> 2496.3821 | X17: =_xlfn.STDEV.P(H3:H28,S3:S38,AD3:AD13) -> 63.901269
A18: 16 | B18: 11 | C18: 4 | G18: =AVERAGE(D$10:D$11) -> 3.495 | H18: 0.5 | I18: =(H18/115+1/2)^-1/2 -> 0.99137931 | J18: =2700*I18 -> 2676.7241 | L18: 16 | M18: 14 | N18: 13 | R18: =AVERAGE(O$10:O$13) -> 4.8825 | S18: 4.69 | T18: =(S18/115+1/2)^-1/2 -> 0.92458595 | U18: =2700*T18 -> 2496.3821
A19: 17 | B19: 11 | C19: 4 | G19: =AVERAGE(D$10:D$11) -> 3.495 | H19: 0.5 | I19: =(H19/115+1/2)^-1/2 -> 0.99137931 | J19: =2700*I19 -> 2676.7241 | L19: 17 | M19: 14 | N19: 13 | R19: =AVERAGE(O$10:O$13) -> 4.8825 | S19: 4.69 | T19: =(S19/115+1/2)^-1/2 -> 0.92458595 | U19: =2700*T19 -> 2496.3821 | X19: =AVERAGE(H3:H28,S3:S38,AD3:AD13) -> 21.681507
A20: 18 | B20: 11 | C20: 4 | G20: =AVERAGE(D$10:D$11) -> 3.495 | H20: 0.5 | I20: =(H20/115+1/2)^-1/2 -> 0.99137931 | J20: =2700*I20 -> 2676.7241 | L20: 18 | M20: 14 | N20: 13 | R20: =AVERAGE(O$10:O$13) -> 4.8825 | S20: 4.69 | T20: =(S20/115+1/2)^-1/2 -> 0.92458595 | U20: =2700*T20 -> 2496.3821
A21: 19 | B21: 11 | C21: 4 | G21: =AVERAGE(D$10:D$11) -> 3.495 | H21: 0.5 | I21: =(H21/115+1/2)^-1/2 -> 0.99137931 | J21: =2700*I21 -> 2676.7241 | L21: 19 | M21: 13 | N21: 5 | R21: =AVERAGE(O$10:O$13) -> 4.8825 | S21: 0.96 | T21: =(S21/115+1/2)^-1/2 -> 0.98357852 | U21: =2700*T21 -> 2655.662
A22: 20 | B22: 11 | C22: 4 | G22: =AVERAGE(D$10:D$11) -> 3.495 | H22: 0.5 | I22: =(H22/115+1/2)^-1/2 -> 0.99137931 | J22: =2700*I22 -> 2676.7241 | L22: 20 | M22: 13 | N22: 5 | R22: =AVERAGE(O$10:O$13) -> 4.8825 | S22: 0.96 | T22: =(S22/115+1/2)^-1/2 -> 0.98357852 | U22: =2700*T22 -> 2655.662
A23: 21 | B23: 11 | C23: 4 | G23: =AVERAGE(D$10:D$11) -> 3.495 | H23: 0.5 | I23: =(H23/115+1/2)^-1/2 -> 0.99137931 | J23: =2700*I23 -> 2676.7241 | L23: 21 | M23: 13 | N23: 5 | R23: =AVERAGE(O$10:O$13) -> 4.8825 | S23: 0.96 | T23: =(S23/115+1/2)^-1/2 -> 0.98357852 | U23: =2700*T23 -> 2655.662
A24: 22 | B24: 11 | C24: 4 | G24: =AVERAGE(D$10:D$11) -> 3.495 | H24: 0.5 | I24: =(H24/115+1/2)^-1/2 -> 0.99137931 | J24: =2700*I24 -> 2676.7241 | L24: 22 | M24: 13 | N24: 5 | R24: =AVERAGE(O$10:O$13) -> 4.8825 | S24: 0.96 | T24: =(S24/115+1/2)^-1/2 -> 0.98357852 | U24: =2700*T24 -> 2655.662
A25: 23 | B25: 11 | C25: 4 | G25: =AVERAGE(D$10:D$11) -> 3.495 | H25: 0.5 | I25: =(H25/115+1/2)^-1/2 -> 0.99137931 | J25: =2700*I25 -> 2676.7241 | L25: 23 | M25: 13 | N25: 5 | R25: =AVERAGE(O$10:O$13) -> 4.8825 | S25: 0.96 | T25: =(S25/115+1/2)^-1/2 -> 0.98357852 | U25: =2700*T25 -> 2655.662
A26: 24 | B26: 11 | C26: 4 | G26: =AVERAGE(D$10:D$11) -> 3.495 | H26: 0.5 | I26: =(H26/115+1/2)^-1/2 -> 0.99137931 | J26: =2700*I26 -> 2676.7241 | L26: 24 | M26: 13 | N26: 5 | R26: =AVERAGE(O$10:O$13) -> 4.8825 | S26: 0.96 | T26: =(S26/115+1/2)^-1/2 -> 0.98357852 | U26: =2700*T26 -> 2655.662
A27: 25 | B27: 11 | C27: 4 | G27: =AVERAGE(D$10:D$11) -> 3.495 | H27: 0.5 | I27: =(H27/115+1/2)^-1/2 -> 0.99137931 | J27: =2700*I27 -> 2676.7241 | L27: 25 | M27: 13 | N27: 5 | R27: =AVERAGE(O$10:O$13) -> 4.8825 | S27: 0.96 | T27: =(S27/115+1/2)^-1/2 -> 0.98357852 | U27: =2700*T27 -> 2655.662
A28: 26 | B28: 11 | C28: 4 | G28: =AVERAGE(D$10:D$11) -> 3.495 | H28: 0.5 | I28: =(H28/115+1/2)^-1/2 -> 0.99137931 | J28: =2700*I28 -> 2676.7241 | L28: 26 | M28: 13 | N28: 5 | R28: =AVERAGE(O$10:O$13) -> 4.8825 | S28: 0.96 | T28: =(S28/115+1/2)^-1/2 -> 0.98357852 | U28: =2700*T28 -> 2655.662
H29: =SUM(H15:H28) -> 7 | L29: 27 | M29: 13 | N29: 5 | R29: =AVERAGE(O$10:O$13) -> 4.8825 | S29: 0.96 | T29: =(S29/115+1/2)^-1/2 -> 0.98357852 | U29: =2700*T29 -> 2655.662
A30: AVG | B30: =AVERAGE(B3:B28) -> 21.038462 | C30: =AVERAGE(C3:C28) -> 13.961538 | H30: =AVERAGE(H3:H28) -> 18.154231 | J30: =AVERAGE(J3:J28) -> 2389.9415 | L30: 28 | M30: 13 | N30: 5 | R30: =AVERAGE(O$10:O$13) -> 4.8825 | S30: 0.96 | T30: =(S30/115+1/2)^-1/2 -> 0.98357852 | U30: =2700*T30 -> 2655.662
L31: 29 | M31: 13 | N31: 5 | R31: =AVERAGE(O$10:O$13) -> 4.8825 | S31: 0.96 | T31: =(S31/115+1/2)^-1/2 -> 0.98357852 | U31: =2700*T31 -> 2655.662
B32: =MEDIAN(B3:B28) -> 11 | C32: =MEDIAN(C3:C28) -> 4 | H32: =MEDIAN(H3:H28) -> 0.5 | L32: 30 | M32: 13 | N32: 5 | R32: =AVERAGE(O$10:O$13) -> 4.8825 | S32: 0.96 | T32: =(S32/115+1/2)^-1/2 -> 0.98357852 | U32: =2700*T32 -> 2655.662
L33: 31 | M33: 13 | N33: 5 | R33: =AVERAGE(O$10:O$13) -> 4.8825 | S33: 0.96 | T33: =(S33/115+1/2)^-1/2 -> 0.98357852 | U33: =2700*T33 -> 2655.662
L34: 32 | M34: 13 | N34: 5 | R34: =AVERAGE(O$10:O$13) -> 4.8825 | S34: 0.96 | T34: =(S34/115+1/2)^-1/2 -> 0.98357852 | U34: =2700*T34 -> 2655.662
L35: 33 | M35: 13 | N35: 5 | R35: =AVERAGE(O$10:O$13) -> 4.8825 | S35: 0.96 | T35: =(S35/115+1/2)^-1/2 -> 0.98357852 | U35: =2700*T35 -> 2655.662
L36: 34 | M36: 13 | N36: 5 | R36: =AVERAGE(O$10:O$13) -> 4.8825 | S36: 0.96 | T36: =(S36/115+1/2)^-1/2 -> 0.98357852 | U36: =2700*T36 -> 2655.662
L37: 35 | M37: 13 | N37: 5 | R37: =AVERAGE(O$10:O$13) -> 4.8825 | S37: 0.96 | T37: =(S37/115+1/2)^-1/2 -> 0.98357852 | U37: =2700*T37 -> 2655.662
L38: 36 | M38: 13 | N38: 5 | R38: =AVERAGE(O$10:O$13) -> 4.8825 | S38: 0.96 | T38: =(S38/115+1/2)^-1/2 -> 0.98357852 | U38: =2700*T38 -> 2655.662
L40: AVG | M40: =AVERAGE(M3:M38) -> 24.583333 | N40: =AVERAGE(N3:N38) -> 11.583333 | S40: =AVERAGE(S3:S38) -> 15.151667 | U40: =AVERAGE(U3:U38) -> 2394.3577
M41: =MEDIAN(M3:M38) -> 13.5 | N41: =MEDIAN(N3:N38) -> 8 | S41: =MEDIAN(S3:S38) -> 2.825

Sheet Size and weight of HO fragments
A1: Tank D | M1: Tank E | Y1: Tank F
A2: Fragment No. | B2: Length (mm) | C2: Width (mm) | D2: Height 1 | E2: Height 2 | F2: Height 3 | G2: Height (mm) | H2: Weight (g) | J2: VOD | K2: Weight (Kg) | M2: Fragment No. | N2: Length (mm) | O2: Width (mm) | P2: Height 1 | Q2: Height 2 | R2: Height 3 | S2: Height (mm) | T2: Weight (g) | V2: VOD | W2: Weight (Kg) | Y2: Fragment No. | Z2: Length (mm) | AA2: Width (mm) | AB2: Height 1 | AC2: Height 2 | AD2: Height 3 | AE2: Height (mm) | AF2: Weight (g) | AH2: VOD | AI2: =AVERAGE(H3:H65,T3:T49,AF3:AF61) -> 3.3414793 | AJ2: Weight (Kg)
A3: 1 | B3: 141 | C3: 18 | D3: 4.33 | E3: 4.96 | F3: 4.57 | G3: =AVERAGE(D3:F3) -> 4.62 | H3: 35.56 | I3: =(H3/115+1/2)^-1/2 -> 0.61788094 | J3: =2700*I3 -> 1668.2785 | K3: =H3/1000 -> 0.03556 | L3: =STDEV(J3:J8) -> 156.08021 | M3: 1 | N3: 140 | O3: 20 | P3: 2.38 | Q3: 3.33 | R3: 2.45 | S3: =AVERAGE(P3:R3) -> 2.72 | T3: 36.83 | U3: =(T3/115+1/2)^-1/2 -> 0.60956218 | V3: =2700*U3 -> 1645.8179 | W3: =T3/1000 -> 0.03683 | X3: =STDEV(V3:V6) -> 174.99151 | Y3: 1 | Z3: 140 | AA3: 22 | AB3: 2.11 | AC3: 2.84 | AD3: 2.44 | AE3: =AVERAGE(AB3:AD3) -> 2.4633333 | AF3: 34.97 | AG3: =(AF3/115+1/2)^-1/2 -> 0.62182329 | AH3: =2700*AG3 -> 1678.9229 | AI3: =_xlfn.STDEV.P(H3:H65,T3:T49,AF3:AF61) -> 7.5355008 | AJ3: =AF3/1000 -> 0.03497
A4: 2 | B4: 140 | C4: 16 | D4: 2.35 | E4: 2.39 | F4: 1.65 | G4: =AVERAGE(D4:F4) -> 2.13 | H4: 29.45 | I4: =(H4/115+1/2)^-1/2 -> 0.6612996 | J4: =2700*I4 -> 1785.5089 | K4: =H4/1000 -> 0.02945 | M4: 2 | N4: 140 | O4: 15 | P4: 2.48 | Q4: 2.44 | R4: 1.64 | S4: =AVERAGE(P4:R4) -> 2.1866667 | T4: 28.22 | U4: =(T4/115+1/2)^-1/2 -> 0.67078861 | V4: =2700*U4 -> 1811.1293 | W4: =T4/1000 -> 0.02822 | Y4: 2 | Z4: 138 | AA4: 15 | AB4: 2.51 | AC4: 2.52 | AD4: 2.29 | AE4: =AVERAGE(AB4:AD4) -> 2.44 | AF4: 34.09 | AG4: =(AF4/115+1/2)^-1/2 -> 0.62779779 | AH4: =2700*AG4 -> 1695.054 | AI4: =STDEV(AH3:AH7) -> 218.45229 | AJ4: =AF4/1000 -> 0.03409
A5: 3 | B5: 138 | C5: 12 | D5: 1.72 | E5: 2.7 | F5: 2.55 | G5: =AVERAGE(D5:F5) -> 2.3233333 | H5: 27.79 | I5: =(H5/115+1/2)^-1/2 -> 0.67417048 | J5: =2700*I5 -> 1820.2603 | K5: =H5/1000 -> 0.02779 | M5: 3 | N5: 116 | O5: 13 | P5: 1.63 | Q5: 2.28 | R5: 3.7 | S5: =AVERAGE(P5:R5) -> 2.5366667 | T5: 21.29 | U5: =(T5/115+1/2)^-1/2 -> 0.72978804 | V5: =2700*U5 -> 1970.4277 | W5: =T5/1000 -> 0.02129 | Y5: 3 | Z5: 138 | AA5: 14 | AB5: 4.8 | AC5: 4.47 | AD5: 3.87 | AE5: =AVERAGE(AB5:AD5) -> 4.38 | AF5: 26.09 | AG5: =(AF5/115+1/2)^-1/2 -> 0.68788133 | AH5: =2700*AG5 -> 1857.2796 | AJ5: =AF5/1000 -> 0.02609
A6: 4 | B6: 125 | C6: 13 | D6: 2.29 | E6: 2.47 | F6: 2.49 | G6: =AVERAGE(D6:F6) -> 2.4166667 | H6: 21.85 | I6: =(H6/115+1/2)^-1/2 -> 0.72463768 | J6: =2700*I6 -> 1956.5217 | K6: =H6/1000 -> 0.02185 | M6: 4 | N6: 120 | O6: 9 | P6: 2.5 | Q6: 2.06 | R6: 2.88 | S6: =AVERAGE(P6:R6) -> 2.48 | T6: 18.69 | U6: =(T6/115+1/2)^-1/2 -> 0.75469222 | V6: =2700*U6 -> 2037.669 | W6: =T6/1000 -> 0.01869 | Y6: 4 | Z6: 142 | AA6: 10 | AB6: 3.03 | AC6: 2.98 | AD6: 2.89 | AE6: =AVERAGE(AB6:AD6) -> 2.9666667 | AF6: 23.96 | AG6: =(AF6/115+1/2)^-1/2 -> 0.70586791 | AH6: =2700*AG6 -> 1905.8434 | AJ6: =AF6/1000 -> 0.02396
A7: 5 | B7: 137 | C7: 10 | D7: 2.81 | E7: 2.9 | F7: 2.81 | G7: =AVERAGE(D7:F7) -> 2.84 | H7: 21.83 | I7: =(H7/115+1/2)^-1/2 -> 0.72482037 | J7: =2700*I7 -> 1957.015 | K7: =H7/1000 -> 0.02183 | M7: 5 | N7: 92 | O7: 10 | S7: 2.03 | T7: 8.69 | U7: =(T7/115+1/2)^-1/2 -> 0.86871129 | V7: =2700*U7 -> 2345.5205 | W7: =T7/1000 -> 0.00869 | X7: =STDEV(V7:V49) -> 79.142776 | Y7: 5 | Z7: 81 | AA7: 9 | AB7: 2.66 | AC7: 2.36 | AD7: 2.4 | AE7: =AVERAGE(AB7:AD7) -> 2.4733333 | AF7: 12.44 | AG7: =(AF7/115+1/2)^-1/2 -> 0.82213326 | AH7: =2700*AG7 -> 2219.7598 | AJ7: =AF7/1000 -> 0.01244
A8: 6 | B8: 122 | C8: 13 | D8: 2.3 | E8: 2.11 | F8: 2.86 | G8: =AVERAGE(D8:F8) -> 2.4233333 | H8: 16.09 | I8: =(H8/115+1/2)^-1/2 -> 0.78135616 | J8: =2700*I8 -> 2109.6616 | K8: =H8/1000 -> 0.01609 | M8: 6 | N8: 49.08 | O8: 12.75 | S8: 2.7 | T8: 7.81 | U8: =(T8/115+1/2)^-1/2 -> 0.88041648 | V8: =2700*U8 -> 2377.1245 | W8: =T8/1000 -> 0.00781 | Y8: 6 | Z8: 70.05 | AA8: 10.69 | AB8: 1.79 | AC8: 1.88 | AD8: 2.17 | AE8: 2.22 | AF8: 9.68 | AG8: =(AF8/115+1/2)^-1/2 -> 0.8559095 | AH8: =2700*AG8 -> 2310.9556 | AI8: =STDEV(AH8:AH61) -> 81.493601 | AJ8: =AF8/1000 -> 0.00968
A9: 7 | B9: 38.97 | C9: 8.81 | G9: 2.2 | H9: 3.51 | I9: =(H9/115+1/2)^-1/2 -> 0.94246845 | J9: =2700*I9 -> 2544.6648 | K9: =H9/1000 -> 0.00351 | L9: =STDEV(J9:J65) -> 39.215455 | M9: 7 | N9: 30.44 | O9: 9.33 | S9: 2.39 | T9: 2.46 | U9: =(T9/115+1/2)^-1/2 -> 0.95897265 | V9: =2700*U9 -> 2589.2262 | W9: =T9/1000 -> 0.00246 | Y9: 7 | Z9: 65.71 | AA9: 14.75 | AB9: 2.28 | AC9: 1.93 | AD9: 2.51 | AE9: =AVERAGE(AB9:AD9) -> 2.24 | AF9: 9.13 | AG9: =(AF9/115+1/2)^-1/2 -> 0.86297464 | AH9: =2700*AG9 -> 2330.0315 | AJ9: =AF9/1000 -> 0.00913
A10: 8 | B10: 16.39 | C10: 15.01 | G10: 4.53 | H10: 3.3 | I10: =(H10/115+1/2)^-1/2 -> 0.94572368 | J10: =2700*I10 -> 2553.4539 | K10: =H10/1000 -> 0.0033 | M10: 8 | N10: 41.83 | O10: 15.19 | S10: 2.34 | T10: 5.4 | U10: =(T10/115+1/2)^-1/2 -> 0.91414944 | V10: =2700*U10 -> 2468.2035 | W10: =T10/1000 -> 0.0054 | Y10: 8 | Z10: 46.3 | AA10: 10 | AE10: 2.05 | AF10: 5.7 | AG10: =(AF10/115+1/2)^-1/2 -> 0.90981013 | AH10: =2700*AG10 -> 2456.4873 | AJ10: =AF10/1000 -> 0.0057
A11: 9 | B11: 13.53 | C11: 15.22 | G11: 5.24 | H11: 3.49 | I11: =(H11/115+1/2)^-1/2 -> 0.9427775 | J11: =2700*I11 -> 2545.4993 | K11: =H11/1000 -> 0.00349 | M11: 9 | N11: 16.29 | O11: 12.54 | S11: 4.43 | T11: 3.23 | U11: =(T11/115+1/2)^-1/2 -> 0.94681377 | V11: =2700*U11 -> 2556.3972 | W11: =T11/1000 -> 0.00323 | Y11: 9 | Z11: 26.79 | AA11: 10.6 | AE11: 4.93 | AF11: 5.34 | AG11: =(AF11/115+1/2)^-1/2 -> 0.91502228 | AH11: =2700*AG11 -> 2470.5602 | AJ11: =AF11/1000 -> 0.00534
A12: 10 | B12: 20.1 | C12: 9.94 | G12: 2.24 | H12: 1.48 | I12: =(H12/115+1/2)^-1/2 -> 0.97490675 | J12: =2700*I12 -> 2632.2482 | K12: =H12/1000 -> 0.00148 | M12: 10 | N12: 17.72 | O12: 11.76 | S12: 1.44 | T12: 1.99 | U12: =(T12/115+1/2)^-1/2 -> 0.966549 | V12: =2700*U12 -> 2609.6823 | W12: =T12/1000 -> 0.00199 | Y12: 10 | Z12: 38.67 | AA12: 6.61 | AE12: 2.16 | AF12: 2.37 | AG12: =(AF12/115+1/2)^-1/2 -> 0.96041423 | AH12: =2700*AG12 -> 2593.1184 | AJ12: =AF12/1000 -> 0.00237
A13: 11 | B13: 10.47 | C13: 14.62 | G13: 1.83 | H13: 1.63 | I13: =(H13/115+1/2)^-1/2 -> 0.97243362 | J13: =2700*I13 -> 2625.5708 | K13: =H13/1000 -> 0.00163 | M13: 11 | N13: 17.09 | O13: 10.84 | S13: 2.38 | T13: 1.31 | U13: =(T13/115+1/2)^-1/2 -> 0.97772488 | V13: =2700*U13 -> 2639.8572 | W13: =T13/1000 -> 0.00131 | Y13: 11 | Z13: 24.99 | AA13: 11.54 | AE13: 2.07 | AF13: 4.24 | AG13: =(AF13/115+1/2)^-1/2 -> 0.93132491 | AH13: =2700*AG13 -> 2514.5773 | AJ13: =AF13/1000 -> 0.00424
A14: 12 | B14: 16.5 | C14: 9.23 | G14: 2.2 | H14: 1.6 | I14: =(H14/115+1/2)^-1/2 -> 0.97292724 | J14: =2700*I14 -> 2626.9036 | K14: =H14/1000 -> 0.0016 | M14: 12 | N14: 16.76 | O14: 5.61 | S14: 2.96 | T14: 1.24 | U14: =(T14/115+1/2)^-1/2 -> 0.97889002 | V14: =2700*U14 -> 2643.0031 | W14: =T14/1000 -> 0.00124 | Y14: 12 | Z14: 19.85 | AA14: 14.62 | AE14: 5.47 | AF14: 2.77 | AG14: =(AF14/115+1/2)^-1/2 -> 0.95404015 | AH14: =2700*AG14 -> 2575.9084 | AJ14: =AF14/1000 -> 0.00277
A15: 13 | B15: 13.52 | C15: 12.54 | G15: 4.88 | H15: 2.19 | I15: =(H15/115+1/2)^-1/2 -> 0.96331044 | J15: =2700*I15 -> 2600.9382 | K15: =H15/1000 -> 0.00219 | M15: 13 | N15: 21.82 | O15: 10.64 | S15: 1.71 | T15: 1.57 | U15: =(T15/115+1/2)^-1/2 -> 0.97342136 | V15: =2700*U15 -> 2628.2377 | W15: =T15/1000 -> 0.00157 | Y15: 13 | Z15: 12.95 | AA15: 10.31 | AE15: 5.01 | AF15: 0.48 | AG15: =(AF15/115+1/2)^-1/2 -> 0.99172128 | AH15: =2700*AG15 -> 2677.6475 | AJ15: =AF15/1000 -> 0.00048
A16: 14 | B16: 8.94 | C16: 7.07 | G16: 3.05 | H16: 0.6 | I16: =(H16/115+1/2)^-1/2 -> 0.98967298 | J16: =2700*I16 -> 2672.117 | K16: =H16/1000 -> 0.0006 | M16: 14 | N16: 9.65 | O16: 8.9 | S16: 1.88 | T16: 0.64 | U16: =(T16/115+1/2)^-1/2 -> 0.98899209 | V16: =2700*U16 -> 2670.2786 | W16: =T16/1000 -> 0.00064 | Y16: 14 | Z16: 24.19 | AA16: 9.14 | AE16: 3.15 | AF16: 2.55 | AG16: =(AF16/115+1/2)^-1/2 -> 0.95753539 | AH16: =2700*AG16 -> 2585.3455 | AJ16: =AF16/1000 -> 0.00255
A17: 15 | B17: 22.61 | C17: 10.56 | G17: 3.21 | H17: 2.4 | I17: =(H17/115+1/2)^-1/2 -> 0.95993322 | J17: =2700*I17 -> 2591.8197 | K17: =H17/1000 -> 0.0024 | M17: 15 | N17: 19.05 | O17: 8.16 | S17: 1.59 | T17: 1.36 | U17: =(T17/115+1/2)^-1/2 -> 0.97689433 | V17: =2700*U17 -> 2637.6147 | W17: =T17/1000 -> 0.00136 | Y17: 15 | Z17: 9.83 | AA17: 6.78 | AE17: 2.57 | AF17: 1.18 | AG17: =(AF17/115+1/2)^-1/2 -> 0.97989093 | AH17: =2700*AG17 -> 2645.7055 | AJ17: =AF17/1000 -> 0.00118
A18: 16 | B18: 13.71 | C18: 10.65 | G18: 4.97 | H18: 2.82 | I18: =(H18/115+1/2)^-1/2 -> 0.95324934 | J18: =2700*I18 -> 2573.7732 | K18: =H18/1000 -> 0.00282 | M18: 16 | N18: 16.91 | O18: 9.1 | S18: 3.35 | T18: 1.58 | U18: =(T18/115+1/2)^-1/2 -> 0.9732566 | V18: =2700*U18 -> 2627.7928 | W18: =T18/1000 -> 0.00158 | Y18: 16 | Z18: 11.68 | AA18: 5.11 | AE18: 2.05 | AF18: 0.24 | AG18: =(AF18/115+1/2)^-1/2 -> 0.99584344 | AH18: =2700*AG18 -> 2688.7773 | AJ18: =AF18/1000 -> 0.00024
A19: 17 | B19: 11.15 | C19: 8.96 | G19: 2.1 | H19: 0.81 | I19: =(H19/115+1/2)^-1/2 -> 0.98610873 | J19: =2700*I19 -> 2662.4936 | K19: =H19/1000 -> 0.00081 | M19: 17 | N19: 21.38 | O19: 9.65 | S19: 3.84 | T19: 1.45 | U19: =(T19/115+1/2)^-1/2 -> 0.97540288 | V19: =2700*U19 -> 2633.5878 | W19: =T19/1000 -> 0.00145 | Y19: 17 | Z19: 12.85 | AA19: 11.95 | AE19: 4.79 | AF19: 1.62 | AG19: =(AF19/115+1/2)^-1/2 -> 0.97259811 | AH19: =2700*AG19 -> 2626.0149 | AJ19: =AF19/1000 -> 0.00162
A20: 18 | B20: 11.26 | C20: 8.06 | G20: 4.26 | H20: 1.21 | I20: =(H20/115+1/2)^-1/2 -> 0.97939022 | J20: =2700*I20 -> 2644.3536 | K20: =H20/1000 -> 0.00121 | M20: 18 | N20: 14.81 | O20: 10.46 | S20: 2.35 | T20: 1.49 | U20: =(T20/115+1/2)^-1/2 -> 0.97474148 | V20: =2700*U20 -> 2631.802 | W20: =T20/1000 -> 0.00149 | Y20: 18 | Z20: 15.44 | AA20: 4.66 | AE20: 2.1 | AF20: 0.8 | AG20: =(AF20/115+1/2)^-1/2 -> 0.98627787 | AH20: =2700*AG20 -> 2662.9503 | AJ20: =AF20/1000 -> 0.0008
A21: 19 | B21: 13.15 | C21: 9.21 | G21: 4.29 | H21: 1.33 | I21: =(H21/115+1/2)^-1/2 -> 0.97739249 | J21: =2700*I21 -> 2638.9597 | K21: =H21/1000 -> 0.00133 | M21: 19 | N21: 29.76 | O21: 9.18 | S21: 2.54 | T21: 2.29 | U21: =(T21/115+1/2)^-1/2 -> 0.96169928 | V21: =2700*U21 -> 2596.5881 | W21: =T21/1000 -> 0.00229 | Y21: 19 | Z21: 23.22 | AA21: 6.72 | AE21: 2.46 | AF21: 2.42 | AG21: =(AF21/115+1/2)^-1/2 -> 0.95961282 | AH21: =2700*AG21 -> 2590.9546 | AJ21: =AF21/1000 -> 0.00242
... A49: 47 | B49: 8.39 | C49: 6.31 | G49: 2.61 | H49: 0.34 | I49: =(H49/115+1/2)^-1/2 -> 0.99412172 | J49: =2700*I49 -> 2684.1286 | K49: =H49/1000 -> 0.00034 | M49: 47 | N49: 4.33 | O49: 3.78 | S49: 2.44 | T49: 0.05 | U49: =(T49/115+1/2)^-1/2 -> 0.99913119 | V49: =2700*U49 -> 2697.6542 | W49: =T49/1000 -> 5e-05 | Y49: 47 | Z49: 13.71 | AA49: 6.01 | AE49: 2.3 | AF49: 0.62 | AG49: =(AF49/115+1/2)^-1/2 -> 0.98933242 | AH49: =2700*AG49 -> 2671.1975 | AJ49: =AF49/1000 -> 0.00062
A50: 48 | B50: 6.72 | C50: 6.02 | G50: 2.62 | H50: 0.31 | I50: =(H50/115+1/2)^-1/2 -> 0.99463761 | J50: =2700*I50 -> 2685.5215 | K50: =H50/1000 -> 0.00031 | Y50: 48 | Z50: 10.57 | AA50: 5.64 | AE50: 2.35 | AF50: 0.59 | AG50: =(AF50/115+1/2)^-1/2 -> 0.98984335 | AH50: =2700*AG50 -> 2672.577 | AJ50: =AF50/1000 -> 0.00059
A51: 49 | B51: 6.65 | C51: 4.79 | G51: 1.64 | H51: 0.21 | I51: =(H51/115+1/2)^-1/2 -> 0.99636112 | J51: =2700*I51 -> 2690.175 | K51: =H51/1000 -> 0.00021 | M51: AVG | N51: =AVERAGE(N3:N49) -> 24.349362 | O51: =AVERAGE(O3:O49) -> 7.7802128 | T51: =AVERAGE(T3:T49) -> 3.3744681 | V51: =AVERAGE(V3:V49) -> 2578.9453 | Y51: 49 | Z51: 13.11 | AA51: 10.2 | AE51: 5.26 | AF51: 0.48 | AG51: =(AF51/115+1/2)^-1/2 -> 0.99172128 | AH51: =2700*AG51 -> 2677.6475 | AJ51: =AF51/1000 -> 0.00048
A52: 50 | B52: 6.82 | C52: 4.22 | G52: 2.23 | H52: 0.18 | I52: =(H52/115+1/2)^-1/2 -> 0.99687933 | J52: =2700*I52 -> 2691.5742 | K52: =H52/1000 -> 0.00018 | Y52: 50 | Z52: 7.24 | AA52: 5.27 | AE52: 2.33 | AF52: 0.38 | AG52: =(AF52/115+1/2)^-1/2 -> 0.99343469 | AH52: =2700*AG52 -> 2682.2737 | AJ52: =AF52/1000 -> 0.00038
A53: 51 | B53: 6.66 | C53: 6.32 | G53: 3.22 | H53: 0.35 | I53: =(H53/115+1/2)^-1/2 -> 0.99394987 | J53: =2700*I53 -> 2683.6646 | K53: =H53/1000 -> 0.00035 | Y53: 51 | Z53: 9.42 | AA53: 5.71 | AE53: 2.1 | AF53: 0.33 | AG53: =(AF53/115+1/2)^-1/2 -> 0.99429362 | AH53: =2700*AG53 -> 2684.5928 | AJ53: =AF53/1000 -> 0.00033
A54: 52 | B54: 6.51 | C54: 4.68 | G54: 2.13 | H54: 0.15 | I54: =(H54/115+1/2)^-1/2 -> 0.99739809 | J54: =2700*I54 -> 2692.9748 | K54: =H54/1000 -> 0.00015 | Y54: 52 | Z54: 7.84 | AA54: 5.72 | AE54: 2.18 | AF54: 0.25 | AG54: =(AF54/115+1/2)^-1/2 -> 0.995671 | AH54: =2700*AG54 -> 2688.3117 | AJ54: =AF54/1000 -> 0.00025
A55: 53 | B55: 4.96 | C55: 3.62 | G55: 1.67 | H55: 0.09 | I55: =(H55/115+1/2)^-1/2 -> 0.99843723 | J55: =2700*I55 -> 2695.7805 | K55: =H55/1000 -> 9e-05 | Y55: 53 | Z55: 8.55 | AA55: 6.4 | AE55: 3.5 | AF55: 0.59 | AG55: =(AF55/115+1/2)^-1/2 -> 0.98984335 | AH55: =2700*AG55 -> 2672.577 | AJ55: =AF55/1000 -> 0.00059
A56: 54 | B56: 6.71 | C56: 4.32 | G56: 1.58 | H56: 0.14 | I56: =(H56/115+1/2)^-1/2 -> 0.99757113 | J56: =2700*I56 -> 2693.4421 | K56: =H56/1000 -> 0.00014 | Y56: 54 | Z56: 8.63 | AA56: 6.68 | AE56: 1.73 | AF56: 0.36 | AG56: =(AF56/115+1/2)^-1/2 -> 0.99377809 | AH56: =2700*AG56 -> 2683.2008 | AJ56: =AF56/1000 -> 0.00036
A57: 55 | B57: 7.65 | C57: 3.6 | G57: 0.93 | H57: 0.15 | I57: =(H57/115+1/2)^-1/2 -> 0.99739809 | J57: =2700*I57 -> 2692.9748 | K57: =H57/1000 -> 0.00015 | Y57: 55 | Z57: 13.71 | AA57: 6.01 | AE57: 2.3 | AF57: 0.62 | AG57: =(AF57/115+1/2)^-1/2 -> 0.98933242 | AH57: =2700*AG57 -> 2671.1975 | AJ57: =AF57/1000 -> 0.00062
A58: 56 | B58: 4.46 | C58: 6.11 | G58: 2.25 | H58: 0.15 | I58: =(H58/115+1/2)^-1/2 -> 0.99739809 | J58: =2700*I58 -> 2692.9748 | K58: =H58/1000 -> 0.00015 | Y58: 56 | Z58: 10.57 | AA58: 5.64 | AE58: 2.35 | AF58: 0.59 | AG58: =(AF58/115+1/2)^-1/2 -> 0.98984335 | AH58: =2700*AG58 -> 2672.577 | AJ58: =AF58/1000 -> 0.00059
A59: 57 | B59: 4.56 | C59: 4.53 | G59: 2.08 | H59: 0.13 | I59: =(H59/115+1/2)^-1/2 -> 0.99774423 | J59: =2700*I59 -> 2693.9094 | K59: =H59/1000 -> 0.00013 | Y59: 57 | Z59: 13.11 | AA59: 10.2 | AE59: 5.26 | AF59: 0.48 | AG59: =(AF59/115+1/2)^-1/2 -> 0.99172128 | AH59: =2700*AG59 -> 2677.6475 | AJ59: =AF59/1000 -> 0.00048
A60: 58 | B60: 5.48 | C60: 2.54 | G60: 1.1 | H60: 0.05 | I60: =(H60/115+1/2)^-1/2 -> 0.99913119 | J60: =2700*I60 -> 2697.6542 | K60: =H60/1000 -> 5e-05 | Y60: 58 | Z60: 7.24 | AA60: 5.27 | AE60: 2.33 | AF60: 0.38 | AG60: =(AF60/115+1/2)^-1/2 -> 0.99343469 | AH60: =2700*AG60 -> 2682.2737 | AJ60: =AF60/1000 -> 0.00038
A61: 59 | B61: 5.99 | C61: 2.31 | G61: 1.08 | H61: 0.04 | I61: =(H61/115+1/2)^-1/2 -> 0.99930483 | J61: =2700*I61 -> 2698.123 | K61: =H61/1000 -> 4e-05 | Y61: 59 | Z61: 9.42 | AA61: 5.71 | AE61: 2.1 | AF61: 0.33 | AG61: =(AF61/115+1/2)^-1/2 -> 0.99429362 | AH61: =2700*AG61 -> 2684.5928 | AJ61: =AF61/1000 -> 0.00033
A62: 60 | B62: 4.71 | C62: 4.32 | G62: 1.58 | H62: 0.12 | I62: =(H62/115+1/2)^-1/2 -> 0.99791739 | J62: =2700*I62 -> 2694.377 | K62: =H62/1000 -> 0.00012
A63: 61 | B63: 2.31 | C63: 5.95 | G63: 1.08 | H63: 0.04 | I63: =(H63/115+1/2)^-1/2 -> 0.99930483 | J63: =2700*I63 -> 2698.123 | K63: =H63/1000 -> 4e-05 | Y63: AVG | Z63: =AVERAGE(Z3:Z61) -> 25.414407 | AA63: =AVERAGE(AA3:AA61) -> 7.9483051 | AF63: =AVERAGE(AF3:AF61) -> 3.5389831 | AH63: =AVERAGE(AH3:AH61) -> 2572.2521
A64: 62 | B64: 5.48 | C64: 2.55 | G64: 1.08 | H64: 0.04 | I64: =(H64/115+1/2)^-1/2 -> 0.99930483 | J64: =2700*I64 -> 2698.123 | K64: =H64/1000 -> 4e-05
A65: 63 | B65: 6 | C65: 2.32 | G65: 1.1 | H65: 0.05 | I65: =(H65/115+1/2)^-1/2 -> 0.99913119 | J65: =2700*I65 -> 2697.6542 | K65: =H65/1000 -> 5e-05 | Z65: =MEDIAN(Z3:Z61) -> 11.68
A67: AVG | B67: =AVERAGE(B3:B65) -> 21.782222 | C67: =AVERAGE(C3:C65) -> 7.4677778 | H67: =AVERAGE(H9:H65) -> 0.78491228 | J67: =AVERAGE(J3:J65) -> 2589.8074

Sheet VOD vs fragment size
A1: IBC | B1: Fragment weight (g)
B2: >10 | C2: 10-100 | D2: <100
A3: A | B3: 2637.1 | C3: 1930.45 | D3: 449.27
A4: B | B4: 2563.35 | C4: 1764.48 | D4: 473.94
A5: D | B5: 2574.29 | C5: 1766.18 | D5: 344.92
A6: C | B6: 2573.34 | C6: 1882.87
A7: E | B7: 2551.49 | C7: 1866.26
A8: F | B8: 2575.53 | C8: 1871.37

Sheet Summarised tables
C1: LO Detonations | I1: Partial Detonation | L1: HO Detonations
C2: Tank A (S, M, L) | F2: Tank B (S, M, L) | I2: Tank C (S, M, L) | L2: Tank D (S, M) | N2: Tank E (S, M) | P2: Tank F (S, M)
B3: Quantity of fragments | C3: 19 | D3: 6 | E3: 1 | F3: 30 | G3: 5 | H3: 1 | I3: 5 | J3: 5 | K3: 1 | L3: 57 | M3: 6 | N3: 43 | O3: 4 | P3: 54 | Q3: 5
A4: Average | B4: Weight (g) | C4: 4.72 | D4: 41.44 | E4: 288.06 | F4: 5.34 | G4: 49.7 | H4: 270.07 | I4: 3.13 | J4: 32.15 | K4: 392.6 | L4: 2.83 | M4: 25.82 | N4: 5.96 | O4: 27.76 | P4: 6.11 | Q4: 23.7
B5: Length (mm) | C5: 12.42 | D5: 29.6 | E5: 133 | F5: 16.03 | G5: 52.4 | H5: 142 | I5: 16.6 | J5: 34.8 | K5: 150 | L5: 15 | M5: 133.83 | N5: 17.76 | O5: 129 | P5: 14.07 | Q5: 127.8
B6: Width (mm) | C6: 6.1 | D6: 23.83 | E6: 104 | F6: 8.6 | G6: 22.4 | H6: 47 | I6: 9.2 | J6: 24.2 | K6: 34 | L6: 12 | M6: 13.6 | N6: 11.95 | O6: 14.25 | P6: 10.03 | Q6: 14
B7: Velocity of Detonation (m/s) | C7: 2637.1 | D7: 1930.45 | E7: 449.27 | F7: 2563.35 | G7: 1764.48 | H7: 473.94 | I7: 2574.29 | J7: 1766.18 | K7: 344.92 | L7: 2573.34 | M7: 1882.87 | N7: 2551.49 | O7: 1866.26 | P7: 2575.53 | Q7: 1871.37
B18: IBC Tank | C18: Total weight of recovered fragments (g) | E18: Total No. of fragments recovered | N18: IBC Tank | O18: Percentage | P18: Number
B19: A | C19: 472.01 | E19: 26 | N19: A | O19: 75.7 | P19: 26
B20: B | C20: 545.46 | E20: 36 | N20: B | O20: 87.5 | P20: 36
B21: D | C21: 565.28 | E21: 11 | N21: D | O21: 90.7 | P21: 11
B22: C | C22: 313.88 | E22: 63 | N22: C | O22: 50.3 | P22: 63
B23: E | C23: 249.38 | E23: 47 | N23: E | O23: 40 | P23: 47
B24: F | C24: 282.96 | E24: 59 | N24: F | O24: 45.4 | P24: 59
B25: Total weight of pipe bomb | C25: 623

Sheet Stopping Distance
A2: LO | C2: A
C3: Best case | N3: Worst case | AB3: Best Case
B4: Fragment | C4: Surface Area | D4: Mass of object | E4: Density of water | F4: Drag Coefficient | G4: Initial velocity | H4: Final velocity | J4: Drag Force | K4: Constant | L4: Stopping distance | N4: Surface Area | O4: Mass of object | P4: Density of water | Q4: Drag Coefficient | R4: Initial velocity | S4: Final velocity | U4: Drag Force | V4: Constant | W4: Stopping distance
C5: A | D5: m | E5: Pw | F5: CD | G5: v0 | H5: vfinal | J5: FD | K5: k | L5: x | N5: A | O5: m | P5: Pw | Q5: CD | R5: v0 | S5: vfinal | U5: FD | V5: k | W5: x
C6: m2 | D6: kg | E6: kg/m3 | F6: Dimentionless | G6: m/s | H6: m/s | J6: N | K6: m-1 | L6: m | N6: m2 | O6: kg | P6: kg/m3 | Q6: Dimentionless | R6: m/s | S6: m/s | U6: N | V6: m-1 | W6: m
B7: 1 | C7: =('Size and weight of LO fragments'!B3/1000)*('Size and weight of LO fragments'!C3/1000) -> 0.013832 | D7: =('Size and weight of LO fragments'!H3)/1000 -> 0.28806 | E7: 1000 | F7: 2.1 | G7: ='Size and weight of LO fragments'!J3 -> 449.27075 | H7: 1 | J7: =0.5 * E7 * (G7^2) * F7 * C7 -> 2931504.5 | K7: =(0.5 * E7 * F7 * C7) / D7 -> 50.418663 | L7: =(1 / K7) * LN(G7 / H7) -> 0.12113819 | N7: =('Size and weight of LO fragments'!G3/1000)*('Size and weight of LO fragments'!C3/1000) -> 0.00028946667 | O7: =D7 -> 0.28806 | P7: 1000 | Q7: 0.1 | R7: =G7 -> 449.27075 | S7: 1 | U7: =0.5 * P7 * (R7^2) * Q7 * N7 -> 2921.3585 | V7: =(0.5 * P7 * Q7 * N7) / O7 -> 0.050244162 | W7: =(1 / V7) * LN(R7 / S7) -> 121.55891
B8: 2 | C8: ='Size and weight of LO fragments'!B4*'Size and weight of LO fragments'!C4 -> 1548 | D8: =('Size and weight of LO fragments'!H4)/1000 -> 0.06795 | E8: 1000 | F8: 2.1 | G8: ='Size and weight of LO fragments'!J4 -> 1237.5448 | H8: 1 | J8: =0.5 * E8 * (G8^2) * F8 * C8 -> 2.4893281e+12 | K8: =(0.5 * E8 * F8 * C8) / D8 -> 23920530 | L8: =(1 / K8) * LN(G8 / H8) -> 2.9768926e-07 | N8: =('Size and weight of LO fragments'!G4/1000)*('Size and weight of LO fragments'!C4/1000) -> 0.00018204 | O8: =D8 -> 0.06795 | P8: 1000 | Q8: 0.1 | R8: =G8 -> 1237.5448 | S8: 1 | U8: =0.5 * P8 * (R8^2) * Q8 * N8 -> 13939.87 | V8: =(0.5 * P8 * Q8 * N8) / O8 -> 0.13395143 | W8: =(1 / V8) * LN(R8 / S8) -> 53.160197
B9: 3 | C9: ='Size and weight of LO fragments'!B5*'Size and weight of LO fragments'!C5 -> 840 | D9: =('Size and weight of LO fragments'!H5)/1000 -> 0.02624 | E9: 1000 | F9: 2.1 | G9: ='Size and weight of LO fragments'!J5 -> 1853.9527 | H9: 1 | J9: =0.5 * E9 * (G9^2) * F9 * C9 -> 3.0315581e+12 | K9: =(0.5 * E9 * F9 * C9) / D9 -> 33612805 | L9: =(1 / K9) * LN(G9 / H9) -> 2.2387525e-07 | N9: =('Size and weight of LO fragments'!G5/1000)*('Size and weight of LO fragments'!C5/1000) -> 0.0001268 | O9: =D9 -> 0.02624 | P9: 1000 | Q9: 0.1 | R9: =G9 -> 1853.9527 | S9: 1 | U9: =0.5 * P9 * (R9^2) * Q9 * N9 -> 21791.472 | V9: =(0.5 * P9 * Q9 * N9) / O9 -> 0.24161585 | W9: =(1 / V9) * LN(R9 / S9) -> 31.144791
B10: 4 | C10: ='Size and weight of LO fragments'!B6*'Size and weight of LO fragments'!C6 -> 525 | D10: =('Size and weight of LO fragments'!H6)/1000 -> 0.01632 | E10: 1000 | F10: 2.1 | G10: ='Size and weight of LO fragments'!J6 -> 2103.0886 | H10: 1 | J10: =0.5 * E10 * (G10^2) * F10 * C10 -> 2.4381686e+12 | K10: =(0.5 * E10 * F10 * C10) / D10 -> 33777574 | L10: =(1 / K10) * LN(G10 / H10) -> 2.2651604e-07 | N10: =('Size and weight of LO fragments'!G6/1000)*('Size and weight of LO fragments'!C6/1000) -> 0.00012026 | O10: =D10 -> 0.01632 | P10: 1000 | Q10: 0.1 | R10: =G10 -> 2103.0886 | S10: 1 | U10: =0.5 * P10 * (R10^2) * Q10 * N10 -> 26595.389 | V10: =(0.5 * P10 * Q10 * N10) / O10 -> 0.36844363 | W10: =(1 / V10) * LN(R10 / S10) -> 20.766168
B11: 5 | C11: ='Size and weight of LO fragments'!B7*'Size and weight of LO fragments'!C7 -> 525 | D11: =('Size and weight of LO fragments'!H7)/1000 -> 0.01582 | E11: 1000 | F11: 2.1 | G11: ='Size and weight of LO fragments'!J7 -> 2117.4304 | H11: 1 | J11: =0.5 * E11 * (G11^2) * F11 * C11 -> 2.4715358e+12 | K11: =(0.5 * E11 * F11 * C11) / D11 -> 34845133 | L11: =(1 / K11) * LN(G11 / H11) -> 2.1977126e-07 | N11: =('Size and weight of LO fragments'!G7/1000)*('Size and weight of LO fragments'!C7/1000) -> 0.00013377 | O11: =D11 -> 0.01582 | P11: 1000 | Q11: 0.1 | R11: =G11 -> 2117.4304 | S11: 1 | U11: =0.5 * P11 * (R11^2) * Q11 * N11 -> 29987.968 | V11: =(0.5 * P11 * Q11 * N11) / O11 -> 0.42278761 | W11: =(1 / V11) * LN(R11 / S11) -> 18.113016
B12: 6 | C12: ='Size and weight of LO fragments'!B8*'Size and weight of LO fragments'!C8 -> 475 | D12: =('Size and weight of LO fragments'!H8)/1000 -> 0.01547 | E12: 1000 | F12: 2.1 | G12: ='Size and weight of LO fragments'!J8 -> 2127.5867 | H12: 1 | J12: =0.5 * E12 * (G12^2) * F12 * C12 -> 2.2576543e+12 | K12: =(0.5 * E12 * F12 * C12) / D12 -> 32239819 | L12: =(1 / K12) * LN(G12 / H12) -> 2.3767949e-07 | N12: =('Size and weight of LO fragments'!G8/1000)*('Size and weight of LO fragments'!C8/1000) -> 0.00012559 | O12: =D12 -> 0.01547 | P12: 1000 | Q12: 0.1 | R12: =G12 -> 2127.5867 | S12: 1 | U12: =0.5 * P12 * (R12^2) * Q12 * N12 -> 28424.942 | V12: =(0.5 * P12 * Q12 * N12) / O12 -> 0.40591467 | W12: =(1 / V12) * LN(R12 / S12) -> 18.87772
B13: 7 | C13: ='Size and weight of LO fragments'!B9*'Size and weight of LO fragments'!C9 -> 550 | D13: =('Size and weight of LO fragments'!H9)/1000 -> 0.01494 | E13: 1000 | F13: 2.1 | G13: ='Size and weight of LO fragments'!J9 -> 2143.153 | H13: 1 | J13: =0.5 * E13 * (G13^2) * F13 * C13 -> 2.6525179e+12 | K13: =(0.5 * E13 * F13 * C13) / D13 -> 38654618 | L13: =(1 / K13) * LN(G13 / H13) -> 1.9842476e-07 | N13: =('Size and weight of LO fragments'!G9/1000)*('Size and weight of LO fragments'!C9/1000) -> 0.00012004667 | O13: =D13 -> 0.01494 | P13: 1000 | Q13: 0.1 | R13: =G13 -> 2143.153 | S13: 1 | U13: =0.5 * P13 * (R13^2) * Q13 * N13 -> 27569.345 | V13: =(0.5 * P13 * Q13 * N13) / O13 -> 0.40176261 | W13: =(1 / V13) * LN(R13 / S13) -> 19.090959
B14: 8 | C14: ='Size and weight of LO fragments'!B10*'Size and weight of LO fragments'!C10 -> 500 | D14: =('Size and weight of LO fragments'!H10)/1000 -> 0.00895 | E14: 1000 | F14: 2.1 | G14: ='Size and weight of LO fragments'!J10 -> 2336.3431 | H14: 1 | J14: =0.5 * E14 * (G14^2) * F14 * C14 -> 2.8657121e+12 | K14: =(0.5 * E14 * F14 * C14) / D14 -> 58659218 | L14: =(1 / K14) * LN(G14 / H14) -> 1.3222717e-07 | N14: =('Size and weight of LO fragments'!G10/1000)*('Size and weight of LO fragments'!C10/1000) -> 6.99e-05 | O14: =D14 -> 0.00895 | P14: 1000 | Q14: 0.1 | R14: =G14 -> 2336.3431 | S14: 1 | U14: =0.5 * P14 * (R14^2) * Q14 * N14 -> 19077.455 | V14: =(0.5 * P14 * Q14 * N14) / O14 -> 0.39050279 | W14: =(1 / V14) * LN(R14 / S14) -> 19.86245
B15: 9 | C15: ='Size and weight of LO fragments'!B11*'Size and weight of LO fragments'!C11 -> 210 | D15: =('Size and weight of LO fragments'!H11)/1000 -> 0.00298 | E15: 1000 | F15: 2.1 | G15: ='Size and weight of LO fragments'!J11 -> 2566.9643 | H15: 1 | J15: =0.5 * E15 * (G15^2) * F15 * C15 -> 1.4529419e+12 | K15: =(0.5 * E15 * F15 * C15) / D15 -> 73993289 | L15: =(1 / K15) * LN(G15 / H15) -> 1.0609718e-07 | N15: =('Size and weight of LO fragments'!G11/1000)*('Size and weight of LO fragments'!C11/1000) -> 3.495e-05 | O15: =D15 -> 0.00298 | P15: 1000 | Q15: 0.1 | R15: =G15 -> 2566.9643 | S15: 1 | U15: =0.5 * P15 * (R15^2) * Q15 * N15 -> 11514.812 | V15: =(0.5 * P15 * Q15 * N15) / O15 -> 0.5864094 | W15: =(1 / V15) * LN(R15 / S15) -> 13.38737
B16: 10 | C16: ='Size and weight of LO fragments'!B12*'Size and weight of LO fragments'!C12 -> 120 | D16: =('Size and weight of LO fragments'!H12)/1000 -> 0.00276 | E16: 1000 | F16: 2.1 | G16: ='Size and weight of LO fragments'!J12 -> 2576.3359 | H16: 1 | J16: =0.5 * E16 * (G16^2) * F16 * C16 -> 8.3632583e+11 | K16: =(0.5 * E16 * F16 * C16) / D16 -> 45652174 | L16: =(1 / K16) * LN(G16 / H16) -> 1.720427e-07 | N16: =('Size and weight of LO fragments'!G12/1000)*('Size and weight of LO fragments'!C12/1000) -> 3.495e-05 | O16: =D16 -> 0.00276 | P16: 1000 | Q16: 0.1 | R16: =G16 -> 2576.3359 | S16: 1 | U16: =0.5 * P16 * (R16^2) * Q16 * N16 -> 11599.043 | V16: =(0.5 * P16 * Q16 * N16) / O16 -> 0.63315217 | W16: =(1 / V16) * LN(R16 / S16) -> 12.404796
B17: 11 | C17: ='Size and weight of LO fragments'!B13*'Size and weight of LO fragments'!C13 -> 120 | D17: =('Size and weight of LO fragments'!H13)/1000 -> 0.00276 | E17: 1000 | F17: 2.1 | G17: ='Size and weight of LO fragments'!J13 -> 2576.3359 | H17: 1 | J17: =0.5 * E17 * (G17^2) * F17 * C17 -> 8.3632583e+11 | K17: =(0.5 * E17 * F17 * C17) / D17 -> 45652174 | L17: =(1 / K17) * LN(G17 / H17) -> 1.720427e-07 | N17: =('Size and weight of LO fragments'!G13/1000)*('Size and weight of LO fragments'!C13/1000) -> 3.495e-05 | O17: =D17 -> 0.00276 | P17: 1000 | Q17: 0.1 | R17: =G17 -> 2576.3359 | S17: 1 | U17: =0.5 * P17 * (R17^2) * Q17 * N17 -> 11599.043 | V17: =(0.5 * P17 * Q17 * N17) / O17 -> 0.63315217 | W17: =(1 / V17) * LN(R17 / S17) -> 12.404796
B18: 12 | C18: ='Size and weight of LO fragments'!B14*'Size and weight of LO fragments'!C14 -> 120 | D18: =('Size and weight of LO fragments'!H14)/1000 -> 0.00276 | E18: 1000 | F18: 2.1 | G18: ='Size and weight of LO fragments'!J14 -> 2576.3359 | H18: 1 | J18: =0.5 * E18 * (G18^2) * F18 * C18 -> 8.3632583e+11 | K18: =(0.5 * E18 * F18 * C18) / D18 -> 45652174 | L18: =(1 / K18) * LN(G18 / H18) -> 1.720427e-07 | N18: =('Size and weight of LO fragments'!G14/1000)*('Size and weight of LO fragments'!C14/1000) -> 3.495e-05 | O18: =D18 -> 0.00276 | P18: 1000 | Q18: 0.1 | R18: =G18 -> 2576.3359 | S18: 1 | U18: =0.5 * P18 * (R18^2) * Q18 * N18 -> 11599.043 | V18: =(0.5 * P18 * Q18 * N18) / O18 -> 0.63315217 | W18: =(1 / V18) * LN(R18 / S18) -> 12.404796
B19: 13 | C19: ='Size and weight of LO fragments'!B15*'Size and weight of LO fragments'!C15 -> 44 | D19: =('Size and weight of LO fragments'!H15)/1000 -> 0.0005 | E19: 1000 | F19: 2.1 | G19: ='Size and weight of LO fragments'!J15 -> 2676.7241 | H19: 1 | J19: =0.5 * E19 * (G19^2) * F19 * C19 -> 3.3101617e+11 | K19: =(0.5 * E19 * F19 * C19) / D19 -> 92400000 | L19: =(1 / K19) * LN(G19 / H19) -> 8.5415032e-08 | N19: =('Size and weight of LO fragments'!G15/1000)*('Size and weight of LO fragments'!C15/1000) -> 1.398e-05 | O19: =D19 -> 0.0005 | P19: 1000 | Q19: 0.1 | R19: =G19 -> 2676.7241 | S19: 1 | U19: =0.5 * P19 * (R19^2) * Q19 * N19 -> 5008.2316 | V19: =(0.5 * P19 * Q19 * N19) / O19 -> 1.398 | W19: =(1 / V19) * LN(R19 / S19) -> 5.6454571
... B32: 26 | C32: ='Size and weight of LO fragments'!B28*'Size and weight of LO fragments'!C28 -> 44 | D32: =('Size and weight of LO fragments'!H28)/1000 -> 0.0005 | E32: 1000 | F32: 2.1 | G32: ='Size and weight of LO fragments'!J28 -> 2676.7241 | H32: 1 | J32: =0.5 * E32 * (G32^2) * F32 * C32 -> 3.3101617e+11 | K32: =(0.5 * E32 * F32 * C32) / D32 -> 92400000 | L32: =(1 / K32) * LN(G32 / H32) -> 8.5415032e-08 | N32: =('Size and weight of LO fragments'!G28/1000)*('Size and weight of LO fragments'!C28/1000) -> 1.398e-05 | O32: =D32 -> 0.0005 | P32: 1000 | Q32: 0.1 | R32: =G32 -> 2676.7241 | S32: 1 | U32: =0.5 * P32 * (R32^2) * Q32 * N32 -> 5008.2316 | V32: =(0.5 * P32 * Q32 * N32) / O32 -> 1.398 | W32: =(1 / V32) * LN(R32 / S32) -> 5.6454571
C34: B
C35: Best case | N35: Worst case
B36: Fragment | C36: Surface Area | D36: Mass of object | E36: Density of water | F36: Drag Coefficient | G36: Initial velocity | H36: Final velocity | J36: Drag Force | K36: Constant | L36: Stopping distance | N36: Surface Area | O36: Mass of object | P36: Density of water | Q36: Drag Coefficient | R36: Initial velocity | S36: Final velocity | U36: Drag Force | V36: Constant | W36: Stopping distance
C37: A | D37: m | E37: Pw | F37: CD | G37: v0 | H37: vfinal | J37: FD | K37: k | L37: x | N37: A | O37: m | P37: Pw | Q37: CD | R37: v0 | S37: vfinal | U37: FD | V37: k | W37: x
C38: m2 | D38: kg | E38: kg/m3 | F38: Dimentionless | G38: m/s | H38: m/s | J38: N | K38: m-1 | L38: m | N38: m2 | O38: kg | P38: kg/m3 | Q38: Dimentionless | R38: m/s | S38: m/s | U38: N | V38: m-1 | W38: m
B39: 1 | C39: =('Size and weight of LO fragments'!M3/1000)*('Size and weight of LO fragments'!N3/1000) -> 0.006674 | D39: =('Size and weight of LO fragments'!S3)/1000 -> 0.27007 | E39: 1000 | F39: 2.1 | G39: ='Size and weight of LO fragments'!U3 -> 473.9445 | H39: 1 | J39: =0.5 * E39 * (G39^2) * F39 * C39 -> 1574093.3 | K39: =(0.5 * E39 * F39 * C39) / D39 -> 25.947717 | L39: =(1 / K39) * LN(G39 / H39) -> 0.23744248 | N39: =('Size and weight of LO fragments'!M3/1000)*('Size and weight of LO fragments'!R3/1000) -> 0.00050741333 | O39: =D39 -> 0.27007 | P39: 1000 | Q39: 0.1 | R39: =G39 -> 473.9445 | S39: 1 | U39: =0.5 * P39 * (R39^2) * Q39 * N39 -> 5698.8451 | V39: =(0.5 * P39 * Q39 * N39) / O39 -> 0.093941077 | W39: =(1 / V39) * LN(R39 / S39) -> 65.584624
B40: 2 | C40: =('Size and weight of LO fragments'!M4/1000)*('Size and weight of LO fragments'!N4/1000) -> 0.003 | D40: =('Size and weight of LO fragments'!S4)/1000 -> 0.08546 | E40: 1000 | F40: 2.1 | G40: ='Size and weight of LO fragments'!U4 -> 1085.9681 | H40: 1 | J40: =0.5 * E40 * (G40^2) * F40 * C40 -> 3714879.2 | K40: =(0.5 * E40 * F40 * C40) / D40 -> 36.859349 | L40: =(1 / K40) * LN(G40 / H40) -> 0.18964597 | N40: =('Size and weight of LO fragments'!M4/1000)*('Size and weight of LO fragments'!R4/1000) -> 0.00025275 | O40: =D40 -> 0.08546 | P40: 1000 | Q40: 0.1 | R40: =G40 -> 1085.9681 | S40: 1 | U40: =0.5 * P40 * (R40^2) * Q40 * N40 -> 14903.741 | V40: =(0.5 * P40 * Q40 * N40) / O40 -> 0.1478762 | W40: =(1 / V40) * LN(R40 / S40) -> 47.270806
B41: 3 | C41: =('Size and weight of LO fragments'!M5/1000)*('Size and weight of LO fragments'!N5/1000) -> 0.001704 | D41: =('Size and weight of LO fragments'!S5)/1000 -> 0.03454 | E41: 1000 | F41: 2.1 | G41: ='Size and weight of LO fragments'!U5 -> 1686.7666 | H41: 1 | J41: =0.5 * E41 * (G41^2) * F41 * C41 -> 5090599 | K41: =(0.5 * E41 * F41 * C41) / D41 -> 51.800811 | L41: =(1 / K41) * LN(G41 / H41) -> 0.14344503 | N41: =('Size and weight of LO fragments'!M5/1000)*('Size and weight of LO fragments'!R5/1000) -> 0.00030151333 | O41: =D41 -> 0.03454 | P41: 1000 | Q41: 0.1 | R41: =G41 -> 1686.7666 | S41: 1 | U41: =0.5 * P41 * (R41^2) * Q41 * N41 -> 42893.01 | V41: =(0.5 * P41 * Q41 * N41) / O41 -> 0.43646979 | W41: =(1 / V41) * LN(R41 / S41) -> 17.024245
B42: 4 | C42: =('Size and weight of LO fragments'!M6/1000)*('Size and weight of LO fragments'!N6/1000) -> 0.00091 | D42: =('Size and weight of LO fragments'!S6)/1000 -> 0.02535 | E42: 1000 | F42: 2.1 | G42: ='Size and weight of LO fragments'!U6 -> 1873.8684 | H42: 1 | J42: =0.5 * E42 * (G42^2) * F42 * C42 -> 3355126.4 | K42: =(0.5 * E42 * F42 * C42) / D42 -> 37.692308 | L42: =(1 / K42) * LN(G42 / H42) -> 0.19992833 | N42: =('Size and weight of LO fragments'!M6/1000)*('Size and weight of LO fragments'!R6/1000) -> 0.00020416667 | O42: =D42 -> 0.02535 | P42: 1000 | Q42: 0.1 | R42: =G42 -> 1873.8684 | S42: 1 | U42: =0.5 * P42 * (R42^2) * Q42 * N42 -> 35845.367 | V42: =(0.5 * P42 * Q42 * N42) / O42 -> 0.4026956 | W42: =(1 / V42) * LN(R42 / S42) -> 18.713292
B43: 5 | C43: =('Size and weight of LO fragments'!M7/1000)*('Size and weight of LO fragments'!N7/1000) -> 0.000473 | D43: =('Size and weight of LO fragments'!S7)/1000 -> 0.02001 | E43: 1000 | F43: 2.1 | G43: ='Size and weight of LO fragments'!U7 -> 2002.9674 | H43: 1 | J43: =0.5 * E43 * (G43^2) * F43 * C43 -> 1992499.3 | K43: =(0.5 * E43 * F43 * C43) / D43 -> 24.82009 | L43: =(1 / K43) * LN(G43 / H43) -> 0.30629966 | N43: =('Size and weight of LO fragments'!M7/1000)*('Size and weight of LO fragments'!R7/1000) -> 0.00023248667 | O43: =D43 -> 0.02001 | P43: 1000 | Q43: 0.1 | R43: =G43 -> 2002.9674 | S43: 1 | U43: =0.5 * P43 * (R43^2) * Q43 * N43 -> 46635.41 | V43: =(0.5 * P43 * Q43 * N43) / O43 -> 0.5809262 | W43: =(1 / V43) * LN(R43 / S43) -> 13.086662
B44: 6 | C44: =('Size and weight of LO fragments'!M8/1000)*('Size and weight of LO fragments'!N8/1000) -> 0.000418 | D44: =('Size and weight of LO fragments'!S8)/1000 -> 0.01395 | E44: 1000 | F44: 2.1 | G44: ='Size and weight of LO fragments'!U8 -> 2172.8481 | H44: 1 | J44: =0.5 * E44 * (G44^2) * F44 * C44 -> 2072165 | K44: =(0.5 * E44 * F44 * C44) / D44 -> 31.462366 | L44: =(1 / K44) * LN(G44 / H44) -> 0.24422175 | N44: =('Size and weight of LO fragments'!M8/1000)*('Size and weight of LO fragments'!R8/1000) -> 0.00021216667 | O44: =D44 -> 0.01395 | P44: 1000 | Q44: 0.1 | R44: =G44 -> 2172.8481 | S44: 1 | U44: =0.5 * P44 * (R44^2) * Q44 * N44 -> 50084.796 | V44: =(0.5 * P44 * Q44 * N44) / O44 -> 0.760454 | W44: =(1 / V44) * LN(R44 / S44) -> 10.104219
B45: 7 | C45: =('Size and weight of LO fragments'!M9/1000)*('Size and weight of LO fragments'!N9/1000) -> 0.000375 | D45: =('Size and weight of LO fragments'!S9)/1000 -> 0.00972 | E45: 1000 | F45: 2.1 | G45: ='Size and weight of LO fragments'!U9 -> 2309.5805 | H45: 1 | J45: =0.5 * E45 * (G45^2) * F45 * C45 -> 2100326.3 | K45: =(0.5 * E45 * F45 * C45) / D45 -> 40.509259 | L45: =(1 / K45) * LN(G45 / H45) -> 0.19118644 | N45: =('Size and weight of LO fragments'!M9/1000)*('Size and weight of LO fragments'!R9/1000) -> 0.0001155 | O45: =D45 -> 0.00972 | P45: 1000 | Q45: 0.1 | R45: =G45 -> 2309.5805 | S45: 1 | U45: =0.5 * P45 * (R45^2) * Q45 * N45 -> 30804.786 | V45: =(0.5 * P45 * Q45 * N45) / O45 -> 0.5941358 | W45: =(1 / V45) * LN(R45 / S45) -> 13.035439
B46: 8 | C46: =('Size and weight of LO fragments'!M10/1000)*('Size and weight of LO fragments'!N10/1000) -> 0.000288 | D46: =('Size and weight of LO fragments'!S10)/1000 -> 0.00922 | E46: 1000 | F46: 2.1 | G46: ='Size and weight of LO fragments'!U10 -> 2326.8885 | H46: 1 | J46: =0.5 * E46 * (G46^2) * F46 * C46 -> 1637317.6 | K46: =(0.5 * E46 * F46 * C46) / D46 -> 32.798265 | L46: =(1 / K46) * LN(G46 / H46) -> 0.23636273 | N46: =('Size and weight of LO fragments'!M10/1000)*('Size and weight of LO fragments'!R10/1000) -> 0.00011718 | O46: =D46 -> 0.00922 | P46: 1000 | Q46: 0.1 | R46: =G46 -> 2326.8885 | S46: 1 | U46: =0.5 * P46 * (R46^2) * Q46 * N46 -> 31723.028 | V46: =(0.5 * P46 * Q46 * N46) / O46 -> 0.63546638 | W46: =(1 / V46) * LN(R46 / S46) -> 12.199367
B47: 9 | C47: =('Size and weight of LO fragments'!M11/1000)*('Size and weight of LO fragments'!N11/1000) -> 0.000308 | D47: =('Size and weight of LO fragments'!S11)/1000 -> 0.0081 | E47: 1000 | F47: 2.1 | G47: ='Size and weight of LO fragments'!U11 -> 2366.6159 | H47: 1 | J47: =0.5 * E47 * (G47^2) * F47 * C47 -> 1811321.6 | K47: =(0.5 * E47 * F47 * C47) / D47 -> 39.925926 | L47: =(1 / K47) * LN(G47 / H47) -> 0.19459076 | N47: =('Size and weight of LO fragments'!M11/1000)*('Size and weight of LO fragments'!R11/1000) -> 0.000107415 | O47: =D47 -> 0.0081 | P47: 1000 | Q47: 0.1 | R47: =G47 -> 2366.6159 | S47: 1 | U47: =0.5 * P47 * (R47^2) * Q47 * N47 -> 30080.876 | V47: =(0.5 * P47 * Q47 * N47) / O47 -> 0.66305556 | W47: =(1 / V47) * LN(R47 / S47) -> 11.717293
B48: 10 | C48: =('Size and weight of LO fragments'!M12/1000)*('Size and weight of LO fragments'!N12/1000) -> 0.00036 | D48: =('Size and weight of LO fragments'!S12)/1000 -> 0.0066 | E48: 1000 | F48: 2.1 | G48: ='Size and weight of LO fragments'!U12 -> 2421.9969 | H48: 1 | J48: =0.5 * E48 * (G48^2) * F48 * C48 -> 2217374 | K48: =(0.5 * E48 * F48 * C48) / D48 -> 57.272727 | L48: =(1 / K48) * LN(G48 / H48) -> 0.13605686 | N48: =('Size and weight of LO fragments'!M12/1000)*('Size and weight of LO fragments'!R12/1000) -> 0.00011718 | O48: =D48 -> 0.0066 | P48: 1000 | Q48: 0.1 | R48: =G48 -> 2421.9969 | S48: 1 | U48: =0.5 * P48 * (R48^2) * Q48 * N48 -> 34369.298 | V48: =(0.5 * P48 * Q48 * N48) / O48 -> 0.88772727 | W48: =(1 / V48) * LN(R48 / S48) -> 8.7778622
B49: 11 | C49: =('Size and weight of LO fragments'!M13/1000)*('Size and weight of LO fragments'!N13/1000) -> 0.00036 | D49: =('Size and weight of LO fragments'!S13)/1000 -> 0.0066 | E49: 1000 | F49: 2.1 | G49: ='Size and weight of LO fragments'!U13 -> 2421.9969 | H49: 1 | J49: =0.5 * E49 * (G49^2) * F49 * C49 -> 2217374 | K49: =(0.5 * E49 * F49 * C49) / D49 -> 57.272727 | L49: =(1 / K49) * LN(G49 / H49) -> 0.13605686 | N49: =('Size and weight of LO fragments'!M13/1000)*('Size and weight of LO fragments'!R13/1000) -> 0.00011718 | O49: =D49 -> 0.0066 | P49: 1000 | Q49: 0.1 | R49: =G49 -> 2421.9969 | S49: 1 | U49: =0.5 * P49 * (R49^2) * Q49 * N49 -> 34369.298 | V49: =(0.5 * P49 * Q49 * N49) / O49 -> 0.88772727 | W49: =(1 / V49) * LN(R49 / S49) -> 8.7778622
B50: 12 | C50: =('Size and weight of LO fragments'!M14/1000)*('Size and weight of LO fragments'!N14/1000) -> 0.00036 | D50: =('Size and weight of LO fragments'!S14)/1000 -> 0.0066 | E50: 1000 | F50: 2.1 | G50: ='Size and weight of LO fragments'!U14 -> 2421.9969 | H50: 1 | J50: =0.5 * E50 * (G50^2) * F50 * C50 -> 2217374 | K50: =(0.5 * E50 * F50 * C50) / D50 -> 57.272727 | L50: =(1 / K50) * LN(G50 / H50) -> 0.13605686 | N50: =('Size and weight of LO fragments'!M14/1000)*('Size and weight of LO fragments'!R14/1000) -> 0.00011718 | O50: =D50 -> 0.0066 | P50: 1000 | Q50: 0.1 | R50: =G50 -> 2421.9969 | S50: 1 | U50: =0.5 * P50 * (R50^2) * Q50 * N50 -> 34369.298 | V50: =(0.5 * P50 * Q50 * N50) / O50 -> 0.88772727 | W50: =(1 / V50) * LN(R50 / S50) -> 8.7778622
... B74: 36 | C74: =('Size and weight of LO fragments'!M38/1000)*('Size and weight of LO fragments'!N38/1000) -> 6.5e-05 | D74: =('Size and weight of LO fragments'!S38)/1000 -> 0.00096 | E74: 1000 | F74: 2.1 | G74: ='Size and weight of LO fragments'!U38 -> 2655.662 | H74: 1 | J74: =0.5 * E74 * (G74^2) * F74 * C74 -> 481335.9 | K74: =(0.5 * E74 * F74 * C74) / D74 -> 71.09375 | L74: =(1 / K74) * LN(G74 / H74) -> 0.11090214 | N74: =('Size and weight of LO fragments'!M38/1000)*('Size and weight of LO fragments'!R38/1000) -> 6.34725e-05 | O74: =D74 -> 0.00096 | P74: 1000 | Q74: 0.1 | R74: =G74 -> 2655.662 | S74: 1 | U74: =0.5 * P74 * (R74^2) * Q74 * N74 -> 22382.119 | V74: =(0.5 * P74 * Q74 * N74) / O74 -> 3.3058594 | W74: =(1 / V74) * LN(R74 / S74) -> 2.3849923
C76: C
C77: Best case | N77: Worst case
B78: Fragment | C78: Surface Area | D78: Mass of object | E78: Density of water | F78: Drag Coefficient | G78: Initial velocity | H78: Final velocity | J78: Drag Force | K78: Constant | L78: Stopping distance | N78: Surface Area | O78: Mass of object | P78: Density of water | Q78: Drag Coefficient | R78: Initial velocity | S78: Final velocity | U78: Drag Force | V78: Constant | W78: Stopping distance
C79: A | D79: m | E79: Pw | F79: CD | G79: v0 | H79: vfinal | J79: FD | K79: k | L79: x | N79: A | O79: m | P79: Pw | Q79: CD | R79: v0 | S79: vfinal | U79: FD | V79: k | W79: x
C80: m2 | D80: kg | E80: kg/m3 | F80: Dimentionless | G80: m/s | H80: m/s | J80: N | K80: m-1 | L80: m | N80: m2 | O80: kg | P80: kg/m3 | Q80: Dimentionless | R80: m/s | S80: m/s | U80: N | V80: m-1 | W80: m
B81: 1 | C81: =('Size and weight of LO fragments'!X3/1000)*('Size and weight of LO fragments'!Y3/1000) -> 0.0051 | D81: =('Size and weight of LO fragments'!AD3)/1000 -> 0.3926 | E81: 1000 | F81: 2.1 | G81: ='Size and weight of LO fragments'!AF3 -> 344.92335 | H81: 1 | J81: =0.5 * E81 * (G81^2) * F81 * C81 -> 637095.69 | K81: =(0.5 * E81 * F81 * C81) / D81 -> 13.639837 | L81: =(1 / K81) * LN(G81 / H81) -> 0.42840118 | N81: =('Size and weight of LO fragments'!Y3/1000)*('Size and weight of LO fragments'!AC3/1000) -> 0.00012886 | O81: =D81 -> 0.3926 | P81: 1000 | Q81: 0.1 | R81: =G81 -> 344.92335 | S81: 1 | U81: =0.5 * P81 * (R81^2) * Q81 * N81 -> 766.53735 | V81: =(0.5 * P81 * Q81 * N81) / O81 -> 0.016411105 | W81: =(1 / V81) * LN(R81 / S81) -> 356.05903
B82: 2 | C82: =('Size and weight of LO fragments'!X4/1000)*('Size and weight of LO fragments'!Y4/1000) -> 0.001075 | D82: =('Size and weight of LO fragments'!AD4)/1000 -> 0.04911 | E82: 1000 | F82: 2.1 | G82: ='Size and weight of LO fragments'!AF4 -> 1456.2424 | H82: 1 | J82: =0.5 * E82 * (G82^2) * F82 * C82 -> 2393674.5 | K82: =(0.5 * E82 * F82 * C82) / D82 -> 22.984117 | L82: =(1 / K82) * LN(G82 / H82) -> 0.31689773 | N82: =('Size and weight of LO fragments'!Y4/1000)*('Size and weight of LO fragments'!AC4/1000) -> 0.00015825 | O82: =D82 -> 0.04911 | P82: 1000 | Q82: 0.1 | R82: =G82 -> 1456.2424 | S82: 1 | U82: =0.5 * P82 * (R82^2) * Q82 * N82 -> 16779.579 | V82: =(0.5 * P82 * Q82 * N82) / O82 -> 0.1611179 | W82: =(1 / V82) * LN(R82 / S82) -> 45.206738
B83: 3 | C83: =('Size and weight of LO fragments'!X5/1000)*('Size and weight of LO fragments'!Y5/1000) -> 0.000936 | D83: =('Size and weight of LO fragments'!AD5)/1000 -> 0.03213 | E83: 1000 | F83: 2.1 | G83: ='Size and weight of LO fragments'!AF5 -> 1732.1209 | H83: 1 | J83: =0.5 * E83 * (G83^2) * F83 * C83 -> 2948638.8 | K83: =(0.5 * E83 * F83 * C83) / D83 -> 30.588235 | L83: =(1 / K83) * LN(G83 / H83) -> 0.24378987 | N83: =('Size and weight of LO fragments'!Y5/1000)*('Size and weight of LO fragments'!AC5/1000) -> 0.00014438667 | O83: =D83 -> 0.03213 | P83: 1000 | Q83: 0.1 | R83: =G83 -> 1732.1209 | S83: 1 | U83: =0.5 * P83 * (R83^2) * Q83 * N83 -> 21659.754 | V83: =(0.5 * P83 * Q83 * N83) / O83 -> 0.22469136 | W83: =(1 / V83) * LN(R83 / S83) -> 33.188201
B84: 4 | C84: =('Size and weight of LO fragments'!X6/1000)*('Size and weight of LO fragments'!Y6/1000) -> 0.000875 | D84: =('Size and weight of LO fragments'!AD6)/1000 -> 0.03119 | E84: 1000 | F84: 2.1 | G84: ='Size and weight of LO fragments'!AF6 -> 1750.4792 | H84: 1 | J84: =0.5 * E84 * (G84^2) * F84 * C84 -> 2815213 | K84: =(0.5 * E84 * F84 * C84) / D84 -> 29.456557 | L84: =(1 / K84) * LN(G84 / H84) -> 0.25351384 | N84: =('Size and weight of LO fragments'!Y6/1000)*('Size and weight of LO fragments'!AC6/1000) -> 0.00014391667 | O84: =D84 -> 0.03119 | P84: 1000 | Q84: 0.1 | R84: =G84 -> 1750.4792 | S84: 1 | U84: =0.5 * P84 * (R84^2) * Q84 * N84 -> 22049.31 | V84: =(0.5 * P84 * Q84 * N84) / O84 -> 0.23070963 | W84: =(1 / V84) * LN(R84 / S84) -> 32.368154
B85: 5 | C85: =('Size and weight of LO fragments'!X7/1000)*('Size and weight of LO fragments'!Y7/1000) -> 0.000875 | D85: =('Size and weight of LO fragments'!AD7)/1000 -> 0.03088 | E85: 1000 | F85: 2.1 | G85: ='Size and weight of LO fragments'!AF7 -> 1756.6191 | H85: 1 | J85: =0.5 * E85 * (G85^2) * F85 * C85 -> 2834996.8 | K85: =(0.5 * E85 * F85 * C85) / D85 -> 29.752267 | L85: =(1 / K85) * LN(G85 / H85) -> 0.25111183 | N85: =('Size and weight of LO fragments'!Y7/1000)*('Size and weight of LO fragments'!AC7/1000) -> 0.00013825 | O85: =D85 -> 0.03088 | P85: 1000 | Q85: 0.1 | R85: =G85 -> 1756.6191 | S85: 1 | U85: =0.5 * P85 * (R85^2) * Q85 * N85 -> 21329.976 | V85: =(0.5 * P85 * Q85 * N85) / O85 -> 0.22385039 | W85: =(1 / V85) * LN(R85 / S85) -> 33.375624
B86: 6 | C86: =('Size and weight of LO fragments'!X8/1000)*('Size and weight of LO fragments'!Y8/1000) -> 0.0005 | D86: =('Size and weight of LO fragments'!AD8)/1000 -> 0.0152 | E86: 1000 | F86: 2.1 | G86: ='Size and weight of LO fragments'!AF8 -> 2135.4883 | H86: 1 | J86: =0.5 * E86 * (G86^2) * F86 * C86 -> 2394162.9 | K86: =(0.5 * E86 * F86 * C86) / D86 -> 34.539474 | L86: =(1 / K86) * LN(G86 / H86) -> 0.221962 | N86: =('Size and weight of LO fragments'!Y8/1000)*('Size and weight of LO fragments'!AC8/1000) -> 0.0001136 | O86: =D86 -> 0.0152 | P86: 1000 | Q86: 0.1 | R86: =G86 -> 2135.4883 | S86: 1 | U86: =0.5 * P86 * (R86^2) * Q86 * N86 -> 25902.563 | V86: =(0.5 * P86 * Q86 * N86) / O86 -> 0.37368421 | W86: =(1 / V86) * LN(R86 / S86) -> 20.515854
B87: 7 | C87: =('Size and weight of LO fragments'!X9/1000)*('Size and weight of LO fragments'!Y9/1000) -> 0.0003 | D87: =('Size and weight of LO fragments'!AD9)/1000 -> 0.00489 | E87: 1000 | F87: 2.1 | G87: ='Size and weight of LO fragments'!AF9 -> 2488.3795 | H87: 1 | J87: =0.5 * E87 * (G87^2) * F87 * C87 -> 1950490.3 | K87: =(0.5 * E87 * F87 * C87) / D87 -> 64.417178 | L87: =(1 / K87) * LN(G87 / H87) -> 0.12138667 | N87: =('Size and weight of LO fragments'!Y9/1000)*('Size and weight of LO fragments'!AC9/1000) -> 7.275e-05 | O87: =D87 -> 0.00489 | P87: 1000 | Q87: 0.1 | R87: =G87 -> 2488.3795 | S87: 1 | U87: =0.5 * P87 * (R87^2) * Q87 * N87 -> 22523.519 | V87: =(0.5 * P87 * Q87 * N87) / O87 -> 0.74386503 | W87: =(1 / V87) * LN(R87 / S87) -> 10.511836
B88: 8 | C88: =('Size and weight of LO fragments'!X10/1000)*('Size and weight of LO fragments'!Y10/1000) -> 0.000198 | D88: =('Size and weight of LO fragments'!AD10)/1000 -> 0.00349 | E88: 1000 | F88: 2.1 | G88: ='Size and weight of LO fragments'!AF10 -> 2545.4993 | H88: 1 | J88: =0.5 * E88 * (G88^2) * F88 * C88 -> 1347101.9 | K88: =(0.5 * E88 * F88 * C88) / D88 -> 59.570201 | L88: =(1 / K88) * LN(G88 / H88) -> 0.13164438 | N88: =('Size and weight of LO fragments'!Y10/1000)*('Size and weight of LO fragments'!AC10/1000) -> 4.365e-05 | O88: =D88 -> 0.00349 | P88: 1000 | Q88: 0.1 | R88: =G88 -> 2545.4993 | S88: 1 | U88: =0.5 * P88 * (R88^2) * Q88 * N88 -> 14141.654 | V88: =(0.5 * P88 * Q88 * N88) / O88 -> 0.62535817 | W88: =(1 / V88) * LN(R88 / S88) -> 12.540145
B89: 9 | C89: =('Size and weight of LO fragments'!X11/1000)*('Size and weight of LO fragments'!Y11/1000) -> 0.00015 | D89: =('Size and weight of LO fragments'!AD11)/1000 -> 0.00267 | E89: 1000 | F89: 2.1 | G89: ='Size and weight of LO fragments'!AF11 -> 2580.1895 | H89: 1 | J89: =0.5 * E89 * (G89^2) * F89 * C89 -> 1048537 | K89: =(0.5 * E89 * F89 * C89) / D89 -> 58.988764 | L89: =(1 / K89) * LN(G89 / H89) -> 0.13317143 | N89: =('Size and weight of LO fragments'!Y11/1000)*('Size and weight of LO fragments'!AC11/1000) -> 4.85e-05 | O89: =D89 -> 0.00267 | P89: 1000 | Q89: 0.1 | R89: =G89 -> 2580.1895 | S89: 1 | U89: =0.5 * P89 * (R89^2) * Q89 * N89 -> 16144.141 | V89: =(0.5 * P89 * Q89 * N89) / O89 -> 0.9082397 | W89: =(1 / V89) * LN(R89 / S89) -> 8.6492785
B90: 10 | C90: =('Size and weight of LO fragments'!X12/1000)*('Size and weight of LO fragments'!Y12/1000) -> 8.4e-05 | D90: =('Size and weight of LO fragments'!AD12)/1000 -> 0.00174 | E90: 1000 | F90: 2.1 | G90: ='Size and weight of LO fragments'!AF12 -> 2620.6955 | H90: 1 | J90: =0.5 * E90 * (G90^2) * F90 * C90 -> 605761.55 | K90: =(0.5 * E90 * F90 * C90) / D90 -> 50.689655 | L90: =(1 / K90) * LN(G90 / H90) -> 0.15528208 | N90: =('Size and weight of LO fragments'!Y12/1000)*('Size and weight of LO fragments'!AC12/1000) -> 3.395e-05 | O90: =D90 -> 0.00174 | P90: 1000 | Q90: 0.1 | R90: =G90 -> 2620.6955 | S90: 1 | U90: =0.5 * P90 * (R90^2) * Q90 * N90 -> 11658.506 | V90: =(0.5 * P90 * Q90 * N90) / O90 -> 0.97557471 | W90: =(1 / V90) * LN(R90 / S90) -> 8.0682647
B91: 11 | C91: =('Size and weight of LO fragments'!X13/1000)*('Size and weight of LO fragments'!Y13/1000) -> 7e-05 | D91: =('Size and weight of LO fragments'!AD13)/1000 -> 0.00138 | E91: 1000 | F91: 2.1 | G91: ='Size and weight of LO fragments'!AF13 -> 2636.7188 | H91: 1 | J91: =0.5 * E91 * (G91^2) * F91 * C91 -> 510993 | K91: =(0.5 * E91 * F91 * C91) / D91 -> 53.26087 | L91: =(1 / K91) * LN(G91 / H91) -> 0.14790015 | N91: =('Size and weight of LO fragments'!Y13/1000)*('Size and weight of LO fragments'!AC13/1000) -> 2.425e-05 | O91: =D91 -> 0.00138 | P91: 1000 | Q91: 0.1 | R91: =G91 -> 2636.7188 | S91: 1 | U91: =0.5 * P91 * (R91^2) * Q91 * N91 -> 8429.6465 | V91: =(0.5 * P91 * Q91 * N91) / O91 -> 0.87862319 | W91: =(1 / V91) * LN(R91 / S91) -> 8.9654935
A97: HO | C97: D
C98: Best case | N98: Worst case
B99: Fragment | C99: Surface Area | D99: Mass of object | E99: Density of water | F99: Drag Coefficient | G99: Initial velocity | H99: Final velocity | J99: Drag Force | K99: Constant | L99: Stopping distance | N99: Surface Area | O99: Mass of object | P99: Density of water | Q99: Drag Coefficient | R99: Initial velocity | S99: Final velocity | U99: Drag Force | V99: Constant | W99: Stopping distance
C100: A | D100: m | E100: Pw | F100: CD | G100: v0 | H100: vfinal | J100: FD | K100: k | L100: x | N100: A | O100: m | P100: Pw | Q100: CD | R100: v0 | S100: vfinal | U100: FD | V100: k | W100: x
C101: m2 | D101: kg | E101: kg/m3 | F101: Dimentionless | G101: m/s | H101: m/s | J101: N | K101: m-1 | L101: m | N101: m2 | O101: kg | P101: kg/m3 | Q101: Dimentionless | R101: m/s | S101: m/s | U101: N | V101: m-1 | W101: m | Y101: Mean
B102: 1 | C102: =('Size and weight of HO fragments'!B3/1000)*('Size and weight of HO fragments'!C3/1000) -> 0.002538 | D102: 0.03556 | E102: 1000 | F102: 2.1 | G102: ='Size and weight of HO fragments'!J3 -> 1668.2785 | H102: 1 | J102: =0.5 * E102 * (G102^2) * F102 * C102 -> 7416825.1 | K102: =(0.5 * E102 * F102 * C102) / D102 -> 74.940945 | L102: =(1 / K102) * LN(G102 / H102) -> 0.099005258 | N102: =('Size and weight of HO fragments'!G3/1000)*('Size and weight of HO fragments'!C3/1000) -> 8.316e-05 | O102: =D102 -> 0.03556 | P102: 1000 | Q102: 0.1 | R102: =G102 -> 1668.2785 | S102: 1 | U102: =0.5 * P102 * (R102^2) * Q102 * N102 -> 11572.351 | V102: =(0.5 * P102 * Q102 * N102) / O102 -> 0.11692913 | W102: =(1 / V102) * LN(R102 / S102) -> 63.45337 | Z102: A | AB102: B
B103: 2 | C103: =('Size and weight of HO fragments'!B4/1000)*('Size and weight of HO fragments'!C4/1000) -> 0.00224 | D103: 0.02945 | E103: 1000 | F103: 2.1 | G103: ='Size and weight of HO fragments'!J4 -> 1785.5089 | H103: 1 | J103: =0.5 * E103 * (G103^2) * F103 * C103 -> 7498275 | K103: =(0.5 * E103 * F103 * C103) / D103 -> 79.864177 | L103: =(1 / K103) * LN(G103 / H103) -> 0.093752407 | N103: =('Size and weight of HO fragments'!G4/1000)*('Size and weight of HO fragments'!C4/1000) -> 3.408e-05 | O103: =D103 -> 0.02945 | P103: 1000 | Q103: 0.1 | R103: =G103 -> 1785.5089 | S103: 1 | U103: =0.5 * P103 * (R103^2) * Q103 * N103 -> 5432.4237 | V103: =(0.5 * P103 * Q103 * N103) / O103 -> 0.057860781 | W103: =(1 / V103) * LN(R103 / S103) -> 129.40473 | Y103: IBC | Z103: Small | AA103: Medium | AB103: Small | AC103: Medium
B104: 3 | C104: =('Size and weight of HO fragments'!B5/1000)*('Size and weight of HO fragments'!C5/1000) -> 0.001656 | D104: 0.02779 | E104: 1000 | F104: 2.1 | G104: ='Size and weight of HO fragments'!J5 -> 1820.2603 | H104: 1 | J104: =0.5 * E104 * (G104^2) * F104 * C104 -> 5761248.7 | K104: =(0.5 * E104 * F104 * C104) / D104 -> 62.56927 | L104: =(1 / K104) * LN(G104 / H104) -> 0.11997479 | N104: =('Size and weight of HO fragments'!G5/1000)*('Size and weight of HO fragments'!C5/1000) -> 2.788e-05 | O104: =D104 -> 0.02779 | P104: 1000 | Q104: 0.1 | R104: =G104 -> 1820.2603 | S104: 1 | U104: =0.5 * P104 * (R104^2) * Q104 * N104 -> 4618.8064 | V104: =(0.5 * P104 * Q104 * N104) / O104 -> 0.050161929 | W104: =(1 / V104) * LN(R104 / S104) -> 149.65004 | Y104: D | Z104: =AVERAGE(L108:L164) -> 0.064085594 | AA104: =AVERAGE(L102:L107) -> 0.099793365 | AB104: =AVERAGE(W108:W164) -> 5.297812 | AC104: =AVERAGE(W102:W107) -> 107.10549
B105: 4 | C105: =('Size and weight of HO fragments'!B6/1000)*('Size and weight of HO fragments'!C6/1000) -> 0.001625 | D105: 0.02185 | E105: 1000 | F105: 2.1 | G105: ='Size and weight of HO fragments'!J6 -> 1956.5217 | H105: 1 | J105: =0.5 * E105 * (G105^2) * F105 * C105 -> 6531486.3 | K105: =(0.5 * E105 * F105 * C105) / D105 -> 78.089245 | L105: =(1 / K105) * LN(G105 / H105) -> 0.09705464 | N105: =('Size and weight of HO fragments'!G6/1000)*('Size and weight of HO fragments'!C6/1000) -> 3.1416667e-05 | O105: =D105 -> 0.02185 | P105: 1000 | Q105: 0.1 | R105: =G105 -> 1956.5217 | S105: 1 | U105: =0.5 * P105 * (R105^2) * Q105 * N105 -> 6013.1144 | V105: =(0.5 * P105 * Q105 * N105) / O105 -> 0.071891686 | W105: =(1 / V105) * LN(R105 / S105) -> 105.42142 | Y105: E | Z105: =AVERAGE(L176:L217) -> 0.058045453 | AA105: =AVERAGE(L171:L175) -> 0.097235218 | AB105: =AVERAGE(W176:W217) -> 7.1917959 | AC105: =AVERAGE(W171:W175) -> 104.27272
B106: 5 | C106: =('Size and weight of HO fragments'!B7/1000)*('Size and weight of HO fragments'!C7/1000) -> 0.00137 | D106: 0.02183 | E106: 1000 | F106: 2.1 | G106: ='Size and weight of HO fragments'!J7 -> 1957.015 | H106: 1 | J106: =0.5 * E106 * (G106^2) * F106 * C106 -> 5509322.2 | K106: =(0.5 * E106 * F106 * C106) / D106 -> 65.895557 | L106: =(1 / K106) * LN(G106 / H106) -> 0.11501801 | N106: =('Size and weight of HO fragments'!G7/1000)*('Size and weight of HO fragments'!C7/1000) -> 2.84e-05 | O106: =D106 -> 0.02183 | P106: 1000 | Q106: 0.1 | R106: =G106 -> 1957.015 | S106: 1 | U106: =0.5 * P106 * (R106^2) * Q106 * N106 -> 5438.469 | V106: =(0.5 * P106 * Q106 * N106) / O106 -> 0.065048099 | W106: =(1 / V106) * LN(R106 / S106) -> 116.51648 | Y106: F | Z106: =AVERAGE(L230:L282) -> 0.072840847 | AA106: =AVERAGE(L224:L229) -> 0.10594513 | AB106: =AVERAGE(W230:W282) -> 9.4729463 | AC106: =AVERAGE(W224:W229) -> 94.950004
B107: 6 | C107: =('Size and weight of HO fragments'!B8/1000)*('Size and weight of HO fragments'!C8/1000) -> 0.001586 | D107: 0.01609 | E107: 1000 | F107: 2.1 | G107: ='Size and weight of HO fragments'!J8 -> 2109.6616 | H107: 1 | J107: =0.5 * E107 * (G107^2) * F107 * C107 -> 7411704.5 | K107: =(0.5 * E107 * F107 * C107) / D107 -> 103.49907 | L107: =(1 / K107) * LN(G107 / H107) -> 0.07395509 | N107: =('Size and weight of HO fragments'!G8/1000)*('Size and weight of HO fragments'!C8/1000) -> 3.1503333e-05 | O107: =D107 -> 0.01609 | P107: 1000 | Q107: 0.1 | R107: =G107 -> 2109.6616 | S107: 1 | U107: =0.5 * P107 * (R107^2) * Q107 * N107 -> 7010.5505 | V107: =(0.5 * P107 * Q107 * N107) / O107 -> 0.097897245 | W107: =(1 / V107) * LN(R107 / S107) -> 78.186908
B108: 7 | C108: =('Size and weight of HO fragments'!B9/1000)*('Size and weight of HO fragments'!C9/1000) -> 0.0003433257 | D108: 0.00351 | E108: 1000 | F108: 2.1 | G108: ='Size and weight of HO fragments'!J9 -> 2544.6648 | H108: 1 | J108: =0.5 * E108 * (G108^2) * F108 * C108 -> 2334300.6 | K108: =(0.5 * E108 * F108 * C108) / D108 -> 102.70427 | L108: =(1 / K108) * LN(G108 / H108) -> 0.076352758 | N108: =('Size and weight of HO fragments'!G9/1000)*('Size and weight of HO fragments'!C9/1000) -> 1.9382e-05 | O108: =D108 -> 0.00351 | P108: 1000 | Q108: 0.1 | R108: =G108 -> 2544.6648 | S108: 1 | U108: =0.5 * P108 * (R108^2) * Q108 * N108 -> 6275.2316 | V108: =(0.5 * P108 * Q108 * N108) / O108 -> 0.27609687 | W108: =(1 / V108) * LN(R108 / S108) -> 28.402185
B109: 8 | C109: =('Size and weight of HO fragments'!B10/1000)*('Size and weight of HO fragments'!C10/1000) -> 0.0002460139 | D109: 0.0033 | E109: 1000 | F109: 2.1 | G109: ='Size and weight of HO fragments'!J10 -> 2553.4539 | H109: 1 | J109: =0.5 * E109 * (G109^2) * F109 * C109 -> 1684244 | K109: =(0.5 * E109 * F109 * C109) / D109 -> 78.27715 | L109: =(1 / K109) * LN(G109 / H109) -> 0.1002234 | N109: =('Size and weight of HO fragments'!G10/1000)*('Size and weight of HO fragments'!C10/1000) -> 6.79953e-05 | O109: =D109 -> 0.0033 | P109: 1000 | Q109: 0.1 | R109: =G109 -> 2553.4539 | S109: 1 | U109: =0.5 * P109 * (R109^2) * Q109 * N109 -> 22166.9 | V109: =(0.5 * P109 * Q109 * N109) / O109 -> 1.0302318 | W109: =(1 / V109) * LN(R109 / S109) -> 7.6149873 | Y109: Std. Deviation
B110: 9 | C110: =('Size and weight of HO fragments'!B11/1000)*('Size and weight of HO fragments'!C11/1000) -> 0.0002059266 | D110: 0.00349 | E110: 1000 | F110: 2.1 | G110: ='Size and weight of HO fragments'!J11 -> 2545.4993 | H110: 1 | J110: =0.5 * E110 * (G110^2) * F110 * C110 -> 1401030.9 | K110: =(0.5 * E110 * F110 * C110) / D110 -> 61.954994 | L110: =(1 / K110) * LN(G110 / H110) -> 0.12657708 | N110: =('Size and weight of HO fragments'!G11/1000)*('Size and weight of HO fragments'!C11/1000) -> 7.97528e-05 | O110: =D110 -> 0.00349 | P110: 1000 | Q110: 0.1 | R110: =G110 -> 2545.4993 | S110: 1 | U110: =0.5 * P110 * (R110^2) * Q110 * N110 -> 25838.179 | V110: =(0.5 * P110 * Q110 * N110) / O110 -> 1.1425903 | W110: =(1 / V110) * LN(R110 / S110) -> 6.8634246 | Z110: A | AB110: B
B111: 10 | C111: =('Size and weight of HO fragments'!B12/1000)*('Size and weight of HO fragments'!C12/1000) -> 0.000199794 | D111: 0.00148 | E111: 1000 | F111: 2.1 | G111: ='Size and weight of HO fragments'!J12 -> 2632.2482 | H111: 1 | J111: =0.5 * E111 * (G111^2) * F111 * C111 -> 1453534.8 | K111: =(0.5 * E111 * F111 * C111) / D111 -> 141.74574 | L111: =(1 / K111) * LN(G111 / H111) -> 0.055561412 | N111: =('Size and weight of HO fragments'!G12/1000)*('Size and weight of HO fragments'!C12/1000) -> 2.22656e-05 | O111: =D111 -> 0.00148 | P111: 1000 | Q111: 0.1 | R111: =G111 -> 2632.2482 | S111: 1 | U111: =0.5 * P111 * (R111^2) * Q111 * N111 -> 7713.6173 | V111: =(0.5 * P111 * Q111 * N111) / O111 -> 0.75221622 | W111: =(1 / V111) * LN(R111 / S111) -> 10.469854 | Y111: IBC | Z111: Small | AA111: Medium | AB111: Small | AC111: Medium
B112: 11 | C112: =('Size and weight of HO fragments'!B13/1000)*('Size and weight of HO fragments'!C13/1000) -> 0.0001530714 | D112: 0.00163 | E112: 1000 | F112: 2.1 | G112: ='Size and weight of HO fragments'!J13 -> 2625.5708 | H112: 1 | J112: =0.5 * E112 * (G112^2) * F112 * C112 -> 1107977.2 | K112: =(0.5 * E112 * F112 * C112) / D112 -> 98.604276 | L112: =(1 / K112) * LN(G112 / H112) -> 0.079844951 | N112: =('Size and weight of HO fragments'!G13/1000)*('Size and weight of HO fragments'!C13/1000) -> 2.67546e-05 | O112: =D112 -> 0.00163 | P112: 1000 | Q112: 0.1 | R112: =G112 -> 2625.5708 | S112: 1 | U112: =0.5 * P112 * (R112^2) * Q112 * N112 -> 9221.8048 | V112: =(0.5 * P112 * Q112 * N112) / O112 -> 0.82069325 | W112: =(1 / V112) * LN(R112 / S112) -> 9.5931745 | Y112: D | Z112: =STDEV(L108:L164) -> 0.026936677 | AA112: =STDEV(M108:M164) -> #DIV/0! | AB112: =STDEV(W108:W164) -> 3.9938964 | AC112: =STDEV(W102:W107) -> 32.063967
B113: 12 | C113: =('Size and weight of HO fragments'!B14/1000)*('Size and weight of HO fragments'!C14/1000) -> 0.000152295 | D113: 0.0016 | E113: 1000 | F113: 2.1 | G113: ='Size and weight of HO fragments'!J14 -> 2626.9036 | H113: 1 | J113: =0.5 * E113 * (G113^2) * F113 * C113 -> 1103476.8 | K113: =(0.5 * E113 * F113 * C113) / D113 -> 99.943594 | L113: =(1 / K113) * LN(G113 / H113) -> 0.078780048 | N113: =('Size and weight of HO fragments'!G14/1000)*('Size and weight of HO fragments'!C14/1000) -> 2.0306e-05 | O113: =D113 -> 0.0016 | P113: 1000 | Q113: 0.1 | R113: =G113 -> 2626.9036 | S113: 1 | U113: =0.5 * P113 * (R113^2) * Q113 * N113 -> 7006.2018 | V113: =(0.5 * P113 * Q113 * N113) / O113 -> 0.6345625 | W113: =(1 / V113) * LN(R113 / S113) -> 12.407858 | Y113: E | Z113: =STDEV(L176:L217) -> 0.026062116 | AA113: =STDEV(M109:M165) -> #DIV/0! | AB113: =STDEV(N109:N165) -> 1.6017585e-05 | AC113: =STDEV(O109:O165) -> 0.00080727051
B114: 13 | C114: =('Size and weight of HO fragments'!B15/1000)*('Size and weight of HO fragments'!C15/1000) -> 0.0001695408 | D114: 0.00219 | E114: 1000 | F114: 2.1 | G114: ='Size and weight of HO fragments'!J15 -> 2600.9382 | H114: 1 | J114: =0.5 * E114 * (G114^2) * F114 * C114 -> 1204269.2 | K114: =(0.5 * E114 * F114 * C114) / D114 -> 81.286685 | L114: =(1 / K114) * LN(G114 / H114) -> 0.096739429 | N114: =('Size and weight of HO fragments'!G15/1000)*('Size and weight of HO fragments'!C15/1000) -> 6.11952e-05 | O114: =D114 -> 0.00219 | P114: 1000 | Q114: 0.1 | R114: =G114 -> 2600.9382 | S114: 1 | U114: =0.5 * P114 * (R114^2) * Q114 * N114 -> 20698.907 | V114: =(0.5 * P114 * Q114 * N114) / O114 -> 1.3971507 | W114: =(1 / V114) * LN(R114 / S114) -> 5.6283317 | Y114: F | Z114: =STDEV(L110:L166) -> 0.026920222 | AA114: =STDEV(M110:M166) -> #DIV/0! | AB114: =STDEV(N110:N166) -> 1.478204e-05 | AC114: =STDEV(O110:O166) -> 0.00073472586
B115: 14 | C115: =('Size and weight of HO fragments'!B16/1000)*('Size and weight of HO fragments'!C16/1000) -> 6.32058e-05 | D115: 0.0006 | E115: 1000 | F115: 2.1 | G115: ='Size and weight of HO fragments'!J16 -> 2672.117 | H115: 1 | J115: =0.5 * E115 * (G115^2) * F115 * C115 -> 473867.78 | K115: =(0.5 * E115 * F115 * C115) / D115 -> 110.61015 | L115: =(1 / K115) * LN(G115 / H115) -> 0.071337272 | N115: =('Size and weight of HO fragments'!G16/1000)*('Size and weight of HO fragments'!C16/1000) -> 2.15635e-05 | O115: =D115 -> 0.0006 | P115: 1000 | Q115: 0.1 | R115: =G115 -> 2672.117 | S115: 1 | U115: =0.5 * P115 * (R115^2) * Q115 * N115 -> 7698.3953 | V115: =(0.5 * P115 * Q115 * N115) / O115 -> 1.7969583 | W115: =(1 / V115) * LN(R115 / S115) -> 4.3911014
B116: 15 | C116: =('Size and weight of HO fragments'!B17/1000)*('Size and weight of HO fragments'!C17/1000) -> 0.0002387616 | D116: 0.0024 | E116: 1000 | F116: 2.1 | G116: ='Size and weight of HO fragments'!J17 -> 2591.8197 | H116: 1 | J116: =0.5 * E116 * (G116^2) * F116 * C116 -> 1684082.5 | K116: =(0.5 * E116 * F116 * C116) / D116 -> 104.4582 | L116: =(1 / K116) * LN(G116 / H116) -> 0.075246515 | N116: =('Size and weight of HO fragments'!G17/1000)*('Size and weight of HO fragments'!C17/1000) -> 3.38976e-05 | O116: =D116 -> 0.0024 | P116: 1000 | Q116: 0.1 | R116: =G116 -> 2591.8197 | S116: 1 | U116: =0.5 * P116 * (R116^2) * Q116 * N116 -> 11385.406 | V116: =(0.5 * P116 * Q116 * N116) / O116 -> 0.7062 | W116: =(1 / V116) * LN(R116 / S116) -> 11.130155
B117: 16 | C117: =('Size and weight of HO fragments'!B18/1000)*('Size and weight of HO fragments'!C18/1000) -> 0.0001460115 | D117: 0.00282 | E117: 1000 | F117: 2.1 | G117: ='Size and weight of HO fragments'!J18 -> 2573.7732 | H117: 1 | J117: =0.5 * E117 * (G117^2) * F117 * C117 -> 1015586.5 | K117: =(0.5 * E117 * F117 * C117) / D117 -> 54.365984 | L117: =(1 / K117) * LN(G117 / H117) -> 0.1444493 | N117: =('Size and weight of HO fragments'!G18/1000)*('Size and weight of HO fragments'!C18/1000) -> 5.29305e-05 | O117: =D117 -> 0.00282 | P117: 1000 | Q117: 0.1 | R117: =G117 -> 2573.7732 | S117: 1 | U117: =0.5 * P117 * (R117^2) * Q117 * N117 -> 17531.398 | V117: =(0.5 * P117 * Q117 * N117) / O117 -> 0.93848404 | W117: =(1 / V117) * LN(R117 / S117) -> 8.3678868
B118: 17 | C118: =('Size and weight of HO fragments'!B19/1000)*('Size and weight of HO fragments'!C19/1000) -> 9.9904e-05 | D118: 0.00081 | E118: 1000 | F118: 2.1 | G118: ='Size and weight of HO fragments'!J19 -> 2662.4936 | H118: 1 | J118: =0.5 * E118 * (G118^2) * F118 * C118 -> 743617 | K118: =(0.5 * E118 * F118 * C118) / D118 -> 129.50519 | L118: =(1 / K118) * LN(G118 / H118) -> 0.060901178 | N118: =('Size and weight of HO fragments'!G19/1000)*('Size and weight of HO fragments'!C19/1000) -> 1.8816e-05 | O118: =D118 -> 0.00081 | P118: 1000 | Q118: 0.1 | R118: =G118 -> 2662.4936 | S118: 1 | U118: =0.5 * P118 * (R118^2) * Q118 * N118 -> 6669.2108 | V118: =(0.5 * P118 * Q118 * N118) / O118 -> 1.1614815 | W118: =(1 / V118) * LN(R118 / S118) -> 6.7904814
B119: 18 | C119: =('Size and weight of HO fragments'!B20/1000)*('Size and weight of HO fragments'!C20/1000) -> 9.07556e-05 | D119: 0.00121 | E119: 1000 | F119: 2.1 | G119: ='Size and weight of HO fragments'!J20 -> 2644.3536 | H119: 1 | J119: =0.5 * E119 * (G119^2) * F119 * C119 -> 666349.06 | K119: =(0.5 * E119 * F119 * C119) / D119 -> 78.75486 | L119: =(1 / K119) * LN(G119 / H119) -> 0.10005963 | N119: =('Size and weight of HO fragments'!G20/1000)*('Size and weight of HO fragments'!C20/1000) -> 3.43356e-05 | O119: =D119 -> 0.00121 | P119: 1000 | Q119: 0.1 | R119: =G119 -> 2644.3536 | S119: 1 | U119: =0.5 * P119 * (R119^2) * Q119 * N119 -> 12004.766 | V119: =(0.5 * P119 * Q119 * N119) / O119 -> 1.4188264 | W119: =(1 / V119) * LN(R119 / S119) -> 5.554014
B120: 19 | C120: =('Size and weight of HO fragments'!B21/1000)*('Size and weight of HO fragments'!C21/1000) -> 0.0001211115 | D120: 0.00133 | E120: 1000 | F120: 2.1 | G120: ='Size and weight of HO fragments'!J21 -> 2638.9597 | H120: 1 | J120: =0.5 * E120 * (G120^2) * F120 * C120 -> 885605.29 | K120: =(0.5 * E120 * F120 * C120) / D120 -> 95.614342 | L120: =(1 / K120) * LN(G120 / H120) -> 0.082394962 | N120: =('Size and weight of HO fragments'!G21/1000)*('Size and weight of HO fragments'!C21/1000) -> 3.95109e-05 | O120: =D120 -> 0.00133 | P120: 1000 | Q120: 0.1 | R120: =G120 -> 2638.9597 | S120: 1 | U120: =0.5 * P120 * (R120^2) * Q120 * N120 -> 13757.909 | V120: =(0.5 * P120 * Q120 * N120) / O120 -> 1.4853722 | W120: =(1 / V120) * LN(R120 / S120) -> 5.3038156
B121: 20 | C121: =('Size and weight of HO fragments'!B22/1000)*('Size and weight of HO fragments'!C22/1000) -> 0.0001421884 | D121: 0.00137 | E121: 1000 | F121: 2.1 | G121: ='Size and weight of HO fragments'!J22 -> 2637.1666 | H121: 1 | J121: =0.5 * E121 * (G121^2) * F121 * C121 -> 1038313.8 | K121: =(0.5 * E121 * F121 * C121) / D121 -> 108.97651 | L121: =(1 / K121) * LN(G121 / H121) -> 0.072285856 | N121: =('Size and weight of HO fragments'!G22/1000)*('Size and weight of HO fragments'!C22/1000) -> 3.60506e-05 | O121: =D121 -> 0.00137 | P121: 1000 | Q121: 0.1 | R121: =G121 -> 2637.1666 | S121: 1 | U121: =0.5 * P121 * (R121^2) * Q121 * N121 -> 12535.961 | V121: =(0.5 * P121 * Q121 * N121) / O121 -> 1.3157153 | W121: =(1 / V121) * LN(R121 / S121) -> 5.9872073
B122: 21 | C122: =('Size and weight of HO fragments'!B23/1000)*('Size and weight of HO fragments'!C23/1000) -> 0.0001085508 | D122: 0.00107 | E122: 1000 | F122: 2.1 | G122: ='Size and weight of HO fragments'!J23 -> 2650.6744 | H122: 1 | J122: =0.5 * E122 * (G122^2) * F122 * C122 -> 800820.34 | K122: =(0.5 * E122 * F122 * C122) / D122 -> 106.52181 | L122: =(1 / K122) * LN(G122 / H122) -> 0.07399958 | N122: =('Size and weight of HO fragments'!G23/1000)*('Size and weight of HO fragments'!C23/1000) -> 2.45594e-05 | O122: =D122 -> 0.00107 | P122: 1000 | Q122: 0.1 | R122: =G122 -> 2650.6744 | S122: 1 | U122: =0.5 * P122 * (R122^2) * Q122 * N122 -> 8627.8091 | V122: =(0.5 * P122 * Q122 * N122) / O122 -> 1.1476355 | W122: =(1 / V122) * LN(R122 / S122) -> 6.8685304
B123: 22 | C123: =('Size and weight of HO fragments'!B24/1000)*('Size and weight of HO fragments'!C24/1000) -> 8.8774e-05 | D123: 0.00069 | E123: 1000 | F123: 2.1 | G123: ='Size and weight of HO fragments'!J24 -> 2667.9842 | H123: 1 | J123: =0.5 * E123 * (G123^2) * F123 * C123 -> 663501.01 | K123: =(0.5 * E123 * F123 * C123) / D123 -> 135.09087 | L123: =(1 / K123) * LN(G123 / H123) -> 0.05839831 | N123: =('Size and weight of HO fragments'!G24/1000)*('Size and weight of HO fragments'!C24/1000) -> 1.04125e-05 | O123: =D123 -> 0.00069 | P123: 1000 | Q123: 0.1 | R123: =G123 -> 2667.9842 | S123: 1 | U123: =0.5 * P123 * (R123^2) * Q123 * N123 -> 3705.8814 | V123: =(0.5 * P123 * Q123 * N123) / O123 -> 0.75452899 | W123: =(1 / V123) * LN(R123 / S123) -> 10.455633
B124: 23 | C124: =('Size and weight of HO fragments'!B25/1000)*('Size and weight of HO fragments'!C25/1000) -> 9.28987e-05 | D124: 0.00071 | E124: 1000 | F124: 2.1 | G124: ='Size and weight of HO fragments'!J25 -> 2667.0675 | H124: 1 | J124: =0.5 * E124 * (G124^2) * F124 * C124 -> 693852.18 | K124: =(0.5 * E124 * F124 * C124) / D124 -> 137.3854 | L124: =(1 / K124) * LN(G124 / H124) -> 0.057420474 | N124: =('Size and weight of HO fragments'!G25/1000)*('Size and weight of HO fragments'!C25/1000) -> 1.8775e-05 | O124: =D124 -> 0.00071 | P124: 1000 | Q124: 0.1 | R124: =G124 -> 2667.0675 | S124: 1 | U124: =0.5 * P124 * (R124^2) * Q124 * N124 -> 6677.5626 | V124: =(0.5 * P124 * Q124 * N124) / O124 -> 1.3221831 | W124: =(1 / V124) * LN(R124 / S124) -> 5.9664466
B125: 24 | C125: =('Size and weight of HO fragments'!B26/1000)*('Size and weight of HO fragments'!C26/1000) -> 4.68796e-05 | D125: 0.0005 | E125: 1000 | F125: 2.1 | G125: ='Size and weight of HO fragments'!J26 -> 2676.7241 | H125: 1 | J125: =0.5 * E125 * (G125^2) * F125 * C125 -> 352679.67 | K125: =(0.5 * E125 * F125 * C125) / D125 -> 98.44716 | L125: =(1 / K125) * LN(G125 / H125) -> 0.080168377 | N125: =('Size and weight of HO fragments'!G26/1000)*('Size and weight of HO fragments'!C26/1000) -> 1.39334e-05 | O125: =D125 -> 0.0005 | P125: 1000 | Q125: 0.1 | R125: =G125 -> 2676.7241 | S125: 1 | U125: =0.5 * P125 * (R125^2) * Q125 * N125 -> 4991.5375 | V125: =(0.5 * P125 * Q125 * N125) / O125 -> 1.39334 | W125: =(1 / V125) * LN(R125 / S125) -> 5.6643382
B126: 25 | C126: =('Size and weight of HO fragments'!B27/1000)*('Size and weight of HO fragments'!C27/1000) -> 3.77696e-05 | D126: 0.00032 | E126: 1000 | F126: 2.1 | G126: ='Size and weight of HO fragments'!J27 -> 2685.0571 | H126: 1 | J126: =0.5 * E126 * (G126^2) * F126 * C126 -> 285916.18 | K126: =(0.5 * E126 * F126 * C126) / D126 -> 123.9315 | L126: =(1 / K126) * LN(G126 / H126) -> 0.063708236 | N126: =('Size and weight of HO fragments'!G27/1000)*('Size and weight of HO fragments'!C27/1000) -> 1.92992e-05 | O126: =D126 -> 0.00032 | P126: 1000 | Q126: 0.1 | R126: =G126 -> 2685.0571 | S126: 1 | U126: =0.5 * P126 * (R126^2) * Q126 * N126 -> 6956.9095 | V126: =(0.5 * P126 * Q126 * N126) / O126 -> 3.0155 | W126: =(1 / V126) * LN(R126 / S126) -> 2.6182912
... B164: 63 | C164: =('Size and weight of HO fragments'!B65/1000)*('Size and weight of HO fragments'!C65/1000) -> 1.392e-05 | D164: 5e-05 | E164: 1000 | F164: 2.1 | G164: ='Size and weight of HO fragments'!J65 -> 2697.6542 | H164: 1 | J164: =0.5 * E164 * (G164^2) * F164 * C164 -> 106365.58 | K164: =(0.5 * E164 * F164 * C164) / D164 -> 292.32 | L164: =(1 / K164) * LN(G164 / H164) -> 0.02702565 | N164: =('Size and weight of HO fragments'!G65/1000)*('Size and weight of HO fragments'!C65/1000) -> 2.552e-06 | O164: =D164 -> 5e-05 | P164: 1000 | Q164: 0.1 | R164: =G164 -> 2697.6542 | S164: 1 | U164: =0.5 * P164 * (R164^2) * Q164 * N164 -> 928.58836 | V164: =(0.5 * P164 * Q164 * N164) / O164 -> 2.552 | W164: =(1 / V164) * LN(R164 / S164) -> 3.0956653
C166: E
C167: Best case | N167: Worst case
B168: Fragment | C168: Surface Area | D168: Mass of object | E168: Density of water | F168: Drag Coefficient | G168: Initial velocity | H168: Final velocity | J168: Drag Force | K168: Constant | L168: Stopping distance | N168: Surface Area | O168: Mass of object | P168: Density of water | Q168: Drag Coefficient | R168: Initial velocity | S168: Final velocity | U168: Drag Force | V168: Constant | W168: Stopping distance
C169: A | D169: m | E169: Pw | F169: CD | G169: v0 | H169: vfinal | J169: FD | K169: k | L169: x | N169: A | O169: m | P169: Pw | Q169: CD | R169: v0 | S169: vfinal | U169: FD | V169: k | W169: x
C170: m2 | D170: kg | E170: kg/m3 | F170: Dimentionless | G170: m/s | H170: m/s | J170: N | K170: m-1 | L170: m | N170: m2 | O170: kg | P170: kg/m3 | Q170: Dimentionless | R170: m/s | S170: m/s | U170: N | V170: m-1 | W170: m
B171: 1 | C171: =('Size and weight of HO fragments'!N3/1000)*('Size and weight of HO fragments'!O3/1000) -> 0.0028 | D171: 0.03683 | E171: 1000 | F171: 2.1 | G171: ='Size and weight of HO fragments'!V3 -> 1645.8179 | H171: 1 | J171: =0.5 * E171 * (G171^2) * F171 * C171 -> 7963626.4 | K171: =(0.5 * E171 * F171 * C171) / D171 -> 79.826229 | L171: =(1 / K171) * LN(G171 / H171) -> 0.092776433 | N171: =('Size and weight of HO fragments'!O3/1000)*('Size and weight of HO fragments'!S3/1000) -> 5.44e-05 | O171: =D171 -> 0.03683 | P171: 1000 | Q171: 0.1 | R171: =G171 -> 1645.8179 | S171: 1 | U171: =0.5 * P171 * (R171^2) * Q171 * N171 -> 7367.7088 | V171: =(0.5 * P171 * Q171 * N171) / O171 -> 0.073852837 | W171: =(1 / V171) * LN(R171 / S171) -> 100.28041
B172: 2 | C172: =('Size and weight of HO fragments'!N4/1000)*('Size and weight of HO fragments'!O4/1000) -> 0.0021 | D172: 0.02822 | E172: 1000 | F172: 2.1 | G172: ='Size and weight of HO fragments'!V4 -> 1811.1293 | H172: 1 | J172: =0.5 * E172 * (G172^2) * F172 * C172 -> 7232817.2 | K172: =(0.5 * E172 * F172 * C172) / D172 -> 78.136074 | L172: =(1 / K172) * LN(G172 / H172) -> 0.096008226 | N172: =('Size and weight of HO fragments'!O4/1000)*('Size and weight of HO fragments'!S4/1000) -> 3.28e-05 | O172: =D172 -> 0.02822 | P172: 1000 | Q172: 0.1 | R172: =G172 -> 1811.1293 | S172: 1 | U172: =0.5 * P172 * (R172^2) * Q172 * N172 -> 5379.5103 | V172: =(0.5 * P172 * Q172 * N172) / O172 -> 0.058114812 | W172: =(1 / V172) * LN(R172 / S172) -> 129.08423
B173: 3 | C173: =('Size and weight of HO fragments'!N5/1000)*('Size and weight of HO fragments'!O5/1000) -> 0.001508 | D173: 0.02129 | E173: 1000 | F173: 2.1 | G173: ='Size and weight of HO fragments'!V5 -> 1970.4277 | H173: 1 | J173: =0.5 * E173 * (G173^2) * F173 * C173 -> 6147685.7 | K173: =(0.5 * E173 * F173 * C173) / D173 -> 74.372945 | L173: =(1 / K173) * LN(G173 / H173) -> 0.10199954 | N173: =('Size and weight of HO fragments'!O5/1000)*('Size and weight of HO fragments'!S5/1000) -> 3.2976667e-05 | O173: =D173 -> 0.02129 | P173: 1000 | Q173: 0.1 | R173: =G173 -> 1970.4277 | S173: 1 | U173: =0.5 * P173 * (R173^2) * Q173 * N173 -> 6401.7362 | V173: =(0.5 * P173 * Q173 * N173) / O173 -> 0.077446375 | W173: =(1 / V173) * LN(R173 / S173) -> 97.951723
B174: 4 | C174: =('Size and weight of HO fragments'!N6/1000)*('Size and weight of HO fragments'!O6/1000) -> 0.00108 | D174: 0.01869 | E174: 1000 | F174: 2.1 | G174: ='Size and weight of HO fragments'!V6 -> 2037.669 | H174: 1 | J174: =0.5 * E174 * (G174^2) * F174 * C174 -> 4708475.6 | K174: =(0.5 * E174 * F174 * C174) / D174 -> 60.674157 | L174: =(1 / K174) * LN(G174 / H174) -> 0.12558167 | N174: =('Size and weight of HO fragments'!O6/1000)*('Size and weight of HO fragments'!S6/1000) -> 2.232e-05 | O174: =D174 -> 0.01869 | P174: 1000 | Q174: 0.1 | R174: =G174 -> 2037.669 | S174: 1 | U174: =0.5 * P174 * (R174^2) * Q174 * N174 -> 4633.7379 | V174: =(0.5 * P174 * Q174 * N174) / O174 -> 0.059711075 | W174: =(1 / V174) * LN(R174 / S174) -> 127.60718
B175: 5 | C175: =('Size and weight of HO fragments'!N7/1000)*('Size and weight of HO fragments'!O7/1000) -> 0.00092 | D175: 0.00869 | E175: 1000 | F175: 2.1 | G175: ='Size and weight of HO fragments'!V7 -> 2345.5205 | H175: 1 | J175: =0.5 * E175 * (G175^2) * F175 * C175 -> 5314416.4 | K175: =(0.5 * E175 * F175 * C175) / D175 -> 111.16226 | L175: =(1 / K175) * LN(G175 / H175) -> 0.06981023 | N175: =('Size and weight of HO fragments'!O7/1000)*('Size and weight of HO fragments'!S7/1000) -> 2.03e-05 | O175: =D175 -> 0.00869 | P175: 1000 | Q175: 0.1 | R175: =G175 -> 2345.5205 | S175: 1 | U175: =0.5 * P175 * (R175^2) * Q175 * N175 -> 5583.9883 | V175: =(0.5 * P175 * Q175 * N175) / O175 -> 0.11680092 | W175: =(1 / V175) * LN(R175 / S175) -> 66.440081
B176: 6 | C176: =('Size and weight of HO fragments'!N8/1000)*('Size and weight of HO fragments'!O8/1000) -> 0.00062577 | D176: 0.00781 | E176: 1000 | F176: 2.1 | G176: ='Size and weight of HO fragments'!V8 -> 2377.1245 | H176: 1 | J176: =0.5 * E176 * (G176^2) * F176 * C176 -> 3712854.1 | K176: =(0.5 * E176 * F176 * C176) / D176 -> 84.13041 | L176: =(1 / K176) * LN(G176 / H176) -> 0.092399964 | N176: =('Size and weight of HO fragments'!O8/1000)*('Size and weight of HO fragments'!S8/1000) -> 3.4425e-05 | O176: =D176 -> 0.00781 | P176: 1000 | Q176: 0.1 | R176: =G176 -> 2377.1245 | S176: 1 | U176: =0.5 * P176 * (R176^2) * Q176 * N176 -> 9726.3032 | V176: =(0.5 * P176 * Q176 * N176) / O176 -> 0.22039052 | W176: =(1 / V176) * LN(R176 / S176) -> 35.272146
B177: 7 | C177: =('Size and weight of HO fragments'!N9/1000)*('Size and weight of HO fragments'!O9/1000) -> 0.0002840052 | D177: 0.00246 | E177: 1000 | F177: 2.1 | G177: ='Size and weight of HO fragments'!V9 -> 2589.2262 | H177: 1 | J177: =0.5 * E177 * (G177^2) * F177 * C177 -> 1999196.9 | K177: =(0.5 * E177 * F177 * C177) / D177 -> 121.22173 | L177: =(1 / K177) * LN(G177 / H177) -> 0.064832553 | N177: =('Size and weight of HO fragments'!O9/1000)*('Size and weight of HO fragments'!S9/1000) -> 2.22987e-05 | O177: =D177 -> 0.00246 | P177: 1000 | Q177: 0.1 | R177: =G177 -> 2589.2262 | S177: 1 | U177: =0.5 * P177 * (R177^2) * Q177 * N177 -> 7474.6269 | V177: =(0.5 * P177 * Q177 * N177) / O177 -> 0.45322561 | W177: =(1 / V177) * LN(R177 / S177) -> 17.340402
B178: 8 | C178: =('Size and weight of HO fragments'!N10/1000)*('Size and weight of HO fragments'!O10/1000) -> 0.0006353977 | D178: 0.0054 | E178: 1000 | F178: 2.1 | G178: ='Size and weight of HO fragments'!V10 -> 2468.2035 | H178: 1 | J178: =0.5 * E178 * (G178^2) * F178 * C178 -> 4064403.9 | K178: =(0.5 * E178 * F178 * C178) / D178 -> 123.54955 | L178: =(1 / K178) * LN(G178 / H178) -> 0.063223586 | N178: =('Size and weight of HO fragments'!O10/1000)*('Size and weight of HO fragments'!S10/1000) -> 3.55446e-05 | O178: =D178 -> 0.0054 | P178: 1000 | Q178: 0.1 | R178: =G178 -> 2468.2035 | S178: 1 | U178: =0.5 * P178 * (R178^2) * Q178 * N178 -> 10826.936 | V178: =(0.5 * P178 * Q178 * N178) / O178 -> 0.32911667 | W178: =(1 / V178) * LN(R178 / S178) -> 23.733972
B179: 9 | C179: =('Size and weight of HO fragments'!N11/1000)*('Size and weight of HO fragments'!O11/1000) -> 0.0002042766 | D179: 0.00323 | E179: 1000 | F179: 2.1 | G179: ='Size and weight of HO fragments'!V11 -> 2556.3972 | H179: 1 | J179: =0.5 * E179 * (G179^2) * F179 * C179 -> 1401730.7 | K179: =(0.5 * E179 * F179 * C179) / D179 -> 66.405706 | L179: =(1 / K179) * LN(G179 / H179) -> 0.11815783 | N179: =('Size and weight of HO fragments'!O11/1000)*('Size and weight of HO fragments'!S11/1000) -> 5.55522e-05 | O179: =D179 -> 0.00323 | P179: 1000 | Q179: 0.1 | R179: =G179 -> 2556.3972 | S179: 1 | U179: =0.5 * P179 * (R179^2) * Q179 * N179 -> 18152.144 | V179: =(0.5 * P179 * Q179 * N179) / O179 -> 0.85994118 | W179: =(1 / V179) * LN(R179 / S179) -> 9.1242918
B180: 10 | C180: =('Size and weight of HO fragments'!N12/1000)*('Size and weight of HO fragments'!O12/1000) -> 0.0002083872 | D180: 0.00199 | E180: 1000 | F180: 2.1 | G180: ='Size and weight of HO fragments'!V12 -> 2609.6823 | H180: 1 | J180: =0.5 * E180 * (G180^2) * F180 * C180 -> 1490169.3 | K180: =(0.5 * E180 * F180 * C180) / D180 -> 109.95305 | L180: =(1 / K180) * LN(G180 / H180) -> 0.071548576 | N180: =('Size and weight of HO fragments'!O12/1000)*('Size and weight of HO fragments'!S12/1000) -> 1.69344e-05 | O180: =D180 -> 0.00199 | P180: 1000 | Q180: 0.1 | R180: =G180 -> 2609.6823 | S180: 1 | U180: =0.5 * P180 * (R180^2) * Q180 * N180 -> 5766.5372 | V180: =(0.5 * P180 * Q180 * N180) / O180 -> 0.42548744 | W180: =(1 / V180) * LN(R180 / S180) -> 18.489344
B181: 11 | C181: =('Size and weight of HO fragments'!N13/1000)*('Size and weight of HO fragments'!O13/1000) -> 0.0001852556 | D181: 0.00131 | E181: 1000 | F181: 2.1 | G181: ='Size and weight of HO fragments'!V13 -> 2639.8572 | H181: 1 | J181: =0.5 * E181 * (G181^2) * F181 * C181 -> 1355568.6 | K181: =(0.5 * E181 * F181 * C181) / D181 -> 148.48731 | L181: =(1 / K181) * LN(G181 / H181) -> 0.053058271 | N181: =('Size and weight of HO fragments'!O13/1000)*('Size and weight of HO fragments'!S13/1000) -> 2.57992e-05 | O181: =D181 -> 0.00131 | P181: 1000 | Q181: 0.1 | R181: =G181 -> 2639.8572 | S181: 1 | U181: =0.5 * P181 * (R181^2) * Q181 * N181 -> 8989.5324 | V181: =(0.5 * P181 * Q181 * N181) / O181 -> 0.98470229 | W181: =(1 / V181) * LN(R181 / S181) -> 8.0008752
...

Sheet Weibull Distribution
A2: LO | C2: Tank A
B4: Fragment | C4: Surface Area | D4: Mass of object | E4: Rank | F4: Rank Proportion | G4: Log of Mass Data | H4: Log of Complement Probability
C5: A | D5: m
C6: m2 | D6: kg
B7: 1 | C7: =('Size and weight of LO fragments'!B3/1000)*('Size and weight of LO fragments'!C3/1000) -> 0.013832 | D7: =('Size and weight of LO fragments'!H3)/1000 -> 0.28806 | E7: 26 | F7: =(E7-0.5)/COUNT(D$7:D$32) -> 0.98076923 | G7: =LN(D7) -> -1.2445865 | H7: =LN(-LN(1-F7)) -> 1.3740304
B8: 2 | C8: ='Size and weight of LO fragments'!B4*'Size and weight of LO fragments'!C4 -> 1548 | D8: =('Size and weight of LO fragments'!H4)/1000 -> 0.06795 | E8: 25 | F8: =(E8-0.5)/COUNT(D$7:D$32) -> 0.94230769 | G8: =LN(D8) -> -2.6889831 | H8: =LN(-LN(1-F8)) -> 1.0482419
B9: 3 | C9: ='Size and weight of LO fragments'!B5*'Size and weight of LO fragments'!C5 -> 840 | D9: =('Size and weight of LO fragments'!H5)/1000 -> 0.02624 | E9: 24 | F9: =(E9-0.5)/COUNT(D$7:D$32) -> 0.90384615 | G9: =LN(D9) -> -3.6404703 | H9: =LN(-LN(1-F9)) -> 0.85092234
B10: 4 | C10: ='Size and weight of LO fragments'!B6*'Size and weight of LO fragments'!C6 -> 525 | D10: =('Size and weight of LO fragments'!H6)/1000 -> 0.01632 | E10: 23 | F10: =(E10-0.5)/COUNT(D$7:D$32) -> 0.86538462 | G10: =LN(D10) -> -4.1153639 | H10: =LN(-LN(1-F10)) -> 0.69581042
B11: 5 | C11: ='Size and weight of LO fragments'!B7*'Size and weight of LO fragments'!C7 -> 525 | D11: =('Size and weight of LO fragments'!H7)/1000 -> 0.01582 | E11: 22 | F11: =(E11-0.5)/COUNT(D$7:D$32) -> 0.82692308 | G11: =LN(D11) -> -4.1464803 | H11: =LN(-LN(1-F11)) -> 0.56190981
B12: 6 | C12: ='Size and weight of LO fragments'!B8*'Size and weight of LO fragments'!C8 -> 475 | D12: =('Size and weight of LO fragments'!H8)/1000 -> 0.01547 | E12: 21 | F12: =(E12-0.5)/COUNT(D$7:D$32) -> 0.78846154 | G12: =LN(D12) -> -4.1688526 | H12: =LN(-LN(1-F12)) -> 0.44041289
B13: 7 | C13: ='Size and weight of LO fragments'!B9*'Size and weight of LO fragments'!C9 -> 550 | D13: =('Size and weight of LO fragments'!H9)/1000 -> 0.01494 | E13: 20 | F13: =(E13-0.5)/COUNT(D$7:D$32) -> 0.75 | G13: =LN(D13) -> -4.2037131 | H13: =LN(-LN(1-F13)) -> 0.32663426
B14: 8 | C14: ='Size and weight of LO fragments'!B10*'Size and weight of LO fragments'!C10 -> 500 | D14: =('Size and weight of LO fragments'!H10)/1000 -> 0.00895 | E14: 19 | F14: =(E14-0.5)/COUNT(D$7:D$32) -> 0.71153846 | G14: =LN(D14) -> -4.7161017 | H14: =LN(-LN(1-F14)) -> 0.21768349
B15: 9 | C15: ='Size and weight of LO fragments'!B11*'Size and weight of LO fragments'!C11 -> 210 | D15: =('Size and weight of LO fragments'!H11)/1000 -> 0.00298 | E15: 18 | F15: =(E15-0.5)/COUNT(D$7:D$32) -> 0.67307692 | G15: =LN(D15) -> -5.815832 | H15: =LN(-LN(1-F15)) -> 0.11156854
B16: 10 | C16: ='Size and weight of LO fragments'!B12*'Size and weight of LO fragments'!C12 -> 120 | D16: =('Size and weight of LO fragments'!H12)/1000 -> 0.00276 | E16: 17 | F16: =(E16-0.5)/COUNT(D$7:D$32) -> 0.63461538 | G16: =LN(D16) -> -5.8925246 | H16: =LN(-LN(1-F16)) -> 0.0067816917
B17: 11 | C17: ='Size and weight of LO fragments'!B13*'Size and weight of LO fragments'!C13 -> 120 | D17: =('Size and weight of LO fragments'!H13)/1000 -> 0.00276 | E17: 16 | F17: =(E17-0.5)/COUNT(D$7:D$32) -> 0.59615385 | G17: =LN(D17) -> -5.8925246 | H17: =LN(-LN(1-F17)) -> -0.097920174
B18: 12 | C18: ='Size and weight of LO fragments'!B14*'Size and weight of LO fragments'!C14 -> 120 | D18: =('Size and weight of LO fragments'!H14)/1000 -> 0.00276 | E18: 15 | F18: =(E18-0.5)/COUNT(D$7:D$32) -> 0.55769231 | G18: =LN(D18) -> -5.8925246 | H18: =LN(-LN(1-F18)) -> -0.20364795
B19: 13 | C19: ='Size and weight of LO fragments'!B15*'Size and weight of LO fragments'!C15 -> 44 | D19: =('Size and weight of LO fragments'!H15)/1000 -> 0.0005 | E19: 14 | F19: =(E19-0.5)/COUNT(D$7:D$32) -> 0.51923077 | G19: =LN(D19) -> -7.6009025 | H19: =LN(-LN(1-F19)) -> -0.3114723
... B32: 26 | C32: ='Size and weight of LO fragments'!B28*'Size and weight of LO fragments'!C28 -> 44 | D32: =('Size and weight of LO fragments'!H28)/1000 -> 0.0005 | E32: 1 | F32: =(E32-0.5)/COUNT(D$7:D$32) -> 0.019230769 | G32: =LN(D32) -> -7.6009025 | H32: =LN(-LN(1-F32)) -> -3.9415504
C34: Tank B
B36: Fragment | C36: Surface Area | D36: Mass of object | F36: Rank Proportion
C37: A | D37: m
C38: m2 | D38: kg
B39: 1 | C39: =('Size and weight of LO fragments'!M3/1000)*('Size and weight of LO fragments'!N3/1000) -> 0.006674 | D39: =('Size and weight of LO fragments'!S3)/1000 -> 0.27007 | E39: 36 | F39: =(E39-0.5)/COUNT(D$39:D$74) -> 0.98611111 | G39: =LN(D39) -> -1.3090741 | H39: =LN(-LN(1-F39)) -> 1.4531738
B40: 2 | C40: =('Size and weight of LO fragments'!M4/1000)*('Size and weight of LO fragments'!N4/1000) -> 0.003 | D40: =('Size and weight of LO fragments'!S4)/1000 -> 0.08546 | E40: 35 | F40: =(E40-0.5)/COUNT(D$39:D$74) -> 0.95833333 | G40: =LN(D40) -> -2.4597068 | H40: =LN(-LN(1-F40)) -> 1.156269
B41: 3 | C41: =('Size and weight of LO fragments'!M5/1000)*('Size and weight of LO fragments'!N5/1000) -> 0.001704 | D41: =('Size and weight of LO fragments'!S5)/1000 -> 0.03454 | E41: 34 | F41: =(E41-0.5)/COUNT(D$39:D$74) -> 0.93055556 | G41: =LN(D41) -> -3.3656372 | H41: =LN(-LN(1-F41)) -> 0.98103981
B42: 4 | C42: =('Size and weight of LO fragments'!M6/1000)*('Size and weight of LO fragments'!N6/1000) -> 0.00091 | D42: =('Size and weight of LO fragments'!S6)/1000 -> 0.02535 | E42: 33 | F42: =(E42-0.5)/COUNT(D$39:D$74) -> 0.90277778 | G42: =LN(D42) -> -3.6749765 | H42: =LN(-LN(1-F42)) -> 0.84619267
B43: 5 | C43: =('Size and weight of LO fragments'!M7/1000)*('Size and weight of LO fragments'!N7/1000) -> 0.000473 | D43: =('Size and weight of LO fragments'!S7)/1000 -> 0.02001 | E43: 32 | F43: =(E43-0.5)/COUNT(D$39:D$74) -> 0.875 | G43: =LN(D43) -> -3.9115231 | H43: =LN(-LN(1-F43)) -> 0.73209937
B44: 6 | C44: =('Size and weight of LO fragments'!M8/1000)*('Size and weight of LO fragments'!N8/1000) -> 0.000418 | D44: =('Size and weight of LO fragments'!S8)/1000 -> 0.01395 | E44: 31 | F44: =(E44-0.5)/COUNT(D$39:D$74) -> 0.84722222 | G44: =LN(D44) -> -4.2722758 | H44: =LN(-LN(1-F44)) -> 0.63061776
B45: 7 | C45: =('Size and weight of LO fragments'!M9/1000)*('Size and weight of LO fragments'!N9/1000) -> 0.000375 | D45: =('Size and weight of LO fragments'!S9)/1000 -> 0.00972 | E45: 30 | F45: =(E45-0.5)/COUNT(D$39:D$74) -> 0.81944444 | G45: =LN(D45) -> -4.6335697 | H45: =LN(-LN(1-F45)) -> 0.53749682
B46: 8 | C46: =('Size and weight of LO fragments'!M10/1000)*('Size and weight of LO fragments'!N10/1000) -> 0.000288 | D46: =('Size and weight of LO fragments'!S10)/1000 -> 0.00922 | E46: 29 | F46: =(E46-0.5)/COUNT(D$39:D$74) -> 0.79166667 | G46: =LN(D46) -> -4.6863802 | H46: =LN(-LN(1-F46)) -> 0.45019365
B47: 9 | C47: =('Size and weight of LO fragments'!M11/1000)*('Size and weight of LO fragments'!N11/1000) -> 0.000308 | D47: =('Size and weight of LO fragments'!S11)/1000 -> 0.0081 | E47: 28 | F47: =(E47-0.5)/COUNT(D$39:D$74) -> 0.76388889 | G47: =LN(D47) -> -4.8158912 | H47: =LN(-LN(1-F47)) -> 0.367038
B48: 10 | C48: =('Size and weight of LO fragments'!M12/1000)*('Size and weight of LO fragments'!N12/1000) -> 0.00036 | D48: =('Size and weight of LO fragments'!S12)/1000 -> 0.0066 | E48: 27 | F48: =(E48-0.5)/COUNT(D$39:D$74) -> 0.73611111 | G48: =LN(D48) -> -5.0206856 | H48: =LN(-LN(1-F48)) -> 0.28685208
B49: 11 | C49: =('Size and weight of LO fragments'!M13/1000)*('Size and weight of LO fragments'!N13/1000) -> 0.00036 | D49: =('Size and weight of LO fragments'!S13)/1000 -> 0.0066 | E49: 26 | F49: =(E49-0.5)/COUNT(D$39:D$74) -> 0.70833333 | G49: =LN(D49) -> -5.0206856 | H49: =LN(-LN(1-F49)) -> 0.20875548
B50: 12 | C50: =('Size and weight of LO fragments'!M14/1000)*('Size and weight of LO fragments'!N14/1000) -> 0.00036 | D50: =('Size and weight of LO fragments'!S14)/1000 -> 0.0066 | E50: 25 | F50: =(E50-0.5)/COUNT(D$39:D$74) -> 0.68055556 | G50: =LN(D50) -> -5.0206856 | H50: =LN(-LN(1-F50)) -> 0.13205572
... B74: 36 | C74: =('Size and weight of LO fragments'!M38/1000)*('Size and weight of LO fragments'!N38/1000) -> 6.5e-05 | D74: =('Size and weight of LO fragments'!S38)/1000 -> 0.00096 | E74: 1 | F74: =(E74-0.5)/COUNT(D$39:D$74) -> 0.013888889 | G74: =LN(D74) -> -6.9485773 | H74: =LN(-LN(1-F74)) -> -4.2696811
C76: Tank D
B78: Fragment | C78: Surface Area | D78: Mass of object
C79: A | D79: m
C80: m2 | D80: kg
B81: 1 | C81: =('Size and weight of LO fragments'!X3/1000)*('Size and weight of LO fragments'!Y3/1000) -> 0.0051 | D81: =('Size and weight of LO fragments'!AD3)/1000 -> 0.3926 | E81: 11 | F81: =(E81-0.5)/COUNT(D$81:D$91) -> 0.95454545 | G81: =LN(D81) -> -0.934964 | H81: =LN(-LN(1-F81)) -> 1.1285084
B82: 2 | C82: =('Size and weight of LO fragments'!X4/1000)*('Size and weight of LO fragments'!Y4/1000) -> 0.001075 | D82: =('Size and weight of LO fragments'!AD4)/1000 -> 0.04911 | E82: 10 | F82: =(E82-0.5)/COUNT(D$81:D$91) -> 0.86363636 | G82: =LN(D82) -> -3.0136926 | H82: =LN(-LN(1-F82)) -> 0.68935508
B83: 3 | C83: =('Size and weight of LO fragments'!X5/1000)*('Size and weight of LO fragments'!Y5/1000) -> 0.000936 | D83: =('Size and weight of LO fragments'!AD5)/1000 -> 0.03213 | E83: 9 | F83: =(E83-0.5)/COUNT(D$81:D$91) -> 0.77272727 | G83: =LN(D83) -> -3.4379651 | H83: =LN(-LN(1-F83)) -> 0.39312565
B84: 4 | C84: =('Size and weight of LO fragments'!X6/1000)*('Size and weight of LO fragments'!Y6/1000) -> 0.000875 | D84: =('Size and weight of LO fragments'!AD6)/1000 -> 0.03119 | E84: 8 | F84: =(E84-0.5)/COUNT(D$81:D$91) -> 0.68181818 | G84: =LN(D84) -> -3.4676577 | H84: =LN(-LN(1-F84)) -> 0.13552018
B85: 5 | C85: =('Size and weight of LO fragments'!X7/1000)*('Size and weight of LO fragments'!Y7/1000) -> 0.000875 | D85: =('Size and weight of LO fragments'!AD7)/1000 -> 0.03088 | E85: 7 | F85: =(E85-0.5)/COUNT(D$81:D$91) -> 0.59090909 | G85: =LN(D85) -> -3.4776466 | H85: =LN(-LN(1-F85)) -> -0.11225324
B86: 6 | C86: =('Size and weight of LO fragments'!X8/1000)*('Size and weight of LO fragments'!Y8/1000) -> 0.0005 | D86: =('Size and weight of LO fragments'!AD8)/1000 -> 0.0152 | E86: 6 | F86: =(E86-0.5)/COUNT(D$81:D$91) -> 0.5 | G86: =LN(D86) -> -4.1864599 | H86: =LN(-LN(1-F86)) -> -0.36651292
B87: 7 | C87: =('Size and weight of LO fragments'!X9/1000)*('Size and weight of LO fragments'!Y9/1000) -> 0.0003 | D87: =('Size and weight of LO fragments'!AD9)/1000 -> 0.00489 | E87: 5 | F87: =(E87-0.5)/COUNT(D$81:D$91) -> 0.40909091 | G87: =LN(D87) -> -5.320563 | H87: =LN(-LN(1-F87)) -> -0.64227709
B88: 8 | C88: =('Size and weight of LO fragments'!X10/1000)*('Size and weight of LO fragments'!Y10/1000) -> 0.000198 | D88: =('Size and weight of LO fragments'!AD10)/1000 -> 0.00349 | E88: 4 | F88: =(E88-0.5)/COUNT(D$81:D$91) -> 0.31818182 | G88: =LN(D88) -> -5.6578535 | H88: =LN(-LN(1-F88)) -> -0.95974052
B89: 9 | C89: =('Size and weight of LO fragments'!X11/1000)*('Size and weight of LO fragments'!Y11/1000) -> 0.00015 | D89: =('Size and weight of LO fragments'!AD11)/1000 -> 0.00267 | E89: 3 | F89: =(E89-0.5)/COUNT(D$81:D$91) -> 0.22727273 | G89: =LN(D89) -> -5.9256768 | H89: =LN(-LN(1-F89)) -> -1.3554583
B90: 10 | C90: =('Size and weight of LO fragments'!X12/1000)*('Size and weight of LO fragments'!Y12/1000) -> 8.4e-05 | D90: =('Size and weight of LO fragments'!AD12)/1000 -> 0.00174 | E90: 2 | F90: =(E90-0.5)/COUNT(D$81:D$91) -> 0.13636364 | G90: =LN(D90) -> -6.3538702 | H90: =LN(-LN(1-F90)) -> -1.9200238
B91: 11 | C91: =('Size and weight of LO fragments'!X13/1000)*('Size and weight of LO fragments'!Y13/1000) -> 7e-05 | D91: =('Size and weight of LO fragments'!AD13)/1000 -> 0.00138 | E91: 1 | F91: =(E91-0.5)/COUNT(D$81:D$91) -> 0.045454545 | G91: =LN(D91) -> -6.5856718 | H91: =LN(-LN(1-F91)) -> -3.0678726
A97: HO | C97: Tank C
B99: Fragment | C99: Surface Area | D99: Mass of object
C100: A | D100: m
C101: m2 | D101: kg
B102: 1 | C102: =('Size and weight of HO fragments'!B3/1000)*('Size and weight of HO fragments'!C3/1000) -> 0.002538 | D102: =('Size and weight of HO fragments'!H3)/1000 -> 0.03556 | E102: 63 | F102: =(E102-0.5)/COUNT(D$102:D$164) -> 0.99206349 | G102: =LN(D102) -> -3.3365339 | H102: =LN(-LN(1-F102)) -> 1.5761462
B103: 2 | C103: =('Size and weight of HO fragments'!B4/1000)*('Size and weight of HO fragments'!C4/1000) -> 0.00224 | D103: =('Size and weight of HO fragments'!H4)/1000 -> 0.02945 | E103: 62 | F103: =(E103-0.5)/COUNT(D$102:D$164) -> 0.97619048 | G103: =LN(D103) -> -3.5250614 | H103: =LN(-LN(1-F103)) -> 1.3184623
B104: 3 | C104: =('Size and weight of HO fragments'!B5/1000)*('Size and weight of HO fragments'!C5/1000) -> 0.001656 | D104: =('Size and weight of HO fragments'!H5)/1000 -> 0.02779 | E104: 61 | F104: =(E104-0.5)/COUNT(D$102:D$164) -> 0.96031746 | G104: =LN(D104) -> -3.583079 | H104: =LN(-LN(1-F104)) -> 1.1715046
B105: 4 | C105: =('Size and weight of HO fragments'!B6/1000)*('Size and weight of HO fragments'!C6/1000) -> 0.001625 | D105: =('Size and weight of HO fragments'!H6)/1000 -> 0.02185 | E105: 60 | F105: =(E105-0.5)/COUNT(D$102:D$164) -> 0.94444444 | G105: =LN(D105) -> -3.8235544 | H105: =LN(-LN(1-F105)) -> 1.0613851
B106: 5 | C106: =('Size and weight of HO fragments'!B7/1000)*('Size and weight of HO fragments'!C7/1000) -> 0.00137 | D106: =('Size and weight of HO fragments'!H7)/1000 -> 0.02183 | E106: 59 | F106: =(E106-0.5)/COUNT(D$102:D$164) -> 0.92857143 | G106: =LN(D106) -> -3.8244701 | H106: =LN(-LN(1-F106)) -> 0.97042178
B107: 6 | C107: =('Size and weight of HO fragments'!B8/1000)*('Size and weight of HO fragments'!C8/1000) -> 0.001586 | D107: =('Size and weight of HO fragments'!H8)/1000 -> 0.01609 | E107: 58 | F107: =(E107-0.5)/COUNT(D$102:D$164) -> 0.91269841 | G107: =LN(D107) -> -4.1295573 | H107: =LN(-LN(1-F107)) -> 0.89133661
B108: 7 | C108: =('Size and weight of HO fragments'!B9/1000)*('Size and weight of HO fragments'!C9/1000) -> 0.0003433257 | D108: =('Size and weight of HO fragments'!H9)/1000 -> 0.00351 | E108: 57 | F108: =(E108-0.5)/COUNT(D$102:D$164) -> 0.8968254 | G108: =LN(D108) -> -5.6521392 | H108: =LN(-LN(1-F108)) -> 0.82036669
B109: 8 | C109: =('Size and weight of HO fragments'!B10/1000)*('Size and weight of HO fragments'!C10/1000) -> 0.0002460139 | D109: =('Size and weight of HO fragments'!H10)/1000 -> 0.0033 | E109: 56 | F109: =(E109-0.5)/COUNT(D$102:D$164) -> 0.88095238 | G109: =LN(D109) -> -5.7138328 | H109: =LN(-LN(1-F109)) -> 0.75529145
B110: 9 | C110: =('Size and weight of HO fragments'!B11/1000)*('Size and weight of HO fragments'!C11/1000) -> 0.0002059266 | D110: =('Size and weight of HO fragments'!H11)/1000 -> 0.00349 | E110: 55 | F110: =(E110-0.5)/COUNT(D$102:D$164) -> 0.86507937 | G110: =LN(D110) -> -5.6578535 | H110: =LN(-LN(1-F110)) -> 0.69468029
B111: 10 | C111: =('Size and weight of HO fragments'!B12/1000)*('Size and weight of HO fragments'!C12/1000) -> 0.000199794 | D111: =('Size and weight of HO fragments'!H12)/1000 -> 0.00148 | E111: 54 | F111: =(E111-0.5)/COUNT(D$102:D$164) -> 0.84920635 | G111: =LN(D111) -> -6.5157132 | H111: =LN(-LN(1-F111)) -> 0.63755145
B112: 11 | C112: =('Size and weight of HO fragments'!B13/1000)*('Size and weight of HO fragments'!C13/1000) -> 0.0001530714 | D112: =('Size and weight of HO fragments'!H13)/1000 -> 0.00163 | E112: 53 | F112: =(E112-0.5)/COUNT(D$102:D$164) -> 0.83333333 | G112: =LN(D112) -> -6.4191753 | H112: =LN(-LN(1-F112)) -> 0.58319808
B113: 12 | C113: =('Size and weight of HO fragments'!B14/1000)*('Size and weight of HO fragments'!C14/1000) -> 0.000152295 | D113: =('Size and weight of HO fragments'!H14)/1000 -> 0.0016 | E113: 52 | F113: =(E113-0.5)/COUNT(D$102:D$164) -> 0.81746032 | G113: =LN(D113) -> -6.4377516 | H113: =LN(-LN(1-F113)) -> 0.53109149
... B164: 63 | C164: =('Size and weight of HO fragments'!B65/1000)*('Size and weight of HO fragments'!C65/1000) -> 1.392e-05 | D164: =('Size and weight of HO fragments'!H65)/1000 -> 5e-05 | E164: 1 | F164: =(E164-0.5)/COUNT(D$102:D$164) -> 0.0079365079 | G164: =LN(D164) -> -9.9034876 | H164: =LN(-LN(1-F164)) -> -4.8323005
C166: Tank E
B168: Fragment | C168: Surface Area | D168: Mass of object
C169: A | D169: m
C170: m2 | D170: kg
B171: 1 | C171: =('Size and weight of HO fragments'!N3/1000)*('Size and weight of HO fragments'!O3/1000) -> 0.0028 | D171: =('Size and weight of HO fragments'!T3)/1000 -> 0.03683 | E171: 47 | F171: =(E171-0.5)/COUNT(D$171:D$217) -> 0.9893617 | G171: =LN(D171) -> -3.3014425 | H171: =LN(-LN(1-F171)) -> 1.5136525
B172: 2 | C172: =('Size and weight of HO fragments'!N4/1000)*('Size and weight of HO fragments'!O4/1000) -> 0.0021 | D172: =('Size and weight of HO fragments'!T4)/1000 -> 0.02822 | E172: 46 | F172: =(E172-0.5)/COUNT(D$171:D$217) -> 0.96808511 | G172: =LN(D172) -> -3.5677243 | H172: =LN(-LN(1-F172)) -> 1.2368317
B173: 3 | C173: =('Size and weight of HO fragments'!N5/1000)*('Size and weight of HO fragments'!O5/1000) -> 0.001508 | D173: =('Size and weight of HO fragments'!T5)/1000 -> 0.02129 | E173: 45 | F173: =(E173-0.5)/COUNT(D$171:D$217) -> 0.94680851 | G173: =LN(D173) -> -3.8495178 | H173: =LN(-LN(1-F173)) -> 1.0763179
B174: 4 | C174: =('Size and weight of HO fragments'!N6/1000)*('Size and weight of HO fragments'!O6/1000) -> 0.00108 | D174: =('Size and weight of HO fragments'!T6)/1000 -> 0.01869 | E174: 44 | F174: =(E174-0.5)/COUNT(D$171:D$217) -> 0.92553191 | G174: =LN(D174) -> -3.9797667 | H174: =LN(-LN(1-F174)) -> 0.95450503
B175: 5 | C175: =('Size and weight of HO fragments'!N7/1000)*('Size and weight of HO fragments'!O7/1000) -> 0.00092 | D175: =('Size and weight of HO fragments'!T7)/1000 -> 0.00869 | E175: 43 | F175: =(E175-0.5)/COUNT(D$171:D$217) -> 0.90425532 | G175: =LN(D175) -> -4.7455823 | H175: =LN(-LN(1-F175)) -> 0.85274168
B176: 6 | C176: =('Size and weight of HO fragments'!N8/1000)*('Size and weight of HO fragments'!O8/1000) -> 0.00062577 | D176: =('Size and weight of HO fragments'!T8)/1000 -> 0.00781 | E176: 42 | F176: =(E176-0.5)/COUNT(D$171:D$217) -> 0.88297872 | G176: =LN(D176) -> -4.8523503 | H176: =LN(-LN(1-F176)) -> 0.76332579
B177: 7 | C177: =('Size and weight of HO fragments'!N9/1000)*('Size and weight of HO fragments'!O9/1000) -> 0.0002840052 | D177: =('Size and weight of HO fragments'!T9)/1000 -> 0.00246 | E177: 41 | F177: =(E177-0.5)/COUNT(D$171:D$217) -> 0.86170213 | G177: =LN(D177) -> -6.0075939 | H177: =LN(-LN(1-F177)) -> 0.68226085
B178: 8 | C178: =('Size and weight of HO fragments'!N10/1000)*('Size and weight of HO fragments'!O10/1000) -> 0.0006353977 | D178: =('Size and weight of HO fragments'!T10)/1000 -> 0.0054 | E178: 40 | F178: =(E178-0.5)/COUNT(D$171:D$217) -> 0.84042553 | G178: =LN(D178) -> -5.2213563 | H178: =LN(-LN(1-F178)) -> 0.60717776
B179: 9 | C179: =('Size and weight of HO fragments'!N11/1000)*('Size and weight of HO fragments'!O11/1000) -> 0.0002042766 | D179: =('Size and weight of HO fragments'!T11)/1000 -> 0.00323 | E179: 39 | F179: =(E179-0.5)/COUNT(D$171:D$217) -> 0.81914894 | G179: =LN(D179) -> -5.7352731 | H179: =LN(-LN(1-F179)) -> 0.53654099
B180: 10 | C180: =('Size and weight of HO fragments'!N12/1000)*('Size and weight of HO fragments'!O12/1000) -> 0.0002083872 | D180: =('Size and weight of HO fragments'!T12)/1000 -> 0.00199 | E180: 38 | F180: =(E180-0.5)/COUNT(D$171:D$217) -> 0.79787234 | G180: =LN(D180) -> -6.2196206 | H180: =LN(-LN(1-F180)) -> 0.46928825
B181: 11 | C181: =('Size and weight of HO fragments'!N13/1000)*('Size and weight of HO fragments'!O13/1000) -> 0.0001852556 | D181: =('Size and weight of HO fragments'!T13)/1000 -> 0.00131 | E181: 37 | F181: =(E181-0.5)/COUNT(D$171:D$217) -> 0.77659574 | G181: =LN(D181) -> -6.6377281 | H181: =LN(-LN(1-F181)) -> 0.40464634
B182: 12 | C182: =('Size and weight of HO fragments'!N14/1000)*('Size and weight of HO fragments'!O14/1000) -> 9.40236e-05 | D182: =('Size and weight of HO fragments'!T14)/1000 -> 0.00124 | E182: 36 | F182: =(E182-0.5)/COUNT(D$171:D$217) -> 0.75531915 | G182: =LN(D182) -> -6.6926439 | H182: =LN(-LN(1-F182)) -> 0.3420286
... B217: 47 | C217: =('Size and weight of HO fragments'!N49/1000)*('Size and weight of HO fragments'!O49/1000) -> 1.63674e-05 | D217: =('Size and weight of HO fragments'!T49)/1000 -> 5e-05 | E217: 1 | F217: =(E217-0.5)/COUNT(D$171:D$217) -> 0.010638298 | G217: =LN(D217) -> -9.9034876 | H217: =LN(-LN(1-F217)) -> -4.5379519
C219: Tank F
B221: Fragment | C221: Surface Area | D221: Mass of object
C222: A | D222: m
C223: m2 | D223: kg
B224: 1 | C224: =('Size and weight of HO fragments'!Z3/1000)*('Size and weight of HO fragments'!AA3/1000) -> 0.00308 | D224: =('Size and weight of HO fragments'!AF3)/1000 -> 0.03497 | E224: 59 | F224: =(E224-0.5)/COUNT(D$224:D$282) -> 0.99152542 | G224: =LN(D224) -> -3.3532647 | H224: =LN(-LN(1-F224)) -> 1.5624898
B225: 2 | C225: =('Size and weight of HO fragments'!Z4/1000)*('Size and weight of HO fragments'!AA4/1000) -> 0.00207 | D225: =('Size and weight of HO fragments'!AF4)/1000 -> 0.03409 | E225: 58 | F225: =(E225-0.5)/COUNT(D$224:D$282) -> 0.97457627 | G225: =LN(D225) -> -3.3787512 | H225: =LN(-LN(1-F225)) -> 1.3007562
B226: 3 | C226: =('Size and weight of HO fragments'!Z5/1000)*('Size and weight of HO fragments'!AA5/1000) -> 0.001932 | D226: =('Size and weight of HO fragments'!AF5)/1000 -> 0.02609 | E226: 57 | F226: =(E226-0.5)/COUNT(D$224:D$282) -> 0.95762712 | G226: =LN(D226) -> -3.6462032 | H226: =LN(-LN(1-F226)) -> 1.1509665
B227: 4 | C227: =('Size and weight of HO fragments'!Z6/1000)*('Size and weight of HO fragments'!AA6/1000) -> 0.00142 | D227: =('Size and weight of HO fragments'!AF6)/1000 -> 0.02396 | E227: 56 | F227: =(E227-0.5)/COUNT(D$224:D$282) -> 0.94067797 | G227: =LN(D227) -> -3.7313695 | H227: =LN(-LN(1-F227)) -> 1.0384285
B228: 5 | C228: =('Size and weight of HO fragments'!Z7/1000)*('Size and weight of HO fragments'!AA7/1000) -> 0.000729 | D228: =('Size and weight of HO fragments'!AF7)/1000 -> 0.01244 | E228: 55 | F228: =(E228-0.5)/COUNT(D$224:D$282) -> 0.92372881 | G228: =LN(D228) -> -4.3868382 | H228: =LN(-LN(1-F228)) -> 0.94525132
B229: 6 | C229: =('Size and weight of HO fragments'!Z8/1000)*('Size and weight of HO fragments'!AA8/1000) -> 0.0007488345 | D229: =('Size and weight of HO fragments'!AF8)/1000 -> 0.00968 | E229: 54 | F229: =(E229-0.5)/COUNT(D$224:D$282) -> 0.90677966 | G229: =LN(D229) -> -4.6376934 | H229: =LN(-LN(1-F229)) -> 0.8640662
B230: 7 | C230: =('Size and weight of HO fragments'!Z9/1000)*('Size and weight of HO fragments'!AA9/1000) -> 0.0009692225 | D230: =('Size and weight of HO fragments'!AF9)/1000 -> 0.00913 | E230: 53 | F230: =(E230-0.5)/COUNT(D$224:D$282) -> 0.88983051 | G230: =LN(D230) -> -4.6961896 | H230: =LN(-LN(1-F230)) -> 0.79106091
B231: 8 | C231: =('Size and weight of HO fragments'!Z10/1000)*('Size and weight of HO fragments'!AA10/1000) -> 0.000463 | D231: =('Size and weight of HO fragments'!AF10)/1000 -> 0.0057 | E231: 52 | F231: =(E231-0.5)/COUNT(D$224:D$282) -> 0.87288136 | G231: =LN(D231) -> -5.1672891 | H231: =LN(-LN(1-F231)) -> 0.72398401
B232: 9 | C232: =('Size and weight of HO fragments'!Z11/1000)*('Size and weight of HO fragments'!AA11/1000) -> 0.000283974 | D232: =('Size and weight of HO fragments'!AF11)/1000 -> 0.00534 | E232: 51 | F232: =(E232-0.5)/COUNT(D$224:D$282) -> 0.8559322 | G232: =LN(D232) -> -5.2325296 | H232: =LN(-LN(1-F232)) -> 0.66138366
B233: 10 | C233: =('Size and weight of HO fragments'!Z12/1000)*('Size and weight of HO fragments'!AA12/1000) -> 0.0002556087 | D233: =('Size and weight of HO fragments'!AF12)/1000 -> 0.00237 | E233: 50 | F233: =(E233-0.5)/COUNT(D$224:D$282) -> 0.83898305 | G233: =LN(D233) -> -6.0448653 | H233: =LN(-LN(1-F233)) -> 0.6022623
B234: 11 | C234: =('Size and weight of HO fragments'!Z13/1000)*('Size and weight of HO fragments'!AA13/1000) -> 0.0002883846 | D234: =('Size and weight of HO fragments'!AF13)/1000 -> 0.00424 | E234: 49 | F234: =(E234-0.5)/COUNT(D$224:D$282) -> 0.8220339 | G234: =LN(D234) -> -5.463192 | H234: =LN(-LN(1-F234)) -> 0.54590056
B235: 12 | C235: =('Size and weight of HO fragments'!Z14/1000)*('Size and weight of HO fragments'!AA14/1000) -> 0.000290207 | D235: =('Size and weight of HO fragments'!AF14)/1000 -> 0.00277 | E235: 48 | F235: =(E235-0.5)/COUNT(D$224:D$282) -> 0.80508475 | G235: =LN(D235) -> -5.888908 | H235: =LN(-LN(1-F235)) -> 0.49175926
...
